{"text_format":"1","workbook":"xlsx","n_sheets":9,"sheets":["Startseite","Hilfe","Lineare Abschreibung","DegressiveAbschreibung","Beispiel","Tabvorlage","VERLAUF","Tabelle1","ICONS"],"not_rendered":{"charts":0,"images":19,"macros":1,"external_links":0,"defined_names":64,"comments":1,"pivot_tables":0},"unopened":[],"bounds":{"document_bytes":16777216,"sheet_cells":100000,"rows_first":2000,"rows_last":500,"rows_between":2000,"halvings":0,"cell_chars":16384,"cell_head_chars":4096},"cells_cut":0,"cells_raw":0,"read":"whole","date_system":"1900"}

{"sheet":"Startseite","index":0,"n_rows":29,"n_cols":8,"rows_kept":29,"cut":false,"hidden":false,"merged":[[9,2,9,9],[28,7,28,10],[0,1,3,10],[20,2,20,4],[21,2,21,4],[22,2,22,4],[11,2,11,4],[18,2,18,4],[19,2,19,4],[10,6,10,8],[11,6,11,8],[18,6,18,8],[19,6,19,8],[23,2,23,4],[20,6,20,8],[21,6,21,8],[22,6,22,8],[23,6,23,8],[12,2,12,4],[12,6,12,8],[24,2,24,4],[13,2,13,4],[13,6,13,8],[14,2,14,4],[14,6,14,8],[17,2,17,4],[17,6,17,8],[15,2,15,4],[15,6,15,8],[16,2,16,4],[16,6,16,8],[25,2,25,4],[26,2,26,4],[24,6,24,8],[25,6,25,8],[26,6,26,8]]}
[null,"Geringwertige Wirtschaftsgüter"]
[]
[]
[]
[]
[]
[null,null,{"$f":"B1","v":"Geringwertige Wirtschaftsgüter"}]
[null,null,"Susanne Kowalski, Hamminkeln"]
[]
[null,null,"Bei GWGs kann zwischen Pool- und Sofortabschreibung unterschieden werden. Bei der Poolabschreibung liegen die Grenzen seit 01.01.2018 zwischen 250 EUR und 1.000 EUR. Bei der Sofortabschreibung liegt die Höchstgrenze bei 800 EUR. Das Excel-Tool hilft Ihnen bei der Entscheidungsfindung, welche Abschreibungsvariante die günstigere ist.\n"]
[null,null,"» Hilfe",null,null,null,"» Degressive Abschreibung"]
[null,null,"» Lineare Abschreibung",null,null,null,"» Beispiel"]
[]
[]
[]
[]
[]
[]
[]
[]
[]
[]
[]
[]
[]
[]
[]
[]
[null,null,null,null,null,null,null,"Tabelle einfügen / Startseite konfigurieren"]

{"sheet":"Hilfe","index":1,"n_rows":98,"n_cols":14,"rows_kept":98,"cut":false,"hidden":false,"merged":[[0,2,2,11],[71,11,71,14],[12,3,12,13],[13,3,13,13],[14,3,14,13],[15,3,15,13],[16,3,16,13],[38,3,38,13],[30,3,30,13],[5,3,5,4],[6,3,6,4],[11,3,11,13],[26,3,26,13],[17,3,17,13],[18,3,18,13],[19,3,19,13],[20,3,20,13],[27,3,27,13],[51,3,51,13],[76,3,76,13],[80,3,80,13],[41,3,41,13],[43,4,43,13],[47,3,47,13],[34,3,34,13],[36,3,36,13],[52,3,52,13],[93,3,93,13],[97,3,97,13],[82,3,82,13],[85,3,85,13],[53,3,53,13],[68,3,68,13],[72,3,72,13],[89,3,89,13]]}
[null,null,"Anwenderhilfe für Excel"]
[]
[]
[]
[]
[null,null,null,"» Inhaltliche Hilfe",null,null,null,null,null,null,null,null,null,"» Startseite"]
[null,null,null,"» Technische Hilfe"]
[]
[]
[null,null,null,"Inhaltliche Hilfe"]
[]
[]
[]
[]
[]
[]
[]
[]
[]
[]
[]
[]
[]
[]
[null,null,null,"Technische Hilfe",null,null,null,null,null,null,null,null,null,"» Startseite"]
[]
[null,null,null,"Zum komfortablen Umgang mit diesem und anderen Excel-Tools erläutern wir hier einige Funktionen, die Sie beim Arbeiten mit Excel häufig benötigen, wie etwa die Anpassung der Startseite an Ihre persönlichen Bedürfnisse oder die Möglichkeiten der Haufe Toolbar. "]
[]
[]
[null,null,null,"Startseite konfigurieren"]
[null,null,null,"Über den Link Startseite konfigurieren gelangen Sie in ein Dialogfeld, in dem Sie alle nötigen Anpassungen der Startseite vornehmen können. \nHier können Sie weitere Tabellen einfügen, diese umbenennen oder löschen. Haben Sie eine Tabelle in der Liste markiert, können Sie mithilfe der Pfeiltasten die Reihenfolge der Tabellen ändern. Diese Änderung wirkt sich sowohl auf die Darstellung auf der Startseite aus, als auch auf die Position der Tabelle im Blattregister und im Listenfeld in der Toolbar."]
[]
[]
[]
[null,null,null,"Klicken Sie auf Speichern, werden die vorgenommenen Änderungen wirksam und Sie springen zurück zur Startseite."]
[]
[null,null,null,"Wenn Sie eine Tabelle im Listenfeld ausgewählt haben, gelangen Sie über den Button Gehe zu direkt zur gewünschten Tabelle."]
[]
[null,null,null,"Möchten Sie eine Tabelle umbenennen, markieren Sie diese und vergeben Sie im nebenstehenden Feld einen neuen Namen. \nMithilfe des Buttons Tabelle umbenennen werden die Änderungen gespeichert."]
[]
[null,null,null,"Logo auswählen"]
[null,null,null,"Über das Feld Logo auswählen können Sie Ihr eigenes Firmenlogo auf jeder Tabellenseite einbinden. Klicken Sie auf Durchsuchen, wählen Sie die gewünschte Datei aus und importieren Sie diese mithilfe des Buttons Hochladen.\nBitte beachten Sie dabei unbedingt die maximale Größe des neuen Logos. Die Datei sollte die Maße 35 px (Breite) und 84px (Höhe) nicht überschreiten. Bitte achten Sie auch darauf, dass die Datei 50 KB nicht überschreitet."]
[]
[null,null,null,"Hinweis:","Bitte ändern Sie die Namen der Blattregister nur über das Dialogfeld Tabelle einfügen/Startseite konfigurieren auf der Startseite. \nWenn Sie die Blattregister per Doppelklick umbenennen, funktionieren die Navigationslinks der Startseite bis zu einer Aktualisierung nicht mehr)."]
[]
[]
[null,null,null,"Haufe Toolbar"]
[null,null,null,"Die Haufe Toolbar ist das zentrale Navigationselement und erleichtert Ihnen die Navigation innerhalb des Tools. Hier werden ebenfalls die wichtigsten Funktionen für die Handhabung des Tools angeboten. Ab Excel 2010 finden Sie die Toolbar unter dem Reiter Add-Ins."]
[]
[]
[]
[null,null,null,"Mithilfe der Vor- und Zurück-Schaltflächen können Sie innerhalb der zuletzt aufgerufenen Seiten navigieren."]
[null,null,null,"Über das Listenfeld rufen Sie direkt die gewünschten Tabellen auf."]
[null,null,null,"Die wichtigsten Funktionen Speichern, Drucken, Kopieren und Einfügen werden ebenfalls zentral in der Toolbar angeboten"]
[]
[]
[null,null,null,"Optionen"]
[]
[null,null,null,null,null,null,null,"» Gitternetz ein/aus"]
[null,null,null,null,null,null,null,"» Zeilen- und Spaltenbeschriftung ein/aus"]
[null,null,null,null,null,null,null,"» Blattregister ein/aus"]
[null,null,null,null,null,null,null,"» Kopf- und Fußzeile anpassen"]
[null,null,null,null,null,null,null,"» Zoom einstellen"]
[]
[]
[]
[]
[null,null,null,"Gitternetz ein/aus"]
[null,null,null,"Mit Hilfe dieses Menübefehls können Sie die Anzeige des Gitternetzes ein- und ausschalten."]
[]
[]
[null,null,null,"Zeilen- und Spaltenbeschriftung ein/aus"]
[null,null,null,"Mit Hilfe dieses Menübefehls können Sie die Anzeige der Zeilen- und Spaltenköpfe ein- und ausschalten. "]
[]
[]
[null,null,null,"Blattregister ein/aus"]
[null,null,null,"Mit Hilfe dieses Menübefehls können Sie die Anzeige der Blattregister ein- und ausschalten."]
[]
[]
[null,null,null,"Kopf- und Fußzeile bearbeiten"]
[null,null,null,"Über diesen Menübefehl rufen Sie einen Dialog auf, in dem Sie Ihre Kopf- und Fußzeilen einstellen können. Auf dem Reiter Eingabe Daten können Sie Angaben zur Firma, zur Abteilung und zum Autor eintragen."]
[]
[null,null,null,"Auf dem Reiter Kopf- und Fußzeile anpassen können Sie auswählen, wo die gewünschten Angaben platziert werden sollen. \nWählen Sie dazu den Bereich (Kopf- oder Fußzeile) aus, sowie die Platzierung (Links, Mitte oder Rechts)."]
[]
[]
[null,null,null,"Damit Sie Ihre Einstellungen in der Vorschau überprüfen können, müssen Sie die Einstellungen übernehmen mithilfe des gleichnamigen Buttons. Die Schaltfläche Alle Kopf- und Fußzeilen entfernen löscht alle Eintragungen in der Kopf- und Fußzeile. \nBitte beachten Sie, dass diese beiden Vorgänge etwas Zeit in Anspruch nehmen können."]
[]
[]
[null,null,null,"Zoom einstellen"]
[null,null,null,"Mit Hilfe dieses Menübefehls können Sie den Zoom für die einzelnen Arbeitsblätter einstellen. Standardmäßig ist ein 85%-iger Zoom eingestellt, den Sie jedoch jederzeit ändern können."]
[]
[]
[null,null,null,"Hilfe"]
[null,null,null,"Über den Hilfe-Button der Haufe Toolbar gelangen Sie auf die Hilfe-Seite, die Ihnen inhaltliche Hilfestellung bietet, sowie Hinweise zur technischen Handhabung des Tools."]
[]
[]
[null,null,null,"Hinweis"]
[null,null,null,"Beim mehrmaligen Öffnen mit dem IE 7 oder IE 8 aus einer Online-Version heraus, erscheint die Meldung, dass dieses Tool bereits verwendet wird. Öffnen Sie es schreibgeschützt und speichern Sie es lokal auf Ihrem Rechner ab. Wenn Sie die Meldung unterbinden möchten, aktivieren Sie über Extras > Internetoptionen > Erweitert > Bei Einstellungen/Sicherheit die Option \"Leeren des Ordners für temporäre Internetdateien beim Schließen des Browsers\"."]

{"sheet":"Lineare Abschreibung","index":2,"n_rows":2059,"n_cols":21,"rows_kept":2059,"cut":false,"hidden":false,"merged":[[0,2,2,9],[22,8,22,9]]}
[null,null,{"$f":"Startseite!B1","v":"Geringwertige Wirtschaftsgüter"}]
[null,null,null,null,null,null,null,null,null,null,null,null,null,null,null,null,null,null,null,null,"Schreiben"]
[null,null,null,null,null,null,null,null,null,null,null,null,null,null,null,null,null,null,null,null,"E-Mail"]
[null,null,null,null,null,null,null,null,null,null,null,null,null,null,null,null,null,null,null,null,"Fax"]
[null,null,null,null,null,null,null,null,null,null,null,null,null,null,null,null,null,null,null,null,"Sonstiges"]
[null,null,null,"Abschreibungsalternativen*)",null,null,null,null,null,"» Startseite"]
[]
[]
[null,null,null,"Poolabschreibung",{"$f":"SUM(I$25:I$1470)","v":0}]
[]
[null,null,null,"Sofortabschreibung",{"$f":"SUM(J$25:J$1470)","v":0}]
[]
[null,null,null,"Differenz Pool / Sofortabschreibung",{"$f":"+E9-E11","v":0}]
[]
[null,null,null,"Einfluss auf Steuer / Pool",{"$f":"IF($E$21=\"\",\"Keine Angabe\",E9*$E$21)","v":"Keine Angabe"}]
[]
[null,null,null,"Einfluss auf Steuer / Sofortabschreibung linear",{"$f":"IF($E$21=\"\",\"Keine Angabe\",E11*$E$21)","v":"Keine Angabe"}]
[]
[null,null,null,"Differenz Steuer  Pool / Sofortabschreibung",{"$f":"+E15-E17","v":0}]
[]
[null,null,null,"Steuersatz"]
[]
[null,null,null,null,null,null,null,null,"Abschreibungsalternativen"]
[null,null,null,"Bezeichnung","Wert","Abschreibungs-\nzeitraum","Anschaffungs-\nmonat","ausblenden","Pool","Sofort"]
[null,null,null,null,null,null,null,{"$f":"12-G25+1","v":13},{"$f":"IF(E25<250.01,E25,E25/5)","v":0},{"$f":"IF($E25<800.01,$E25,$E25/$F25/12*$H25)","v":0},null,{"$f":"IF(AND(E25>800,G25=0),\"Anschaffungsmonat fehlt!\",\"\")","v":""}]
[null,null,null,null,null,null,null,{"$f":"12-G26+1","v":13},{"$f":"IF(E26<250.01,E26,E26/5)","v":0},{"$f":"IF($E26<800.01,$E26,$E26/$F26/12*$H26)","v":0},null,{"$f":"IF(AND(E26>800,G26=0),\"Anschaffungsmonat fehlt!\",\"\")","v":""}]
[null,null,null,null,null,null,null,13,0,0,null,""]
[null,null,null,null,null,null,null,13,0,0,null,""]
[null,null,null,null,null,null,null,13,0,0,null,""]
[null,null,null,null,null,null,null,13,0,0,null,""]
[null,null,null,null,null,null,null,13,0,0,null,""]
[null,null,null,null,null,null,null,13,0,0,null,""]
[null,null,null,null,null,null,null,13,0,0,null,""]
[null,null,null,null,null,null,null,13,0,0,null,""]
[null,null,null,null,null,null,null,13,0,0,null,""]
[null,null,null,null,null,null,null,13,0,0,null,""]
[null,null,null,null,null,null,null,13,0,0,null,""]
[null,null,null,null,null,null,null,13,0,0,null,""]
[null,null,null,null,null,null,null,13,0,0,null,""]
[null,null,null,null,null,null,null,13,0,0,null,""]
[null,null,null,null,null,null,null,13,0,0,null,""]
[null,null,null,null,null,null,null,13,0,0,null,""]
[null,null,null,null,null,null,null,13,0,0,null,""]
[null,null,null,null,null,null,null,13,0,0,null,""]
[null,null,null,null,null,null,null,13,0,0,null,""]
[null,null,null,null,null,null,null,13,0,0,null,""]
[null,null,null,null,null,null,null,13,0,0,null,""]
[null,null,null,null,null,null,null,13,0,0,null,""]
[null,null,null,null,null,null,null,13,0,0,null,""]
[null,null,null,null,null,null,null,13,0,0,null,""]
[null,null,null,null,null,null,null,13,0,0,null,""]
[null,null,null,null,null,null,null,13,0,0,null,""]
[null,null,null,null,null,null,null,13,0,0,null,""]
[null,null,null,null,null,null,null,13,0,0,null,""]
[null,null,null,null,null,null,null,13,0,0,null,""]
[null,null,null,null,null,null,null,13,0,0,null,""]
[null,null,null,null,null,null,null,13,0,0,null,""]
[null,null,null,null,null,null,null,13,0,0,null,""]
[null,null,null,null,null,null,null,13,0,0,null,""]
[null,null,null,null,null,null,null,13,0,0,null,""]
[null,null,null,null,null,null,null,13,0,0,null,""]
[null,null,null,null,null,null,null,13,0,0,null,""]
[null,null,null,null,null,null,null,13,0,0,null,""]
[null,null,null,null,null,null,null,13,0,0,null,""]
[null,null,null,null,null,null,null,13,0,0,null,""]
[null,null,null,null,null,null,null,13,0,0,null,""]
[null,null,null,null,null,null,null,13,0,0,null,""]
[null,null,null,null,null,null,null,13,0,0,null,""]
[null,null,null,null,null,null,null,13,0,0,null,""]
[null,null,null,null,null,null,null,13,0,0,null,""]
[null,null,null,null,null,null,null,13,0,0,null,""]
[null,null,null,null,null,null,null,13,0,0,null,""]
[null,null,null,null,null,null,null,13,0,0,null,""]
[null,null,null,null,null,null,null,13,0,0,null,""]
[null,null,null,null,null,null,null,13,0,0,null,""]
[null,null,null,null,null,null,null,13,0,0,null,""]
[null,null,null,null,null,null,null,13,0,0,null,""]
[null,null,null,null,null,null,null,13,0,0,null,""]
[null,null,null,null,null,null,null,13,0,0,null,""]
[null,null,null,null,null,null,null,13,0,0,null,""]
[null,null,null,null,null,null,null,13,0,0,null,""]
[null,null,null,null,null,null,null,13,0,0,null,""]
[null,null,null,null,null,null,null,13,0,0,null,""]
[null,null,null,null,null,null,null,13,0,0,null,""]
[null,null,null,null,null,null,null,13,0,0,null,""]
[null,null,null,null,null,null,null,13,0,0,null,""]
[null,null,null,null,null,null,null,13,0,0,null,""]
[null,null,null,null,null,null,null,13,0,0,null,""]
[null,null,null,null,null,null,null,13,0,0,null,""]
[null,null,null,null,null,null,null,{"$f":"12-G90+1","v":13},{"$f":"IF(E90<250.01,E90,E90/5)","v":0},{"$f":"IF($E90<800.01,$E90,$E90/$F90/12*$H90)","v":0},null,{"$f":"IF(AND(E90>800,G90=0),\"Anschaffungsmonat fehlt!\",\"\")","v":""}]
[null,null,null,null,null,null,null,13,0,0,null,""]
[null,null,null,null,null,null,null,13,0,0,null,""]
[null,null,null,null,null,null,null,13,0,0,null,""]
[null,null,null,null,null,null,null,13,0,0,null,""]
[null,null,null,null,null,null,null,13,0,0,null,""]
[null,null,null,null,null,null,null,13,0,0,null,""]
[null,null,null,null,null,null,null,13,0,0,null,""]
[null,null,null,null,null,null,null,13,0,0,null,""]
[null,null,null,null,null,null,null,13,0,0,null,""]
[null,null,null,null,null,null,null,13,0,0,null,""]
[null,null,null,null,null,null,null,13,0,0,null,""]
[null,null,null,null,null,null,null,13,0,0,null,""]
[null,null,null,null,null,null,null,13,0,0,null,""]
[null,null,null,null,null,null,null,13,0,0,null,""]
[null,null,null,null,null,null,null,13,0,0,null,""]
[null,null,null,null,null,null,null,13,0,0,null,""]
[null,null,null,null,null,null,null,13,0,0,null,""]
[null,null,null,null,null,null,null,13,0,0,null,""]
[null,null,null,null,null,null,null,13,0,0,null,""]
[null,null,null,null,null,null,null,13,0,0,null,""]
[null,null,null,null,null,null,null,13,0,0,null,""]
[null,null,null,null,null,null,null,13,0,0,null,""]
[null,null,null,null,null,null,null,13,0,0,null,""]
[null,null,null,null,null,null,null,13,0,0,null,""]
[null,null,null,null,null,null,null,13,0,0,null,""]
[null,null,null,null,null,null,null,13,0,0,null,""]
[null,null,null,null,null,null,null,13,0,0,null,""]
[null,null,null,null,null,null,null,13,0,0,null,""]
[null,null,null,null,null,null,null,13,0,0,null,""]
[null,null,null,null,null,null,null,13,0,0,null,""]
[null,null,null,null,null,null,null,13,0,0,null,""]
[null,null,null,null,null,null,null,13,0,0,null,""]
[null,null,null,null,null,null,null,13,0,0,null,""]
[null,null,null,null,null,null,null,13,0,0,null,""]
[null,null,null,null,null,null,null,13,0,0,null,""]
[null,null,null,null,null,null,null,13,0,0,null,""]
[null,null,null,null,null,null,null,13,0,0,null,""]
[null,null,null,null,null,null,null,13,0,0,null,""]
[null,null,null,null,null,null,null,13,0,0,null,""]
[null,null,null,null,null,null,null,13,0,0,null,""]
[null,null,null,null,null,null,null,13,0,0,null,""]
[null,null,null,null,null,null,null,13,0,0,null,""]
[null,null,null,null,null,null,null,13,0,0,null,""]
[null,null,null,null,null,null,null,13,0,0,null,""]
[null,null,null,null,null,null,null,13,0,0,null,""]
[null,null,null,null,null,null,null,13,0,0,null,""]
[null,null,null,null,null,null,null,13,0,0,null,""]
[null,null,null,null,null,null,null,13,0,0,null,""]
[null,null,null,null,null,null,null,13,0,0,null,""]
[null,null,null,null,null,null,null,13,0,0,null,""]
[null,null,null,null,null,null,null,13,0,0,null,""]
[null,null,null,null,null,null,null,13,0,0,null,""]
[null,null,null,null,null,null,null,13,0,0,null,""]
[null,null,null,null,null,null,null,13,0,0,null,""]
[null,null,null,null,null,null,null,13,0,0,null,""]
[null,null,null,null,null,null,null,13,0,0,null,""]
[null,null,null,null,null,null,null,13,0,0,null,""]
[null,null,null,null,null,null,null,13,0,0,null,""]
[null,null,null,null,null,null,null,13,0,0,null,""]
[null,null,null,null,null,null,null,13,0,0,null,""]
[null,null,null,null,null,null,null,13,0,0,null,""]
[null,null,null,null,null,null,null,13,0,0,null,""]
[null,null,null,null,null,null,null,13,0,0,null,""]
[null,null,null,null,null,null,null,{"$f":"12-G154+1","v":13},{"$f":"IF(E154<250.01,E154,E154/5)","v":0},{"$f":"IF($E154<800.01,$E154,$E154/$F154/12*$H154)","v":0},null,{"$f":"IF(AND(E154>800,G154=0),\"Anschaffungsmonat fehlt!\",\"\")","v":""}]
[null,null,null,null,null,null,null,13,0,0,null,""]
[null,null,null,null,null,null,null,13,0,0,null,""]
[null,null,null,null,null,null,null,13,0,0,null,""]
[null,null,null,null,null,null,null,13,0,0,null,""]
[null,null,null,null,null,null,null,13,0,0,null,""]
[null,null,null,null,null,null,null,13,0,0,null,""]
[null,null,null,null,null,null,null,13,0,0,null,""]
[null,null,null,null,null,null,null,13,0,0,null,""]
[null,null,null,null,null,null,null,13,0,0,null,""]
[null,null,null,null,null,null,null,13,0,0,null,""]
[null,null,null,null,null,null,null,13,0,0,null,""]
[null,null,null,null,null,null,null,13,0,0,null,""]
[null,null,null,null,null,null,null,13,0,0,null,""]
[null,null,null,null,null,null,null,13,0,0,null,""]
[null,null,null,null,null,null,null,13,0,0,null,""]
[null,null,null,null,null,null,null,13,0,0,null,""]
[null,null,null,null,null,null,null,13,0,0,null,""]
[null,null,null,null,null,null,null,13,0,0,null,""]
[null,null,null,null,null,null,null,13,0,0,null,""]
[null,null,null,null,null,null,null,13,0,0,null,""]
[null,null,null,null,null,null,null,13,0,0,null,""]
[null,null,null,null,null,null,null,13,0,0,null,""]
[null,null,null,null,null,null,null,13,0,0,null,""]
[null,null,null,null,null,null,null,13,0,0,null,""]
[null,null,null,null,null,null,null,13,0,0,null,""]
[null,null,null,null,null,null,null,13,0,0,null,""]
[null,null,null,null,null,null,null,13,0,0,null,""]
[null,null,null,null,null,null,null,13,0,0,null,""]
[null,null,null,null,null,null,null,13,0,0,null,""]
[null,null,null,null,null,null,null,13,0,0,null,""]
[null,null,null,null,null,null,null,13,0,0,null,""]
[null,null,null,null,null,null,null,13,0,0,null,""]
[null,null,null,null,null,null,null,13,0,0,null,""]
[null,null,null,null,null,null,null,13,0,0,null,""]
[null,null,null,null,null,null,null,13,0,0,null,""]
[null,null,null,null,null,null,null,13,0,0,null,""]
[null,null,null,null,null,null,null,13,0,0,null,""]
[null,null,null,null,null,null,null,13,0,0,null,""]
[null,null,null,null,null,null,null,13,0,0,null,""]
[null,null,null,null,null,null,null,13,0,0,null,""]
[null,null,null,null,null,null,null,13,0,0,null,""]
[null,null,null,null,null,null,null,13,0,0,null,""]
[null,null,null,null,null,null,null,13,0,0,null,""]
[null,null,null,null,null,null,null,13,0,0,null,""]
[null,null,null,null,null,null,null,13,0,0,null,""]
[null,null,null,null,null,null,null,13,0,0,null,""]
[null,null,null,null,null,null,null,13,0,0,null,""]
[null,null,null,null,null,null,null,13,0,0,null,""]
[null,null,null,null,null,null,null,13,0,0,null,""]
[null,null,null,null,null,null,null,13,0,0,null,""]
[null,null,null,null,null,null,null,13,0,0,null,""]
[null,null,null,null,null,null,null,13,0,0,null,""]
[null,null,null,null,null,null,null,13,0,0,null,""]
[null,null,null,null,null,null,null,13,0,0,null,""]
[null,null,null,null,null,null,null,13,0,0,null,""]
[null,null,null,null,null,null,null,13,0,0,null,""]
[null,null,null,null,null,null,null,13,0,0,null,""]
[null,null,null,null,null,null,null,13,0,0,null,""]
[null,null,null,null,null,null,null,13,0,0,null,""]
[null,null,null,null,null,null,null,13,0,0,null,""]
[null,null,null,null,null,null,null,13,0,0,null,""]
[null,null,null,null,null,null,null,13,0,0,null,""]
[null,null,null,null,null,null,null,13,0,0,null,""]
[null,null,null,null,null,null,null,{"$f":"12-G218+1","v":13},{"$f":"IF(E218<250.01,E218,E218/5)","v":0},{"$f":"IF($E218<800.01,$E218,$E218/$F218/12*$H218)","v":0},null,{"$f":"IF(AND(E218>800,G218=0),\"Anschaffungsmonat fehlt!\",\"\")","v":""}]
[null,null,null,null,null,null,null,13,0,0,null,""]
[null,null,null,null,null,null,null,13,0,0,null,""]
[null,null,null,null,null,null,null,13,0,0,null,""]
[null,null,null,null,null,null,null,13,0,0,null,""]
[null,null,null,null,null,null,null,13,0,0,null,""]
[null,null,null,null,null,null,null,13,0,0,null,""]
[null,null,null,null,null,null,null,13,0,0,null,""]
[null,null,null,null,null,null,null,13,0,0,null,""]
[null,null,null,null,null,null,null,13,0,0,null,""]
[null,null,null,null,null,null,null,13,0,0,null,""]
[null,null,null,null,null,null,null,13,0,0,null,""]
[null,null,null,null,null,null,null,13,0,0,null,""]
[null,null,null,null,null,null,null,13,0,0,null,""]
[null,null,null,null,null,null,null,13,0,0,null,""]
[null,null,null,null,null,null,null,13,0,0,null,""]
[null,null,null,null,null,null,null,13,0,0,null,""]
[null,null,null,null,null,null,null,13,0,0,null,""]
[null,null,null,null,null,null,null,13,0,0,null,""]
[null,null,null,null,null,null,null,13,0,0,null,""]
[null,null,null,null,null,null,null,13,0,0,null,""]
[null,null,null,null,null,null,null,13,0,0,null,""]
[null,null,null,null,null,null,null,13,0,0,null,""]
[null,null,null,null,null,null,null,13,0,0,null,""]
[null,null,null,null,null,null,null,13,0,0,null,""]
[null,null,null,null,null,null,null,13,0,0,null,""]
[null,null,null,null,null,null,null,13,0,0,null,""]
[null,null,null,null,null,null,null,13,0,0,null,""]
[null,null,null,null,null,null,null,13,0,0,null,""]
[null,null,null,null,null,null,null,13,0,0,null,""]
[null,null,null,null,null,null,null,13,0,0,null,""]
[null,null,null,null,null,null,null,13,0,0,null,""]
[null,null,null,null,null,null,null,13,0,0,null,""]
[null,null,null,null,null,null,null,13,0,0,null,""]
[null,null,null,null,null,null,null,13,0,0,null,""]
[null,null,null,null,null,null,null,13,0,0,null,""]
[null,null,null,null,null,null,null,13,0,0,null,""]
[null,null,null,null,null,null,null,13,0,0,null,""]
[null,null,null,null,null,null,null,13,0,0,null,""]
[null,null,null,null,null,null,null,13,0,0,null,""]
[null,null,null,null,null,null,null,13,0,0,null,""]
[null,null,null,null,null,null,null,13,0,0,null,""]
[null,null,null,null,null,null,null,13,0,0,null,""]
[null,null,null,null,null,null,null,13,0,0,null,""]
[null,null,null,null,null,null,null,13,0,0,null,""]
[null,null,null,null,null,null,null,13,0,0,null,""]
[null,null,null,null,null,null,null,13,0,0,null,""]
[null,null,null,null,null,null,null,13,0,0,null,""]
[null,null,null,null,null,null,null,13,0,0,null,""]
[null,null,null,null,null,null,null,13,0,0,null,""]
[null,null,null,null,null,null,null,13,0,0,null,""]
[null,null,null,null,null,null,null,13,0,0,null,""]
[null,null,null,null,null,null,null,13,0,0,null,""]
[null,null,null,null,null,null,null,13,0,0,null,""]
[null,null,null,null,null,null,null,13,0,0,null,""]
[null,null,null,null,null,null,null,13,0,0,null,""]
[null,null,null,null,null,null,null,13,0,0,null,""]
[null,null,null,null,null,null,null,13,0,0,null,""]
[null,null,null,null,null,null,null,13,0,0,null,""]
[null,null,null,null,null,null,null,13,0,0,null,""]
[null,null,null,null,null,null,null,13,0,0,null,""]
[null,null,null,null,null,null,null,13,0,0,null,""]
[null,null,null,null,null,null,null,13,0,0,null,""]
[null,null,null,null,null,null,null,13,0,0,null,""]
[null,null,null,null,null,null,null,{"$f":"12-G282+1","v":13},{"$f":"IF(E282<250.01,E282,E282/5)","v":0},{"$f":"IF($E282<800.01,$E282,$E282/$F282/12*$H282)","v":0},null,{"$f":"IF(AND(E282>800,G282=0),\"Anschaffungsmonat fehlt!\",\"\")","v":""}]
[null,null,null,null,null,null,null,13,0,0,null,""]
[null,null,null,null,null,null,null,13,0,0,null,""]
[null,null,null,null,null,null,null,13,0,0,null,""]
[null,null,null,null,null,null,null,13,0,0,null,""]
[null,null,null,null,null,null,null,13,0,0,null,""]
[null,null,null,null,null,null,null,13,0,0,null,""]
[null,null,null,null,null,null,null,13,0,0,null,""]
[null,null,null,null,null,null,null,13,0,0,null,""]
[null,null,null,null,null,null,null,13,0,0,null,""]
[null,null,null,null,null,null,null,13,0,0,null,""]
[null,null,null,null,null,null,null,13,0,0,null,""]
[null,null,null,null,null,null,null,13,0,0,null,""]
[null,null,null,null,null,null,null,13,0,0,null,""]
[null,null,null,null,null,null,null,13,0,0,null,""]
[null,null,null,null,null,null,null,13,0,0,null,""]
[null,null,null,null,null,null,null,13,0,0,null,""]
[null,null,null,null,null,null,null,13,0,0,null,""]
[null,null,null,null,null,null,null,13,0,0,null,""]
[null,null,null,null,null,null,null,13,0,0,null,""]
[null,null,null,null,null,null,null,13,0,0,null,""]
[null,null,null,null,null,null,null,13,0,0,null,""]
[null,null,null,null,null,null,null,13,0,0,null,""]
[null,null,null,null,null,null,null,13,0,0,null,""]
[null,null,null,null,null,null,null,13,0,0,null,""]
[null,null,null,null,null,null,null,13,0,0,null,""]
[null,null,null,null,null,null,null,13,0,0,null,""]
[null,null,null,null,null,null,null,13,0,0,null,""]
[null,null,null,null,null,null,null,13,0,0,null,""]
[null,null,null,null,null,null,null,13,0,0,null,""]
[null,null,null,null,null,null,null,13,0,0,null,""]
[null,null,null,null,null,null,null,13,0,0,null,""]
[null,null,null,null,null,null,null,13,0,0,null,""]
[null,null,null,null,null,null,null,13,0,0,null,""]
[null,null,null,null,null,null,null,13,0,0,null,""]
[null,null,null,null,null,null,null,13,0,0,null,""]
[null,null,null,null,null,null,null,13,0,0,null,""]
[null,null,null,null,null,null,null,13,0,0,null,""]
[null,null,null,null,null,null,null,13,0,0,null,""]
[null,null,null,null,null,null,null,13,0,0,null,""]
[null,null,null,null,null,null,null,13,0,0,null,""]
[null,null,null,null,null,null,null,13,0,0,null,""]
[null,null,null,null,null,null,null,13,0,0,null,""]
[null,null,null,null,null,null,null,13,0,0,null,""]
[null,null,null,null,null,null,null,13,0,0,null,""]
[null,null,null,null,null,null,null,13,0,0,null,""]
[null,null,null,null,null,null,null,13,0,0,null,""]
[null,null,null,null,null,null,null,13,0,0,null,""]
[null,null,null,null,null,null,null,13,0,0,null,""]
[null,null,null,null,null,null,null,13,0,0,null,""]
[null,null,null,null,null,null,null,13,0,0,null,""]
[null,null,null,null,null,null,null,13,0,0,null,""]
[null,null,null,null,null,null,null,13,0,0,null,""]
[null,null,null,null,null,null,null,13,0,0,null,""]
[null,null,null,null,null,null,null,13,0,0,null,""]
[null,null,null,null,null,null,null,13,0,0,null,""]
[null,null,null,null,null,null,null,13,0,0,null,""]
[null,null,null,null,null,null,null,13,0,0,null,""]
[null,null,null,null,null,null,null,13,0,0,null,""]
[null,null,null,null,null,null,null,13,0,0,null,""]
[null,null,null,null,null,null,null,13,0,0,null,""]
[null,null,null,null,null,null,null,13,0,0,null,""]
[null,null,null,null,null,null,null,13,0,0,null,""]
[null,null,null,null,null,null,null,13,0,0,null,""]
[null,null,null,null,null,null,null,{"$f":"12-G346+1","v":13},{"$f":"IF(E346<250.01,E346,E346/5)","v":0},{"$f":"IF($E346<800.01,$E346,$E346/$F346/12*$H346)","v":0},null,{"$f":"IF(AND(E346>800,G346=0),\"Anschaffungsmonat fehlt!\",\"\")","v":""}]
[null,null,null,null,null,null,null,13,0,0,null,""]
[null,null,null,null,null,null,null,13,0,0,null,""]
[null,null,null,null,null,null,null,13,0,0,null,""]
[null,null,null,null,null,null,null,13,0,0,null,""]
[null,null,null,null,null,null,null,13,0,0,null,""]
[null,null,null,null,null,null,null,13,0,0,null,""]
[null,null,null,null,null,null,null,13,0,0,null,""]
[null,null,null,null,null,null,null,13,0,0,null,""]
[null,null,null,null,null,null,null,13,0,0,null,""]
[null,null,null,null,null,null,null,13,0,0,null,""]
[null,null,null,null,null,null,null,13,0,0,null,""]
[null,null,null,null,null,null,null,13,0,0,null,""]
[null,null,null,null,null,null,null,13,0,0,null,""]
[null,null,null,null,null,null,null,13,0,0,null,""]
[null,null,null,null,null,null,null,13,0,0,null,""]
[null,null,null,null,null,null,null,13,0,0,null,""]
[null,null,null,null,null,null,null,13,0,0,null,""]
[null,null,null,null,null,null,null,13,0,0,null,""]
[null,null,null,null,null,null,null,13,0,0,null,""]
[null,null,null,null,null,null,null,13,0,0,null,""]
[null,null,null,null,null,null,null,13,0,0,null,""]
[null,null,null,null,null,null,null,13,0,0,null,""]
[null,null,null,null,null,null,null,13,0,0,null,""]
[null,null,null,null,null,null,null,13,0,0,null,""]
[null,null,null,null,null,null,null,13,0,0,null,""]
[null,null,null,null,null,null,null,13,0,0,null,""]
[null,null,null,null,null,null,null,13,0,0,null,""]
[null,null,null,null,null,null,null,13,0,0,null,""]
[null,null,null,null,null,null,null,13,0,0,null,""]
[null,null,null,null,null,null,null,13,0,0,null,""]
[null,null,null,null,null,null,null,13,0,0,null,""]
[null,null,null,null,null,null,null,13,0,0,null,""]
[null,null,null,null,null,null,null,13,0,0,null,""]
[null,null,null,null,null,null,null,13,0,0,null,""]
[null,null,null,null,null,null,null,13,0,0,null,""]
[null,null,null,null,null,null,null,13,0,0,null,""]
[null,null,null,null,null,null,null,13,0,0,null,""]
[null,null,null,null,null,null,null,13,0,0,null,""]
[null,null,null,null,null,null,null,13,0,0,null,""]
[null,null,null,null,null,null,null,13,0,0,null,""]
[null,null,null,null,null,null,null,13,0,0,null,""]
[null,null,null,null,null,null,null,13,0,0,null,""]
[null,null,null,null,null,null,null,13,0,0,null,""]
[null,null,null,null,null,null,null,13,0,0,null,""]
[null,null,null,null,null,null,null,13,0,0,null,""]
[null,null,null,null,null,null,null,13,0,0,null,""]
[null,null,null,null,null,null,null,13,0,0,null,""]
[null,null,null,null,null,null,null,13,0,0,null,""]
[null,null,null,null,null,null,null,13,0,0,null,""]
[null,null,null,null,null,null,null,13,0,0,null,""]
[null,null,null,null,null,null,null,13,0,0,null,""]
[null,null,null,null,null,null,null,13,0,0,null,""]
[null,null,null,null,null,null,null,13,0,0,null,""]
[null,null,null,null,null,null,null,13,0,0,null,""]
[null,null,null,null,null,null,null,13,0,0,null,""]
[null,null,null,null,null,null,null,13,0,0,null,""]
[null,null,null,null,null,null,null,13,0,0,null,""]
[null,null,null,null,null,null,null,13,0,0,null,""]
[null,null,null,null,null,null,null,13,0,0,null,""]
[null,null,null,null,null,null,null,13,0,0,null,""]
[null,null,null,null,null,null,null,13,0,0,null,""]
[null,null,null,null,null,null,null,13,0,0,null,""]
[null,null,null,null,null,null,null,13,0,0,null,""]
[null,null,null,null,null,null,null,{"$f":"12-G410+1","v":13},{"$f":"IF(E410<250.01,E410,E410/5)","v":0},{"$f":"IF($E410<800.01,$E410,$E410/$F410/12*$H410)","v":0},null,{"$f":"IF(AND(E410>800,G410=0),\"Anschaffungsmonat fehlt!\",\"\")","v":""}]
[null,null,null,null,null,null,null,13,0,0,null,""]
[null,null,null,null,null,null,null,13,0,0,null,""]
[null,null,null,null,null,null,null,13,0,0,null,""]
[null,null,null,null,null,null,null,13,0,0,null,""]
[null,null,null,null,null,null,null,13,0,0,null,""]
[null,null,null,null,null,null,null,13,0,0,null,""]
[null,null,null,null,null,null,null,13,0,0,null,""]
[null,null,null,null,null,null,null,13,0,0,null,""]
[null,null,null,null,null,null,null,13,0,0,null,""]
[null,null,null,null,null,null,null,13,0,0,null,""]
[null,null,null,null,null,null,null,13,0,0,null,""]
[null,null,null,null,null,null,null,13,0,0,null,""]
[null,null,null,null,null,null,null,13,0,0,null,""]
[null,null,null,null,null,null,null,13,0,0,null,""]
[null,null,null,null,null,null,null,13,0,0,null,""]
[null,null,null,null,null,null,null,13,0,0,null,""]
[null,null,null,null,null,null,null,13,0,0,null,""]
[null,null,null,null,null,null,null,13,0,0,null,""]
[null,null,null,null,null,null,null,13,0,0,null,""]
[null,null,null,null,null,null,null,13,0,0,null,""]
[null,null,null,null,null,null,null,13,0,0,null,""]
[null,null,null,null,null,null,null,13,0,0,null,""]
[null,null,null,null,null,null,null,13,0,0,null,""]
[null,null,null,null,null,null,null,13,0,0,null,""]
[null,null,null,null,null,null,null,13,0,0,null,""]
[null,null,null,null,null,null,null,13,0,0,null,""]
[null,null,null,null,null,null,null,13,0,0,null,""]
[null,null,null,null,null,null,null,13,0,0,null,""]
[null,null,null,null,null,null,null,13,0,0,null,""]
[null,null,null,null,null,null,null,13,0,0,null,""]
[null,null,null,null,null,null,null,13,0,0,null,""]
[null,null,null,null,null,null,null,13,0,0,null,""]
[null,null,null,null,null,null,null,13,0,0,null,""]
[null,null,null,null,null,null,null,13,0,0,null,""]
[null,null,null,null,null,null,null,13,0,0,null,""]
[null,null,null,null,null,null,null,13,0,0,null,""]
[null,null,null,null,null,null,null,13,0,0,null,""]
[null,null,null,null,null,null,null,13,0,0,null,""]
[null,null,null,null,null,null,null,13,0,0,null,""]
[null,null,null,null,null,null,null,13,0,0,null,""]
[null,null,null,null,null,null,null,13,0,0,null,""]
[null,null,null,null,null,null,null,13,0,0,null,""]
[null,null,null,null,null,null,null,13,0,0,null,""]
[null,null,null,null,null,null,null,13,0,0,null,""]
[null,null,null,null,null,null,null,13,0,0,null,""]
[null,null,null,null,null,null,null,13,0,0,null,""]
[null,null,null,null,null,null,null,13,0,0,null,""]
[null,null,null,null,null,null,null,13,0,0,null,""]
[null,null,null,null,null,null,null,13,0,0,null,""]
[null,null,null,null,null,null,null,13,0,0,null,""]
[null,null,null,null,null,null,null,13,0,0,null,""]
[null,null,null,null,null,null,null,13,0,0,null,""]
[null,null,null,null,null,null,null,13,0,0,null,""]
[null,null,null,null,null,null,null,13,0,0,null,""]
[null,null,null,null,null,null,null,13,0,0,null,""]
[null,null,null,null,null,null,null,13,0,0,null,""]
[null,null,null,null,null,null,null,13,0,0,null,""]
[null,null,null,null,null,null,null,13,0,0,null,""]
[null,null,null,null,null,null,null,13,0,0,null,""]
[null,null,null,null,null,null,null,13,0,0,null,""]
[null,null,null,null,null,null,null,13,0,0,null,""]
[null,null,null,null,null,null,null,13,0,0,null,""]
[null,null,null,null,null,null,null,13,0,0,null,""]
[null,null,null,null,null,null,null,{"$f":"12-G474+1","v":13},{"$f":"IF(E474<250.01,E474,E474/5)","v":0},{"$f":"IF($E474<800.01,$E474,$E474/$F474/12*$H474)","v":0},null,{"$f":"IF(AND(E474>800,G474=0),\"Anschaffungsmonat fehlt!\",\"\")","v":""}]
[null,null,null,null,null,null,null,13,0,0,null,""]
[null,null,null,null,null,null,null,13,0,0,null,""]
[null,null,null,null,null,null,null,13,0,0,null,""]
[null,null,null,null,null,null,null,13,0,0,null,""]
[null,null,null,null,null,null,null,13,0,0,null,""]
[null,null,null,null,null,null,null,13,0,0,null,""]
[null,null,null,null,null,null,null,13,0,0,null,""]
[null,null,null,null,null,null,null,13,0,0,null,""]
[null,null,null,null,null,null,null,13,0,0,null,""]
[null,null,null,null,null,null,null,13,0,0,null,""]
[null,null,null,null,null,null,null,13,0,0,null,""]
[null,null,null,null,null,null,null,13,0,0,null,""]
[null,null,null,null,null,null,null,13,0,0,null,""]
[null,null,null,null,null,null,null,13,0,0,null,""]
[null,null,null,null,null,null,null,13,0,0,null,""]
[null,null,null,null,null,null,null,13,0,0,null,""]
[null,null,null,null,null,null,null,13,0,0,null,""]
[null,null,null,null,null,null,null,13,0,0,null,""]
[null,null,null,null,null,null,null,13,0,0,null,""]
[null,null,null,null,null,null,null,13,0,0,null,""]
[null,null,null,null,null,null,null,13,0,0,null,""]
[null,null,null,null,null,null,null,13,0,0,null,""]
[null,null,null,null,null,null,null,13,0,0,null,""]
[null,null,null,null,null,null,null,13,0,0,null,""]
[null,null,null,null,null,null,null,13,0,0,null,""]
[null,null,null,null,null,null,null,13,0,0,null,""]
[null,null,null,null,null,null,null,13,0,0,null,""]
[null,null,null,null,null,null,null,13,0,0,null,""]
[null,null,null,null,null,null,null,13,0,0,null,""]
[null,null,null,null,null,null,null,13,0,0,null,""]
[null,null,null,null,null,null,null,13,0,0,null,""]
[null,null,null,null,null,null,null,13,0,0,null,""]
[null,null,null,null,null,null,null,13,0,0,null,""]
[null,null,null,null,null,null,null,13,0,0,null,""]
[null,null,null,null,null,null,null,13,0,0,null,""]
[null,null,null,null,null,null,null,13,0,0,null,""]
[null,null,null,null,null,null,null,13,0,0,null,""]
[null,null,null,null,null,null,null,13,0,0,null,""]
[null,null,null,null,null,null,null,13,0,0,null,""]
[null,null,null,null,null,null,null,13,0,0,null,""]
[null,null,null,null,null,null,null,13,0,0,null,""]
[null,null,null,null,null,null,null,13,0,0,null,""]
[null,null,null,null,null,null,null,13,0,0,null,""]
[null,null,null,null,null,null,null,13,0,0,null,""]
[null,null,null,null,null,null,null,13,0,0,null,""]
[null,null,null,null,null,null,null,13,0,0,null,""]
[null,null,null,null,null,null,null,13,0,0,null,""]
[null,null,null,null,null,null,null,13,0,0,null,""]
[null,null,null,null,null,null,null,13,0,0,null,""]
[null,null,null,null,null,null,null,13,0,0,null,""]
[null,null,null,null,null,null,null,13,0,0,null,""]
[null,null,null,null,null,null,null,13,0,0,null,""]
[null,null,null,null,null,null,null,13,0,0,null,""]
[null,null,null,null,null,null,null,13,0,0,null,""]
[null,null,null,null,null,null,null,13,0,0,null,""]
[null,null,null,null,null,null,null,13,0,0,null,""]
[null,null,null,null,null,null,null,13,0,0,null,""]
[null,null,null,null,null,null,null,13,0,0,null,""]
[null,null,null,null,null,null,null,13,0,0,null,""]
[null,null,null,null,null,null,null,13,0,0,null,""]
[null,null,null,null,null,null,null,13,0,0,null,""]
[null,null,null,null,null,null,null,13,0,0,null,""]
[null,null,null,null,null,null,null,13,0,0,null,""]
[null,null,null,null,null,null,null,{"$f":"12-G538+1","v":13},{"$f":"IF(E538<250.01,E538,E538/5)","v":0},{"$f":"IF($E538<800.01,$E538,$E538/$F538/12*$H538)","v":0},null,{"$f":"IF(AND(E538>800,G538=0),\"Anschaffungsmonat fehlt!\",\"\")","v":""}]
[null,null,null,null,null,null,null,13,0,0,null,""]
[null,null,null,null,null,null,null,13,0,0,null,""]
[null,null,null,null,null,null,null,13,0,0,null,""]
[null,null,null,null,null,null,null,13,0,0,null,""]
[null,null,null,null,null,null,null,13,0,0,null,""]
[null,null,null,null,null,null,null,13,0,0,null,""]
[null,null,null,null,null,null,null,13,0,0,null,""]
[null,null,null,null,null,null,null,13,0,0,null,""]
[null,null,null,null,null,null,null,13,0,0,null,""]
[null,null,null,null,null,null,null,13,0,0,null,""]
[null,null,null,null,null,null,null,13,0,0,null,""]
[null,null,null,null,null,null,null,13,0,0,null,""]
[null,null,null,null,null,null,null,13,0,0,null,""]
[null,null,null,null,null,null,null,13,0,0,null,""]
[null,null,null,null,null,null,null,13,0,0,null,""]
[null,null,null,null,null,null,null,13,0,0,null,""]
[null,null,null,null,null,null,null,13,0,0,null,""]
[null,null,null,null,null,null,null,13,0,0,null,""]
[null,null,null,null,null,null,null,13,0,0,null,""]
[null,null,null,null,null,null,null,13,0,0,null,""]
[null,null,null,null,null,null,null,13,0,0,null,""]
[null,null,null,null,null,null,null,13,0,0,null,""]
[null,null,null,null,null,null,null,13,0,0,null,""]
[null,null,null,null,null,null,null,13,0,0,null,""]
[null,null,null,null,null,null,null,13,0,0,null,""]
[null,null,null,null,null,null,null,13,0,0,null,""]
[null,null,null,null,null,null,null,13,0,0,null,""]
[null,null,null,null,null,null,null,13,0,0,null,""]
[null,null,null,null,null,null,null,13,0,0,null,""]
[null,null,null,null,null,null,null,13,0,0,null,""]
[null,null,null,null,null,null,null,13,0,0,null,""]
[null,null,null,null,null,null,null,13,0,0,null,""]
[null,null,null,null,null,null,null,13,0,0,null,""]
[null,null,null,null,null,null,null,13,0,0,null,""]
[null,null,null,null,null,null,null,13,0,0,null,""]
[null,null,null,null,null,null,null,13,0,0,null,""]
[null,null,null,null,null,null,null,13,0,0,null,""]
[null,null,null,null,null,null,null,13,0,0,null,""]
[null,null,null,null,null,null,null,13,0,0,null,""]
[null,null,null,null,null,null,null,13,0,0,null,""]
[null,null,null,null,null,null,null,13,0,0,null,""]
[null,null,null,null,null,null,null,13,0,0,null,""]
[null,null,null,null,null,null,null,13,0,0,null,""]
[null,null,null,null,null,null,null,13,0,0,null,""]
[null,null,null,null,null,null,null,13,0,0,null,""]
[null,null,null,null,null,null,null,13,0,0,null,""]
[null,null,null,null,null,null,null,13,0,0,null,""]
[null,null,null,null,null,null,null,13,0,0,null,""]
[null,null,null,null,null,null,null,13,0,0,null,""]
[null,null,null,null,null,null,null,13,0,0,null,""]
[null,null,null,null,null,null,null,13,0,0,null,""]
[null,null,null,null,null,null,null,13,0,0,null,""]
[null,null,null,null,null,null,null,13,0,0,null,""]
[null,null,null,null,null,null,null,13,0,0,null,""]
[null,null,null,null,null,null,null,13,0,0,null,""]
[null,null,null,null,null,null,null,13,0,0,null,""]
[null,null,null,null,null,null,null,13,0,0,null,""]
[null,null,null,null,null,null,null,13,0,0,null,""]
[null,null,null,null,null,null,null,13,0,0,null,""]
[null,null,null,null,null,null,null,13,0,0,null,""]
[null,null,null,null,null,null,null,13,0,0,null,""]
[null,null,null,null,null,null,null,13,0,0,null,""]
[null,null,null,null,null,null,null,13,0,0,null,""]
[null,null,null,null,null,null,null,{"$f":"12-G602+1","v":13},{"$f":"IF(E602<250.01,E602,E602/5)","v":0},{"$f":"IF($E602<800.01,$E602,$E602/$F602/12*$H602)","v":0},null,{"$f":"IF(AND(E602>800,G602=0),\"Anschaffungsmonat fehlt!\",\"\")","v":""}]
[null,null,null,null,null,null,null,13,0,0,null,""]
[null,null,null,null,null,null,null,13,0,0,null,""]
[null,null,null,null,null,null,null,13,0,0,null,""]
[null,null,null,null,null,null,null,13,0,0,null,""]
[null,null,null,null,null,null,null,13,0,0,null,""]
[null,null,null,null,null,null,null,13,0,0,null,""]
[null,null,null,null,null,null,null,13,0,0,null,""]
[null,null,null,null,null,null,null,13,0,0,null,""]
[null,null,null,null,null,null,null,13,0,0,null,""]
[null,null,null,null,null,null,null,13,0,0,null,""]
[null,null,null,null,null,null,null,13,0,0,null,""]
[null,null,null,null,null,null,null,13,0,0,null,""]
[null,null,null,null,null,null,null,13,0,0,null,""]
[null,null,null,null,null,null,null,13,0,0,null,""]
[null,null,null,null,null,null,null,13,0,0,null,""]
[null,null,null,null,null,null,null,13,0,0,null,""]
[null,null,null,null,null,null,null,13,0,0,null,""]
[null,null,null,null,null,null,null,13,0,0,null,""]
[null,null,null,null,null,null,null,13,0,0,null,""]
[null,null,null,null,null,null,null,13,0,0,null,""]
[null,null,null,null,null,null,null,13,0,0,null,""]
[null,null,null,null,null,null,null,13,0,0,null,""]
[null,null,null,null,null,null,null,13,0,0,null,""]
[null,null,null,null,null,null,null,13,0,0,null,""]
[null,null,null,null,null,null,null,13,0,0,null,""]
[null,null,null,null,null,null,null,13,0,0,null,""]
[null,null,null,null,null,null,null,13,0,0,null,""]
[null,null,null,null,null,null,null,13,0,0,null,""]
[null,null,null,null,null,null,null,13,0,0,null,""]
[null,null,null,null,null,null,null,13,0,0,null,""]
[null,null,null,null,null,null,null,13,0,0,null,""]
[null,null,null,null,null,null,null,13,0,0,null,""]
[null,null,null,null,null,null,null,13,0,0,null,""]
[null,null,null,null,null,null,null,13,0,0,null,""]
[null,null,null,null,null,null,null,13,0,0,null,""]
[null,null,null,null,null,null,null,13,0,0,null,""]
[null,null,null,null,null,null,null,13,0,0,null,""]
[null,null,null,null,null,null,null,13,0,0,null,""]
[null,null,null,null,null,null,null,13,0,0,null,""]
[null,null,null,null,null,null,null,13,0,0,null,""]
[null,null,null,null,null,null,null,13,0,0,null,""]
[null,null,null,null,null,null,null,13,0,0,null,""]
[null,null,null,null,null,null,null,13,0,0,null,""]
[null,null,null,null,null,null,null,13,0,0,null,""]
[null,null,null,null,null,null,null,13,0,0,null,""]
[null,null,null,null,null,null,null,13,0,0,null,""]
[null,null,null,null,null,null,null,13,0,0,null,""]
[null,null,null,null,null,null,null,13,0,0,null,""]
[null,null,null,null,null,null,null,13,0,0,null,""]
[null,null,null,null,null,null,null,13,0,0,null,""]
[null,null,null,null,null,null,null,13,0,0,null,""]
[null,null,null,null,null,null,null,13,0,0,null,""]
[null,null,null,null,null,null,null,13,0,0,null,""]
[null,null,null,null,null,null,null,13,0,0,null,""]
[null,null,null,null,null,null,null,13,0,0,null,""]
[null,null,null,null,null,null,null,13,0,0,null,""]
[null,null,null,null,null,null,null,13,0,0,null,""]
[null,null,null,null,null,null,null,13,0,0,null,""]
[null,null,null,null,null,null,null,13,0,0,null,""]
[null,null,null,null,null,null,null,13,0,0,null,""]
[null,null,null,null,null,null,null,13,0,0,null,""]
[null,null,null,null,null,null,null,13,0,0,null,""]
[null,null,null,null,null,null,null,13,0,0,null,""]
[null,null,null,null,null,null,null,{"$f":"12-G666+1","v":13},{"$f":"IF(E666<250.01,E666,E666/5)","v":0},{"$f":"IF($E666<800.01,$E666,$E666/$F666/12*$H666)","v":0},null,{"$f":"IF(AND(E666>800,G666=0),\"Anschaffungsmonat fehlt!\",\"\")","v":""}]
[null,null,null,null,null,null,null,13,0,0,null,""]
[null,null,null,null,null,null,null,13,0,0,null,""]
[null,null,null,null,null,null,null,13,0,0,null,""]
[null,null,null,null,null,null,null,13,0,0,null,""]
[null,null,null,null,null,null,null,13,0,0,null,""]
[null,null,null,null,null,null,null,13,0,0,null,""]
[null,null,null,null,null,null,null,13,0,0,null,""]
[null,null,null,null,null,null,null,13,0,0,null,""]
[null,null,null,null,null,null,null,13,0,0,null,""]
[null,null,null,null,null,null,null,13,0,0,null,""]
[null,null,null,null,null,null,null,13,0,0,null,""]
[null,null,null,null,null,null,null,13,0,0,null,""]
[null,null,null,null,null,null,null,13,0,0,null,""]
[null,null,null,null,null,null,null,13,0,0,null,""]
[null,null,null,null,null,null,null,13,0,0,null,""]
[null,null,null,null,null,null,null,13,0,0,null,""]
[null,null,null,null,null,null,null,13,0,0,null,""]
[null,null,null,null,null,null,null,13,0,0,null,""]
[null,null,null,null,null,null,null,13,0,0,null,""]
[null,null,null,null,null,null,null,13,0,0,null,""]
[null,null,null,null,null,null,null,13,0,0,null,""]
[null,null,null,null,null,null,null,13,0,0,null,""]
[null,null,null,null,null,null,null,13,0,0,null,""]
[null,null,null,null,null,null,null,13,0,0,null,""]
[null,null,null,null,null,null,null,13,0,0,null,""]
[null,null,null,null,null,null,null,13,0,0,null,""]
[null,null,null,null,null,null,null,13,0,0,null,""]
[null,null,null,null,null,null,null,13,0,0,null,""]
[null,null,null,null,null,null,null,13,0,0,null,""]
[null,null,null,null,null,null,null,13,0,0,null,""]
[null,null,null,null,null,null,null,13,0,0,null,""]
[null,null,null,null,null,null,null,13,0,0,null,""]
[null,null,null,null,null,null,null,13,0,0,null,""]
[null,null,null,null,null,null,null,13,0,0,null,""]
[null,null,null,null,null,null,null,13,0,0,null,""]
[null,null,null,null,null,null,null,13,0,0,null,""]
[null,null,null,null,null,null,null,13,0,0,null,""]
[null,null,null,null,null,null,null,13,0,0,null,""]
[null,null,null,null,null,null,null,13,0,0,null,""]
[null,null,null,null,null,null,null,13,0,0,null,""]
[null,null,null,null,null,null,null,13,0,0,null,""]
[null,null,null,null,null,null,null,13,0,0,null,""]
[null,null,null,null,null,null,null,13,0,0,null,""]
[null,null,null,null,null,null,null,13,0,0,null,""]
[null,null,null,null,null,null,null,13,0,0,null,""]
[null,null,null,null,null,null,null,13,0,0,null,""]
[null,null,null,null,null,null,null,13,0,0,null,""]
[null,null,null,null,null,null,null,13,0,0,null,""]
[null,null,null,null,null,null,null,13,0,0,null,""]
[null,null,null,null,null,null,null,13,0,0,null,""]
[null,null,null,null,null,null,null,13,0,0,null,""]
[null,null,null,null,null,null,null,13,0,0,null,""]
[null,null,null,null,null,null,null,13,0,0,null,""]
[null,null,null,null,null,null,null,13,0,0,null,""]
[null,null,null,null,null,null,null,13,0,0,null,""]
[null,null,null,null,null,null,null,13,0,0,null,""]
[null,null,null,null,null,null,null,13,0,0,null,""]
[null,null,null,null,null,null,null,13,0,0,null,""]
[null,null,null,null,null,null,null,13,0,0,null,""]
[null,null,null,null,null,null,null,13,0,0,null,""]
[null,null,null,null,null,null,null,13,0,0,null,""]
[null,null,null,null,null,null,null,13,0,0,null,""]
[null,null,null,null,null,null,null,13,0,0,null,""]
[null,null,null,null,null,null,null,{"$f":"12-G730+1","v":13},{"$f":"IF(E730<250.01,E730,E730/5)","v":0},{"$f":"IF($E730<800.01,$E730,$E730/$F730/12*$H730)","v":0},null,{"$f":"IF(AND(E730>800,G730=0),\"Anschaffungsmonat fehlt!\",\"\")","v":""}]
[null,null,null,null,null,null,null,13,0,0,null,""]
[null,null,null,null,null,null,null,13,0,0,null,""]
[null,null,null,null,null,null,null,13,0,0,null,""]
[null,null,null,null,null,null,null,13,0,0,null,""]
[null,null,null,null,null,null,null,13,0,0,null,""]
[null,null,null,null,null,null,null,13,0,0,null,""]
[null,null,null,null,null,null,null,13,0,0,null,""]
[null,null,null,null,null,null,null,13,0,0,null,""]
[null,null,null,null,null,null,null,13,0,0,null,""]
[null,null,null,null,null,null,null,13,0,0,null,""]
[null,null,null,null,null,null,null,13,0,0,null,""]
[null,null,null,null,null,null,null,13,0,0,null,""]
[null,null,null,null,null,null,null,13,0,0,null,""]
[null,null,null,null,null,null,null,13,0,0,null,""]
[null,null,null,null,null,null,null,13,0,0,null,""]
[null,null,null,null,null,null,null,13,0,0,null,""]
[null,null,null,null,null,null,null,13,0,0,null,""]
[null,null,null,null,null,null,null,13,0,0,null,""]
[null,null,null,null,null,null,null,13,0,0,null,""]
[null,null,null,null,null,null,null,13,0,0,null,""]
[null,null,null,null,null,null,null,13,0,0,null,""]
[null,null,null,null,null,null,null,13,0,0,null,""]
[null,null,null,null,null,null,null,13,0,0,null,""]
[null,null,null,null,null,null,null,13,0,0,null,""]
[null,null,null,null,null,null,null,13,0,0,null,""]
[null,null,null,null,null,null,null,13,0,0,null,""]
[null,null,null,null,null,null,null,13,0,0,null,""]
[null,null,null,null,null,null,null,13,0,0,null,""]
[null,null,null,null,null,null,null,13,0,0,null,""]
[null,null,null,null,null,null,null,13,0,0,null,""]
[null,null,null,null,null,null,null,13,0,0,null,""]
[null,null,null,null,null,null,null,13,0,0,null,""]
[null,null,null,null,null,null,null,13,0,0,null,""]
[null,null,null,null,null,null,null,13,0,0,null,""]
[null,null,null,null,null,null,null,13,0,0,null,""]
[null,null,null,null,null,null,null,13,0,0,null,""]
[null,null,null,null,null,null,null,13,0,0,null,""]
[null,null,null,null,null,null,null,13,0,0,null,""]
[null,null,null,null,null,null,null,13,0,0,null,""]
[null,null,null,null,null,null,null,13,0,0,null,""]
[null,null,null,null,null,null,null,13,0,0,null,""]
[null,null,null,null,null,null,null,13,0,0,null,""]
[null,null,null,null,null,null,null,13,0,0,null,""]
[null,null,null,null,null,null,null,13,0,0,null,""]
[null,null,null,null,null,null,null,13,0,0,null,""]
[null,null,null,null,null,null,null,13,0,0,null,""]
[null,null,null,null,null,null,null,13,0,0,null,""]
[null,null,null,null,null,null,null,13,0,0,null,""]
[null,null,null,null,null,null,null,13,0,0,null,""]
[null,null,null,null,null,null,null,13,0,0,null,""]
[null,null,null,null,null,null,null,13,0,0,null,""]
[null,null,null,null,null,null,null,13,0,0,null,""]
[null,null,null,null,null,null,null,13,0,0,null,""]
[null,null,null,null,null,null,null,13,0,0,null,""]
[null,null,null,null,null,null,null,13,0,0,null,""]
[null,null,null,null,null,null,null,13,0,0,null,""]
[null,null,null,null,null,null,null,13,0,0,null,""]
[null,null,null,null,null,null,null,13,0,0,null,""]
[null,null,null,null,null,null,null,13,0,0,null,""]
[null,null,null,null,null,null,null,13,0,0,null,""]
[null,null,null,null,null,null,null,13,0,0,null,""]
[null,null,null,null,null,null,null,13,0,0,null,""]
[null,null,null,null,null,null,null,13,0,0,null,""]
[null,null,null,null,null,null,null,{"$f":"12-G794+1","v":13},{"$f":"IF(E794<250.01,E794,E794/5)","v":0},{"$f":"IF($E794<800.01,$E794,$E794/$F794/12*$H794)","v":0},null,{"$f":"IF(AND(E794>800,G794=0),\"Anschaffungsmonat fehlt!\",\"\")","v":""}]
[null,null,null,null,null,null,null,13,0,0,null,""]
[null,null,null,null,null,null,null,13,0,0,null,""]
[null,null,null,null,null,null,null,13,0,0,null,""]
[null,null,null,null,null,null,null,13,0,0,null,""]
[null,null,null,null,null,null,null,13,0,0,null,""]
[null,null,null,null,null,null,null,13,0,0,null,""]
[null,null,null,null,null,null,null,13,0,0,null,""]
[null,null,null,null,null,null,null,13,0,0,null,""]
[null,null,null,null,null,null,null,13,0,0,null,""]
[null,null,null,null,null,null,null,13,0,0,null,""]
[null,null,null,null,null,null,null,13,0,0,null,""]
[null,null,null,null,null,null,null,13,0,0,null,""]
[null,null,null,null,null,null,null,13,0,0,null,""]
[null,null,null,null,null,null,null,13,0,0,null,""]
[null,null,null,null,null,null,null,13,0,0,null,""]
[null,null,null,null,null,null,null,13,0,0,null,""]
[null,null,null,null,null,null,null,13,0,0,null,""]
[null,null,null,null,null,null,null,13,0,0,null,""]
[null,null,null,null,null,null,null,13,0,0,null,""]
[null,null,null,null,null,null,null,13,0,0,null,""]
[null,null,null,null,null,null,null,13,0,0,null,""]
[null,null,null,null,null,null,null,13,0,0,null,""]
[null,null,null,null,null,null,null,13,0,0,null,""]
[null,null,null,null,null,null,null,13,0,0,null,""]
[null,null,null,null,null,null,null,13,0,0,null,""]
[null,null,null,null,null,null,null,13,0,0,null,""]
[null,null,null,null,null,null,null,13,0,0,null,""]
[null,null,null,null,null,null,null,13,0,0,null,""]
[null,null,null,null,null,null,null,13,0,0,null,""]
[null,null,null,null,null,null,null,13,0,0,null,""]
[null,null,null,null,null,null,null,13,0,0,null,""]
[null,null,null,null,null,null,null,13,0,0,null,""]
[null,null,null,null,null,null,null,13,0,0,null,""]
[null,null,null,null,null,null,null,13,0,0,null,""]
[null,null,null,null,null,null,null,13,0,0,null,""]
[null,null,null,null,null,null,null,13,0,0,null,""]
[null,null,null,null,null,null,null,13,0,0,null,""]
[null,null,null,null,null,null,null,13,0,0,null,""]
[null,null,null,null,null,null,null,13,0,0,null,""]
[null,null,null,null,null,null,null,13,0,0,null,""]
[null,null,null,null,null,null,null,13,0,0,null,""]
[null,null,null,null,null,null,null,13,0,0,null,""]
[null,null,null,null,null,null,null,13,0,0,null,""]
[null,null,null,null,null,null,null,13,0,0,null,""]
[null,null,null,null,null,null,null,13,0,0,null,""]
[null,null,null,null,null,null,null,13,0,0,null,""]
[null,null,null,null,null,null,null,13,0,0,null,""]
[null,null,null,null,null,null,null,13,0,0,null,""]
[null,null,null,null,null,null,null,13,0,0,null,""]
[null,null,null,null,null,null,null,13,0,0,null,""]
[null,null,null,null,null,null,null,13,0,0,null,""]
[null,null,null,null,null,null,null,13,0,0,null,""]
[null,null,null,null,null,null,null,13,0,0,null,""]
[null,null,null,null,null,null,null,13,0,0,null,""]
[null,null,null,null,null,null,null,13,0,0,null,""]
[null,null,null,null,null,null,null,13,0,0,null,""]
[null,null,null,null,null,null,null,13,0,0,null,""]
[null,null,null,null,null,null,null,13,0,0,null,""]
[null,null,null,null,null,null,null,13,0,0,null,""]
[null,null,null,null,null,null,null,13,0,0,null,""]
[null,null,null,null,null,null,null,13,0,0,null,""]
[null,null,null,null,null,null,null,13,0,0,null,""]
[null,null,null,null,null,null,null,13,0,0,null,""]
[null,null,null,null,null,null,null,{"$f":"12-G858+1","v":13},{"$f":"IF(E858<250.01,E858,E858/5)","v":0},{"$f":"IF($E858<800.01,$E858,$E858/$F858/12*$H858)","v":0},null,{"$f":"IF(AND(E858>800,G858=0),\"Anschaffungsmonat fehlt!\",\"\")","v":""}]
[null,null,null,null,null,null,null,13,0,0,null,""]
[null,null,null,null,null,null,null,13,0,0,null,""]
[null,null,null,null,null,null,null,13,0,0,null,""]
[null,null,null,null,null,null,null,13,0,0,null,""]
[null,null,null,null,null,null,null,13,0,0,null,""]
[null,null,null,null,null,null,null,13,0,0,null,""]
[null,null,null,null,null,null,null,13,0,0,null,""]
[null,null,null,null,null,null,null,13,0,0,null,""]
[null,null,null,null,null,null,null,13,0,0,null,""]
[null,null,null,null,null,null,null,13,0,0,null,""]
[null,null,null,null,null,null,null,13,0,0,null,""]
[null,null,null,null,null,null,null,13,0,0,null,""]
[null,null,null,null,null,null,null,13,0,0,null,""]
[null,null,null,null,null,null,null,13,0,0,null,""]
[null,null,null,null,null,null,null,13,0,0,null,""]
[null,null,null,null,null,null,null,13,0,0,null,""]
[null,null,null,null,null,null,null,13,0,0,null,""]
[null,null,null,null,null,null,null,13,0,0,null,""]
[null,null,null,null,null,null,null,13,0,0,null,""]
[null,null,null,null,null,null,null,13,0,0,null,""]
[null,null,null,null,null,null,null,13,0,0,null,""]
[null,null,null,null,null,null,null,13,0,0,null,""]
[null,null,null,null,null,null,null,13,0,0,null,""]
[null,null,null,null,null,null,null,13,0,0,null,""]
[null,null,null,null,null,null,null,13,0,0,null,""]
[null,null,null,null,null,null,null,13,0,0,null,""]
[null,null,null,null,null,null,null,13,0,0,null,""]
[null,null,null,null,null,null,null,13,0,0,null,""]
[null,null,null,null,null,null,null,13,0,0,null,""]
[null,null,null,null,null,null,null,13,0,0,null,""]
[null,null,null,null,null,null,null,13,0,0,null,""]
[null,null,null,null,null,null,null,13,0,0,null,""]
[null,null,null,null,null,null,null,13,0,0,null,""]
[null,null,null,null,null,null,null,13,0,0,null,""]
[null,null,null,null,null,null,null,13,0,0,null,""]
[null,null,null,null,null,null,null,13,0,0,null,""]
[null,null,null,null,null,null,null,13,0,0,null,""]
[null,null,null,null,null,null,null,13,0,0,null,""]
[null,null,null,null,null,null,null,13,0,0,null,""]
[null,null,null,null,null,null,null,13,0,0,null,""]
[null,null,null,null,null,null,null,13,0,0,null,""]
[null,null,null,null,null,null,null,13,0,0,null,""]
[null,null,null,null,null,null,null,13,0,0,null,""]
[null,null,null,null,null,null,null,13,0,0,null,""]
[null,null,null,null,null,null,null,13,0,0,null,""]
[null,null,null,null,null,null,null,13,0,0,null,""]
[null,null,null,null,null,null,null,13,0,0,null,""]
[null,null,null,null,null,null,null,13,0,0,null,""]
[null,null,null,null,null,null,null,13,0,0,null,""]
[null,null,null,null,null,null,null,13,0,0,null,""]
[null,null,null,null,null,null,null,13,0,0,null,""]
[null,null,null,null,null,null,null,13,0,0,null,""]
[null,null,null,null,null,null,null,13,0,0,null,""]
[null,null,null,null,null,null,null,13,0,0,null,""]
[null,null,null,null,null,null,null,13,0,0,null,""]
[null,null,null,null,null,null,null,13,0,0,null,""]
[null,null,null,null,null,null,null,13,0,0,null,""]
[null,null,null,null,null,null,null,13,0,0,null,""]
[null,null,null,null,null,null,null,13,0,0,null,""]
[null,null,null,null,null,null,null,13,0,0,null,""]
[null,null,null,null,null,null,null,13,0,0,null,""]
[null,null,null,null,null,null,null,13,0,0,null,""]
[null,null,null,null,null,null,null,13,0,0,null,""]
[null,null,null,null,null,null,null,{"$f":"12-G922+1","v":13},{"$f":"IF(E922<250.01,E922,E922/5)","v":0},{"$f":"IF($E922<800.01,$E922,$E922/$F922/12*$H922)","v":0},null,{"$f":"IF(AND(E922>800,G922=0),\"Anschaffungsmonat fehlt!\",\"\")","v":""}]
[null,null,null,null,null,null,null,13,0,0,null,""]
[null,null,null,null,null,null,null,13,0,0,null,""]
[null,null,null,null,null,null,null,13,0,0,null,""]
[null,null,null,null,null,null,null,13,0,0,null,""]
[null,null,null,null,null,null,null,13,0,0,null,""]
[null,null,null,null,null,null,null,13,0,0,null,""]
[null,null,null,null,null,null,null,13,0,0,null,""]
[null,null,null,null,null,null,null,13,0,0,null,""]
[null,null,null,null,null,null,null,13,0,0,null,""]
[null,null,null,null,null,null,null,13,0,0,null,""]
[null,null,null,null,null,null,null,13,0,0,null,""]
[null,null,null,null,null,null,null,13,0,0,null,""]
[null,null,null,null,null,null,null,13,0,0,null,""]
[null,null,null,null,null,null,null,13,0,0,null,""]
[null,null,null,null,null,null,null,13,0,0,null,""]
[null,null,null,null,null,null,null,13,0,0,null,""]
[null,null,null,null,null,null,null,13,0,0,null,""]
[null,null,null,null,null,null,null,13,0,0,null,""]
[null,null,null,null,null,null,null,13,0,0,null,""]
[null,null,null,null,null,null,null,13,0,0,null,""]
[null,null,null,null,null,null,null,13,0,0,null,""]
[null,null,null,null,null,null,null,13,0,0,null,""]
[null,null,null,null,null,null,null,13,0,0,null,""]
[null,null,null,null,null,null,null,13,0,0,null,""]
[null,null,null,null,null,null,null,13,0,0,null,""]
[null,null,null,null,null,null,null,13,0,0,null,""]
[null,null,null,null,null,null,null,13,0,0,null,""]
[null,null,null,null,null,null,null,13,0,0,null,""]
[null,null,null,null,null,null,null,13,0,0,null,""]
[null,null,null,null,null,null,null,13,0,0,null,""]
[null,null,null,null,null,null,null,13,0,0,null,""]
[null,null,null,null,null,null,null,13,0,0,null,""]
[null,null,null,null,null,null,null,13,0,0,null,""]
[null,null,null,null,null,null,null,13,0,0,null,""]
[null,null,null,null,null,null,null,13,0,0,null,""]
[null,null,null,null,null,null,null,13,0,0,null,""]
[null,null,null,null,null,null,null,13,0,0,null,""]
[null,null,null,null,null,null,null,13,0,0,null,""]
[null,null,null,null,null,null,null,13,0,0,null,""]
[null,null,null,null,null,null,null,13,0,0,null,""]
[null,null,null,null,null,null,null,13,0,0,null,""]
[null,null,null,null,null,null,null,13,0,0,null,""]
[null,null,null,null,null,null,null,13,0,0,null,""]
[null,null,null,null,null,null,null,13,0,0,null,""]
[null,null,null,null,null,null,null,13,0,0,null,""]
[null,null,null,null,null,null,null,13,0,0,null,""]
[null,null,null,null,null,null,null,13,0,0,null,""]
[null,null,null,null,null,null,null,13,0,0,null,""]
[null,null,null,null,null,null,null,13,0,0,null,""]
[null,null,null,null,null,null,null,13,0,0,null,""]
[null,null,null,null,null,null,null,13,0,0,null,""]
[null,null,null,null,null,null,null,13,0,0,null,""]
[null,null,null,null,null,null,null,13,0,0,null,""]
[null,null,null,null,null,null,null,13,0,0,null,""]
[null,null,null,null,null,null,null,13,0,0,null,""]
[null,null,null,null,null,null,null,13,0,0,null,""]
[null,null,null,null,null,null,null,13,0,0,null,""]
[null,null,null,null,null,null,null,13,0,0,null,""]
[null,null,null,null,null,null,null,13,0,0,null,""]
[null,null,null,null,null,null,null,13,0,0,null,""]
[null,null,null,null,null,null,null,13,0,0,null,""]
[null,null,null,null,null,null,null,13,0,0,null,""]
[null,null,null,null,null,null,null,13,0,0,null,""]
[null,null,null,null,null,null,null,{"$f":"12-G986+1","v":13},{"$f":"IF(E986<250.01,E986,E986/5)","v":0},{"$f":"IF($E986<800.01,$E986,$E986/$F986/12*$H986)","v":0},null,{"$f":"IF(AND(E986>800,G986=0),\"Anschaffungsmonat fehlt!\",\"\")","v":""}]
[null,null,null,null,null,null,null,13,0,0,null,""]
[null,null,null,null,null,null,null,13,0,0,null,""]
[null,null,null,null,null,null,null,13,0,0,null,""]
[null,null,null,null,null,null,null,13,0,0,null,""]
[null,null,null,null,null,null,null,13,0,0,null,""]
[null,null,null,null,null,null,null,13,0,0,null,""]
[null,null,null,null,null,null,null,13,0,0,null,""]
[null,null,null,null,null,null,null,13,0,0,null,""]
[null,null,null,null,null,null,null,13,0,0,null,""]
[null,null,null,null,null,null,null,13,0,0,null,""]
[null,null,null,null,null,null,null,13,0,0,null,""]
[null,null,null,null,null,null,null,13,0,0,null,""]
[null,null,null,null,null,null,null,13,0,0,null,""]
[null,null,null,null,null,null,null,13,0,0,null,""]
[null,null,null,null,null,null,null,13,0,0,null,""]
[null,null,null,null,null,null,null,13,0,0,null,""]
[null,null,null,null,null,null,null,13,0,0,null,""]
[null,null,null,null,null,null,null,13,0,0,null,""]
[null,null,null,null,null,null,null,13,0,0,null,""]
[null,null,null,null,null,null,null,13,0,0,null,""]
[null,null,null,null,null,null,null,13,0,0,null,""]
[null,null,null,null,null,null,null,13,0,0,null,""]
[null,null,null,null,null,null,null,13,0,0,null,""]
[null,null,null,null,null,null,null,13,0,0,null,""]
[null,null,null,null,null,null,null,13,0,0,null,""]
[null,null,null,null,null,null,null,13,0,0,null,""]
[null,null,null,null,null,null,null,13,0,0,null,""]
[null,null,null,null,null,null,null,13,0,0,null,""]
[null,null,null,null,null,null,null,13,0,0,null,""]
[null,null,null,null,null,null,null,13,0,0,null,""]
[null,null,null,null,null,null,null,13,0,0,null,""]
[null,null,null,null,null,null,null,13,0,0,null,""]
[null,null,null,null,null,null,null,13,0,0,null,""]
[null,null,null,null,null,null,null,13,0,0,null,""]
[null,null,null,null,null,null,null,13,0,0,null,""]
[null,null,null,null,null,null,null,13,0,0,null,""]
[null,null,null,null,null,null,null,13,0,0,null,""]
[null,null,null,null,null,null,null,13,0,0,null,""]
[null,null,null,null,null,null,null,13,0,0,null,""]
[null,null,null,null,null,null,null,13,0,0,null,""]
[null,null,null,null,null,null,null,13,0,0,null,""]
[null,null,null,null,null,null,null,13,0,0,null,""]
[null,null,null,null,null,null,null,13,0,0,null,""]
[null,null,null,null,null,null,null,13,0,0,null,""]
[null,null,null,null,null,null,null,13,0,0,null,""]
[null,null,null,null,null,null,null,13,0,0,null,""]
[null,null,null,null,null,null,null,13,0,0,null,""]
[null,null,null,null,null,null,null,13,0,0,null,""]
[null,null,null,null,null,null,null,13,0,0,null,""]
[null,null,null,null,null,null,null,13,0,0,null,""]
[null,null,null,null,null,null,null,13,0,0,null,""]
[null,null,null,null,null,null,null,13,0,0,null,""]
[null,null,null,null,null,null,null,13,0,0,null,""]
[null,null,null,null,null,null,null,13,0,0,null,""]
[null,null,null,null,null,null,null,13,0,0,null,""]
[null,null,null,null,null,null,null,13,0,0,null,""]
[null,null,null,null,null,null,null,13,0,0,null,""]
[null,null,null,null,null,null,null,13,0,0,null,""]
[null,null,null,null,null,null,null,13,0,0,null,""]
[null,null,null,null,null,null,null,13,0,0,null,""]
[null,null,null,null,null,null,null,13,0,0,null,""]
[null,null,null,null,null,null,null,13,0,0,null,""]
[null,null,null,null,null,null,null,13,0,0,null,""]
[null,null,null,null,null,null,null,{"$f":"12-G1050+1","v":13},{"$f":"IF(E1050<250.01,E1050,E1050/5)","v":0},{"$f":"IF($E1050<800.01,$E1050,$E1050/$F1050/12*$H1050)","v":0},null,{"$f":"IF(AND(E1050>800,G1050=0),\"Anschaffungsmonat fehlt!\",\"\")","v":""}]
[null,null,null,null,null,null,null,13,0,0,null,""]
[null,null,null,null,null,null,null,13,0,0,null,""]
[null,null,null,null,null,null,null,13,0,0,null,""]
[null,null,null,null,null,null,null,13,0,0,null,""]
[null,null,null,null,null,null,null,13,0,0,null,""]
[null,null,null,null,null,null,null,13,0,0,null,""]
[null,null,null,null,null,null,null,13,0,0,null,""]
[null,null,null,null,null,null,null,13,0,0,null,""]
[null,null,null,null,null,null,null,13,0,0,null,""]
[null,null,null,null,null,null,null,13,0,0,null,""]
[null,null,null,null,null,null,null,13,0,0,null,""]
[null,null,null,null,null,null,null,13,0,0,null,""]
[null,null,null,null,null,null,null,13,0,0,null,""]
[null,null,null,null,null,null,null,13,0,0,null,""]
[null,null,null,null,null,null,null,13,0,0,null,""]
[null,null,null,null,null,null,null,13,0,0,null,""]
[null,null,null,null,null,null,null,13,0,0,null,""]
[null,null,null,null,null,null,null,13,0,0,null,""]
[null,null,null,null,null,null,null,13,0,0,null,""]
[null,null,null,null,null,null,null,13,0,0,null,""]
[null,null,null,null,null,null,null,13,0,0,null,""]
[null,null,null,null,null,null,null,13,0,0,null,""]
[null,null,null,null,null,null,null,13,0,0,null,""]
[null,null,null,null,null,null,null,13,0,0,null,""]
[null,null,null,null,null,null,null,13,0,0,null,""]
[null,null,null,null,null,null,null,13,0,0,null,""]
[null,null,null,null,null,null,null,13,0,0,null,""]
[null,null,null,null,null,null,null,13,0,0,null,""]
[null,null,null,null,null,null,null,13,0,0,null,""]
[null,null,null,null,null,null,null,13,0,0,null,""]
[null,null,null,null,null,null,null,13,0,0,null,""]
[null,null,null,null,null,null,null,13,0,0,null,""]
[null,null,null,null,null,null,null,13,0,0,null,""]
[null,null,null,null,null,null,null,13,0,0,null,""]
[null,null,null,null,null,null,null,13,0,0,null,""]
[null,null,null,null,null,null,null,13,0,0,null,""]
[null,null,null,null,null,null,null,13,0,0,null,""]
[null,null,null,null,null,null,null,13,0,0,null,""]
[null,null,null,null,null,null,null,13,0,0,null,""]
[null,null,null,null,null,null,null,13,0,0,null,""]
[null,null,null,null,null,null,null,13,0,0,null,""]
[null,null,null,null,null,null,null,13,0,0,null,""]
[null,null,null,null,null,null,null,13,0,0,null,""]
[null,null,null,null,null,null,null,13,0,0,null,""]
[null,null,null,null,null,null,null,13,0,0,null,""]
[null,null,null,null,null,null,null,13,0,0,null,""]
[null,null,null,null,null,null,null,13,0,0,null,""]
[null,null,null,null,null,null,null,13,0,0,null,""]
[null,null,null,null,null,null,null,13,0,0,null,""]
[null,null,null,null,null,null,null,13,0,0,null,""]
[null,null,null,null,null,null,null,13,0,0,null,""]
[null,null,null,null,null,null,null,13,0,0,null,""]
[null,null,null,null,null,null,null,13,0,0,null,""]
[null,null,null,null,null,null,null,13,0,0,null,""]
[null,null,null,null,null,null,null,13,0,0,null,""]
[null,null,null,null,null,null,null,13,0,0,null,""]
[null,null,null,null,null,null,null,13,0,0,null,""]
[null,null,null,null,null,null,null,13,0,0,null,""]
[null,null,null,null,null,null,null,13,0,0,null,""]
[null,null,null,null,null,null,null,13,0,0,null,""]
[null,null,null,null,null,null,null,13,0,0,null,""]
[null,null,null,null,null,null,null,13,0,0,null,""]
[null,null,null,null,null,null,null,13,0,0,null,""]
[null,null,null,null,null,null,null,{"$f":"12-G1114+1","v":13},{"$f":"IF(E1114<250.01,E1114,E1114/5)","v":0},{"$f":"IF($E1114<800.01,$E1114,$E1114/$F1114/12*$H1114)","v":0},null,{"$f":"IF(AND(E1114>800,G1114=0),\"Anschaffungsmonat fehlt!\",\"\")","v":""}]
[null,null,null,null,null,null,null,13,0,0,null,""]
[null,null,null,null,null,null,null,13,0,0,null,""]
[null,null,null,null,null,null,null,13,0,0,null,""]
[null,null,null,null,null,null,null,13,0,0,null,""]
[null,null,null,null,null,null,null,13,0,0,null,""]
[null,null,null,null,null,null,null,13,0,0,null,""]
[null,null,null,null,null,null,null,13,0,0,null,""]
[null,null,null,null,null,null,null,13,0,0,null,""]
[null,null,null,null,null,null,null,13,0,0,null,""]
[null,null,null,null,null,null,null,13,0,0,null,""]
[null,null,null,null,null,null,null,13,0,0,null,""]
[null,null,null,null,null,null,null,13,0,0,null,""]
[null,null,null,null,null,null,null,13,0,0,null,""]
[null,null,null,null,null,null,null,13,0,0,null,""]
[null,null,null,null,null,null,null,13,0,0,null,""]
[null,null,null,null,null,null,null,13,0,0,null,""]
[null,null,null,null,null,null,null,13,0,0,null,""]
[null,null,null,null,null,null,null,13,0,0,null,""]
[null,null,null,null,null,null,null,13,0,0,null,""]
[null,null,null,null,null,null,null,13,0,0,null,""]
[null,null,null,null,null,null,null,13,0,0,null,""]
[null,null,null,null,null,null,null,13,0,0,null,""]
[null,null,null,null,null,null,null,13,0,0,null,""]
[null,null,null,null,null,null,null,13,0,0,null,""]
[null,null,null,null,null,null,null,13,0,0,null,""]
[null,null,null,null,null,null,null,13,0,0,null,""]
[null,null,null,null,null,null,null,13,0,0,null,""]
[null,null,null,null,null,null,null,13,0,0,null,""]
[null,null,null,null,null,null,null,13,0,0,null,""]
[null,null,null,null,null,null,null,13,0,0,null,""]
[null,null,null,null,null,null,null,13,0,0,null,""]
[null,null,null,null,null,null,null,13,0,0,null,""]
[null,null,null,null,null,null,null,13,0,0,null,""]
[null,null,null,null,null,null,null,13,0,0,null,""]
[null,null,null,null,null,null,null,13,0,0,null,""]
[null,null,null,null,null,null,null,13,0,0,null,""]
[null,null,null,null,null,null,null,13,0,0,null,""]
[null,null,null,null,null,null,null,13,0,0,null,""]
[null,null,null,null,null,null,null,13,0,0,null,""]
[null,null,null,null,null,null,null,13,0,0,null,""]
[null,null,null,null,null,null,null,13,0,0,null,""]
[null,null,null,null,null,null,null,13,0,0,null,""]
[null,null,null,null,null,null,null,13,0,0,null,""]
[null,null,null,null,null,null,null,13,0,0,null,""]
[null,null,null,null,null,null,null,13,0,0,null,""]
[null,null,null,null,null,null,null,13,0,0,null,""]
[null,null,null,null,null,null,null,13,0,0,null,""]
[null,null,null,null,null,null,null,13,0,0,null,""]
[null,null,null,null,null,null,null,13,0,0,null,""]
[null,null,null,null,null,null,null,13,0,0,null,""]
[null,null,null,null,null,null,null,13,0,0,null,""]
[null,null,null,null,null,null,null,13,0,0,null,""]
[null,null,null,null,null,null,null,13,0,0,null,""]
[null,null,null,null,null,null,null,13,0,0,null,""]
[null,null,null,null,null,null,null,13,0,0,null,""]
[null,null,null,null,null,null,null,13,0,0,null,""]
[null,null,null,null,null,null,null,13,0,0,null,""]
[null,null,null,null,null,null,null,13,0,0,null,""]
[null,null,null,null,null,null,null,13,0,0,null,""]
[null,null,null,null,null,null,null,13,0,0,null,""]
[null,null,null,null,null,null,null,13,0,0,null,""]
[null,null,null,null,null,null,null,13,0,0,null,""]
[null,null,null,null,null,null,null,13,0,0,null,""]
[null,null,null,null,null,null,null,{"$f":"12-G1178+1","v":13},{"$f":"IF(E1178<250.01,E1178,E1178/5)","v":0},{"$f":"IF($E1178<800.01,$E1178,$E1178/$F1178/12*$H1178)","v":0},null,{"$f":"IF(AND(E1178>800,G1178=0),\"Anschaffungsmonat fehlt!\",\"\")","v":""}]
[null,null,null,null,null,null,null,13,0,0,null,""]
[null,null,null,null,null,null,null,13,0,0,null,""]
[null,null,null,null,null,null,null,13,0,0,null,""]
[null,null,null,null,null,null,null,13,0,0,null,""]
[null,null,null,null,null,null,null,13,0,0,null,""]
[null,null,null,null,null,null,null,13,0,0,null,""]
[null,null,null,null,null,null,null,13,0,0,null,""]
[null,null,null,null,null,null,null,13,0,0,null,""]
[null,null,null,null,null,null,null,13,0,0,null,""]
[null,null,null,null,null,null,null,13,0,0,null,""]
[null,null,null,null,null,null,null,13,0,0,null,""]
[null,null,null,null,null,null,null,13,0,0,null,""]
[null,null,null,null,null,null,null,13,0,0,null,""]
[null,null,null,null,null,null,null,13,0,0,null,""]
[null,null,null,null,null,null,null,13,0,0,null,""]
[null,null,null,null,null,null,null,13,0,0,null,""]
[null,null,null,null,null,null,null,13,0,0,null,""]
[null,null,null,null,null,null,null,13,0,0,null,""]
[null,null,null,null,null,null,null,13,0,0,null,""]
[null,null,null,null,null,null,null,13,0,0,null,""]
[null,null,null,null,null,null,null,13,0,0,null,""]
[null,null,null,null,null,null,null,13,0,0,null,""]
[null,null,null,null,null,null,null,13,0,0,null,""]
[null,null,null,null,null,null,null,13,0,0,null,""]
[null,null,null,null,null,null,null,13,0,0,null,""]
[null,null,null,null,null,null,null,13,0,0,null,""]
[null,null,null,null,null,null,null,13,0,0,null,""]
[null,null,null,null,null,null,null,13,0,0,null,""]
[null,null,null,null,null,null,null,13,0,0,null,""]
[null,null,null,null,null,null,null,13,0,0,null,""]
[null,null,null,null,null,null,null,13,0,0,null,""]
[null,null,null,null,null,null,null,13,0,0,null,""]
[null,null,null,null,null,null,null,13,0,0,null,""]
[null,null,null,null,null,null,null,13,0,0,null,""]
[null,null,null,null,null,null,null,13,0,0,null,""]
[null,null,null,null,null,null,null,13,0,0,null,""]
[null,null,null,null,null,null,null,13,0,0,null,""]
[null,null,null,null,null,null,null,13,0,0,null,""]
[null,null,null,null,null,null,null,13,0,0,null,""]
[null,null,null,null,null,null,null,13,0,0,null,""]
[null,null,null,null,null,null,null,13,0,0,null,""]
[null,null,null,null,null,null,null,13,0,0,null,""]
[null,null,null,null,null,null,null,13,0,0,null,""]
[null,null,null,null,null,null,null,13,0,0,null,""]
[null,null,null,null,null,null,null,13,0,0,null,""]
[null,null,null,null,null,null,null,13,0,0,null,""]
[null,null,null,null,null,null,null,13,0,0,null,""]
[null,null,null,null,null,null,null,13,0,0,null,""]
[null,null,null,null,null,null,null,13,0,0,null,""]
[null,null,null,null,null,null,null,13,0,0,null,""]
[null,null,null,null,null,null,null,13,0,0,null,""]
[null,null,null,null,null,null,null,13,0,0,null,""]
[null,null,null,null,null,null,null,13,0,0,null,""]
[null,null,null,null,null,null,null,13,0,0,null,""]
[null,null,null,null,null,null,null,13,0,0,null,""]
[null,null,null,null,null,null,null,13,0,0,null,""]
[null,null,null,null,null,null,null,13,0,0,null,""]
[null,null,null,null,null,null,null,13,0,0,null,""]
[null,null,null,null,null,null,null,13,0,0,null,""]
[null,null,null,null,null,null,null,13,0,0,null,""]
[null,null,null,null,null,null,null,13,0,0,null,""]
[null,null,null,null,null,null,null,13,0,0,null,""]
[null,null,null,null,null,null,null,13,0,0,null,""]
[null,null,null,null,null,null,null,{"$f":"12-G1242+1","v":13},{"$f":"IF(E1242<250.01,E1242,E1242/5)","v":0},{"$f":"IF($E1242<800.01,$E1242,$E1242/$F1242/12*$H1242)","v":0},null,{"$f":"IF(AND(E1242>800,G1242=0),\"Anschaffungsmonat fehlt!\",\"\")","v":""}]
[null,null,null,null,null,null,null,13,0,0,null,""]
[null,null,null,null,null,null,null,13,0,0,null,""]
[null,null,null,null,null,null,null,13,0,0,null,""]
[null,null,null,null,null,null,null,13,0,0,null,""]
[null,null,null,null,null,null,null,13,0,0,null,""]
[null,null,null,null,null,null,null,13,0,0,null,""]
[null,null,null,null,null,null,null,13,0,0,null,""]
[null,null,null,null,null,null,null,13,0,0,null,""]
[null,null,null,null,null,null,null,13,0,0,null,""]
[null,null,null,null,null,null,null,13,0,0,null,""]
[null,null,null,null,null,null,null,13,0,0,null,""]
[null,null,null,null,null,null,null,13,0,0,null,""]
[null,null,null,null,null,null,null,13,0,0,null,""]
[null,null,null,null,null,null,null,13,0,0,null,""]
[null,null,null,null,null,null,null,13,0,0,null,""]
[null,null,null,null,null,null,null,13,0,0,null,""]
[null,null,null,null,null,null,null,13,0,0,null,""]
[null,null,null,null,null,null,null,13,0,0,null,""]
[null,null,null,null,null,null,null,13,0,0,null,""]
[null,null,null,null,null,null,null,13,0,0,null,""]
[null,null,null,null,null,null,null,13,0,0,null,""]
[null,null,null,null,null,null,null,13,0,0,null,""]
[null,null,null,null,null,null,null,13,0,0,null,""]
[null,null,null,null,null,null,null,13,0,0,null,""]
[null,null,null,null,null,null,null,13,0,0,null,""]
[null,null,null,null,null,null,null,13,0,0,null,""]
[null,null,null,null,null,null,null,13,0,0,null,""]
[null,null,null,null,null,null,null,13,0,0,null,""]
[null,null,null,null,null,null,null,13,0,0,null,""]
[null,null,null,null,null,null,null,13,0,0,null,""]
[null,null,null,null,null,null,null,13,0,0,null,""]
[null,null,null,null,null,null,null,13,0,0,null,""]
[null,null,null,null,null,null,null,13,0,0,null,""]
[null,null,null,null,null,null,null,13,0,0,null,""]
[null,null,null,null,null,null,null,13,0,0,null,""]
[null,null,null,null,null,null,null,13,0,0,null,""]
[null,null,null,null,null,null,null,13,0,0,null,""]
[null,null,null,null,null,null,null,13,0,0,null,""]
[null,null,null,null,null,null,null,13,0,0,null,""]
[null,null,null,null,null,null,null,13,0,0,null,""]
[null,null,null,null,null,null,null,13,0,0,null,""]
[null,null,null,null,null,null,null,13,0,0,null,""]
[null,null,null,null,null,null,null,13,0,0,null,""]
[null,null,null,null,null,null,null,13,0,0,null,""]
[null,null,null,null,null,null,null,13,0,0,null,""]
[null,null,null,null,null,null,null,13,0,0,null,""]
[null,null,null,null,null,null,null,13,0,0,null,""]
[null,null,null,null,null,null,null,13,0,0,null,""]
[null,null,null,null,null,null,null,13,0,0,null,""]
[null,null,null,null,null,null,null,13,0,0,null,""]
[null,null,null,null,null,null,null,13,0,0,null,""]
[null,null,null,null,null,null,null,13,0,0,null,""]
[null,null,null,null,null,null,null,13,0,0,null,""]
[null,null,null,null,null,null,null,13,0,0,null,""]
[null,null,null,null,null,null,null,13,0,0,null,""]
[null,null,null,null,null,null,null,13,0,0,null,""]
[null,null,null,null,null,null,null,13,0,0,null,""]
[null,null,null,null,null,null,null,13,0,0,null,""]
[null,null,null,null,null,null,null,13,0,0,null,""]
[null,null,null,null,null,null,null,13,0,0,null,""]
[null,null,null,null,null,null,null,13,0,0,null,""]
[null,null,null,null,null,null,null,13,0,0,null,""]
[null,null,null,null,null,null,null,13,0,0,null,""]
[null,null,null,null,null,null,null,{"$f":"12-G1306+1","v":13},{"$f":"IF(E1306<250.01,E1306,E1306/5)","v":0},{"$f":"IF($E1306<800.01,$E1306,$E1306/$F1306/12*$H1306)","v":0},null,{"$f":"IF(AND(E1306>800,G1306=0),\"Anschaffungsmonat fehlt!\",\"\")","v":""}]
[null,null,null,null,null,null,null,13,0,0,null,""]
[null,null,null,null,null,null,null,13,0,0,null,""]
[null,null,null,null,null,null,null,13,0,0,null,""]
[null,null,null,null,null,null,null,13,0,0,null,""]
[null,null,null,null,null,null,null,13,0,0,null,""]
[null,null,null,null,null,null,null,13,0,0,null,""]
[null,null,null,null,null,null,null,13,0,0,null,""]
[null,null,null,null,null,null,null,13,0,0,null,""]
[null,null,null,null,null,null,null,13,0,0,null,""]
[null,null,null,null,null,null,null,13,0,0,null,""]
[null,null,null,null,null,null,null,13,0,0,null,""]
[null,null,null,null,null,null,null,13,0,0,null,""]
[null,null,null,null,null,null,null,13,0,0,null,""]
[null,null,null,null,null,null,null,13,0,0,null,""]
[null,null,null,null,null,null,null,13,0,0,null,""]
[null,null,null,null,null,null,null,13,0,0,null,""]
[null,null,null,null,null,null,null,13,0,0,null,""]
[null,null,null,null,null,null,null,13,0,0,null,""]
[null,null,null,null,null,null,null,13,0,0,null,""]
[null,null,null,null,null,null,null,13,0,0,null,""]
[null,null,null,null,null,null,null,13,0,0,null,""]
[null,null,null,null,null,null,null,13,0,0,null,""]
[null,null,null,null,null,null,null,13,0,0,null,""]
[null,null,null,null,null,null,null,13,0,0,null,""]
[null,null,null,null,null,null,null,13,0,0,null,""]
[null,null,null,null,null,null,null,13,0,0,null,""]
[null,null,null,null,null,null,null,13,0,0,null,""]
[null,null,null,null,null,null,null,13,0,0,null,""]
[null,null,null,null,null,null,null,13,0,0,null,""]
[null,null,null,null,null,null,null,13,0,0,null,""]
[null,null,null,null,null,null,null,13,0,0,null,""]
[null,null,null,null,null,null,null,13,0,0,null,""]
[null,null,null,null,null,null,null,13,0,0,null,""]
[null,null,null,null,null,null,null,13,0,0,null,""]
[null,null,null,null,null,null,null,13,0,0,null,""]
[null,null,null,null,null,null,null,13,0,0,null,""]
[null,null,null,null,null,null,null,13,0,0,null,""]
[null,null,null,null,null,null,null,13,0,0,null,""]
[null,null,null,null,null,null,null,13,0,0,null,""]
[null,null,null,null,null,null,null,13,0,0,null,""]
[null,null,null,null,null,null,null,13,0,0,null,""]
[null,null,null,null,null,null,null,13,0,0,null,""]
[null,null,null,null,null,null,null,13,0,0,null,""]
[null,null,null,null,null,null,null,13,0,0,null,""]
[null,null,null,null,null,null,null,13,0,0,null,""]
[null,null,null,null,null,null,null,13,0,0,null,""]
[null,null,null,null,null,null,null,13,0,0,null,""]
[null,null,null,null,null,null,null,13,0,0,null,""]
[null,null,null,null,null,null,null,13,0,0,null,""]
[null,null,null,null,null,null,null,13,0,0,null,""]
[null,null,null,null,null,null,null,13,0,0,null,""]
[null,null,null,null,null,null,null,13,0,0,null,""]
[null,null,null,null,null,null,null,13,0,0,null,""]
[null,null,null,null,null,null,null,13,0,0,null,""]
[null,null,null,null,null,null,null,13,0,0,null,""]
[null,null,null,null,null,null,null,13,0,0,null,""]
[null,null,null,null,null,null,null,13,0,0,null,""]
[null,null,null,null,null,null,null,13,0,0,null,""]
[null,null,null,null,null,null,null,13,0,0,null,""]
[null,null,null,null,null,null,null,13,0,0,null,""]
[null,null,null,null,null,null,null,13,0,0,null,""]
[null,null,null,null,null,null,null,13,0,0,null,""]
[null,null,null,null,null,null,null,13,0,0,null,""]
[null,null,null,null,null,null,null,{"$f":"12-G1370+1","v":13},{"$f":"IF(E1370<250.01,E1370,E1370/5)","v":0},{"$f":"IF($E1370<800.01,$E1370,$E1370/$F1370/12*$H1370)","v":0},null,{"$f":"IF(AND(E1370>800,G1370=0),\"Anschaffungsmonat fehlt!\",\"\")","v":""}]
[null,null,null,null,null,null,null,13,0,0,null,""]
[null,null,null,null,null,null,null,13,0,0,null,""]
[null,null,null,null,null,null,null,13,0,0,null,""]
[null,null,null,null,null,null,null,13,0,0,null,""]
[null,null,null,null,null,null,null,13,0,0,null,""]
[null,null,null,null,null,null,null,13,0,0,null,""]
[null,null,null,null,null,null,null,13,0,0,null,""]
[null,null,null,null,null,null,null,13,0,0,null,""]
[null,null,null,null,null,null,null,13,0,0,null,""]
[null,null,null,null,null,null,null,13,0,0,null,""]
[null,null,null,null,null,null,null,13,0,0,null,""]
[null,null,null,null,null,null,null,13,0,0,null,""]
[null,null,null,null,null,null,null,null,null,null,null,""]
[null,null,null,null,null,null,null,null,null,null,null,""]
[null,null,null,null,null,null,null,null,null,null,null,""]
[null,null,null,null,null,null,null,null,null,null,null,""]
[null,null,null,null,null,null,null,null,null,null,null,""]
[null,null,null,null,null,null,null,null,null,null,null,""]
[null,null,null,null,null,null,null,null,null,null,null,""]
[null,null,null,null,null,null,null,null,null,null,null,""]
[null,null,null,null,null,null,null,null,null,null,null,""]
[null,null,null,null,null,null,null,null,null,null,null,""]
[null,null,null,null,null,null,null,null,null,null,null,""]
[null,null,null,null,null,null,null,null,null,null,null,""]
[null,null,null,null,null,null,null,null,null,null,null,""]
[null,null,null,null,null,null,null,null,null,null,null,""]
[null,null,null,null,null,null,null,null,null,null,null,""]
[null,null,null,null,null,null,null,null,null,null,null,""]
[null,null,null,null,null,null,null,null,null,null,null,""]
[null,null,null,null,null,null,null,null,null,null,null,""]
[null,null,null,null,null,null,null,null,null,null,null,""]
[null,null,null,null,null,null,null,null,null,null,null,""]
[null,null,null,null,null,null,null,null,null,null,null,""]
[null,null,null,null,null,null,null,null,null,null,null,""]
[null,null,null,null,null,null,null,null,null,null,null,""]
[null,null,null,null,null,null,null,null,null,null,null,""]
[null,null,null,null,null,null,null,null,null,null,null,""]
[null,null,null,null,null,null,null,null,null,null,null,""]
[null,null,null,null,null,null,null,null,null,null,null,""]
[null,null,null,null,null,null,null,null,null,null,null,""]
[null,null,null,null,null,null,null,null,null,null,null,""]
[null,null,null,null,null,null,null,null,null,null,null,""]
[null,null,null,null,null,null,null,null,null,null,null,""]
[null,null,null,null,null,null,null,null,null,null,null,""]
[null,null,null,null,null,null,null,null,null,null,null,""]
[null,null,null,null,null,null,null,null,null,null,null,""]
[null,null,null,null,null,null,null,null,null,null,null,""]
[null,null,null,null,null,null,null,null,null,null,null,""]
[null,null,null,null,null,null,null,null,null,null,null,""]
[null,null,null,null,null,null,null,null,null,null,null,""]
[null,null,null,null,null,null,null,null,null,null,null,""]
[null,null,null,null,null,null,null,null,null,null,null,""]
[null,null,null,null,null,null,null,null,null,null,null,""]
[null,null,null,null,null,null,null,null,null,null,null,""]
[null,null,null,null,null,null,null,null,null,null,null,""]
[null,null,null,null,null,null,null,null,null,null,null,""]
[null,null,null,null,null,null,null,null,null,null,null,""]
[null,null,null,null,null,null,null,null,null,null,null,""]
[null,null,null,null,null,null,null,null,null,null,null,""]
[null,null,null,null,null,null,null,null,null,null,null,""]
[null,null,null,null,null,null,null,null,null,null,null,""]
[null,null,null,null,null,null,null,null,null,null,null,""]
[null,null,null,null,null,null,null,null,null,null,null,""]
[null,null,null,null,null,null,null,null,null,null,null,{"$f":"IF(AND(E1434>800,G1434=0),\"Anschaffungsmonat fehlt!\",\"\")","v":""}]
[null,null,null,null,null,null,null,null,null,null,null,""]
[null,null,null,null,null,null,null,null,null,null,null,""]
[null,null,null,null,null,null,null,null,null,null,null,""]
[null,null,null,null,null,null,null,null,null,null,null,""]
[null,null,null,null,null,null,null,null,null,null,null,""]
[null,null,null,null,null,null,null,null,null,null,null,""]
[null,null,null,null,null,null,null,null,null,null,null,""]
[null,null,null,null,null,null,null,null,null,null,null,""]
[null,null,null,null,null,null,null,null,null,null,null,""]
[null,null,null,null,null,null,null,null,null,null,null,""]
[null,null,null,null,null,null,null,null,null,null,null,""]
[null,null,null,null,null,null,null,null,null,null,null,""]
[null,null,null,null,null,null,null,null,null,null,null,""]
[null,null,null,null,null,null,null,null,null,null,null,""]
[null,null,null,null,null,null,null,null,null,null,null,""]
[null,null,null,null,null,null,null,null,null,null,null,""]
[null,null,null,null,null,null,null,null,null,null,null,""]
[null,null,null,null,null,null,null,null,null,null,null,""]
[null,null,null,null,null,null,null,null,null,null,null,""]
[null,null,null,null,null,null,null,null,null,null,null,""]
[null,null,null,null,null,null,null,null,null,null,null,""]
[null,null,null,null,null,null,null,null,null,null,null,""]
[null,null,null,null,null,null,null,null,null,null,null,""]
[null,null,null,null,null,null,null,null,null,null,null,""]
[null,null,null,null,null,null,null,null,null,null,null,""]
[null,null,null,null,null,null,null,null,null,null,null,""]
[null,null,null,null,null,null,null,null,null,null,null,""]
[null,null,null,null,null,null,null,null,null,null,null,""]
[null,null,null,null,null,null,null,null,null,null,null,""]
[null,null,null,null,null,null,null,null,null,null,null,""]
[null,null,null,null,null,null,null,null,null,null,null,""]
[null,null,null,null,null,null,null,null,null,null,null,""]
[null,null,null,null,null,null,null,null,null,null,null,""]
[null,null,null,null,null,null,null,null,null,null,null,""]
[null,null,null,null,null,null,null,null,null,null,null,""]
[null,null,null,null,null,null,null,null,null,null,null,""]
[null,null,null,null,null,null,null,null,null,null,null,""]
[null,null,null,null,null,null,null,null,null,null,null,""]
[null,null,null,null,null,null,null,null,null,null,null,""]
[null,null,null,null,null,null,null,null,null,null,null,""]
[null,null,null,null,null,null,null,null,null,null,null,""]
[null,null,null,null,null,null,null,null,null,null,null,""]
[null,null,null,null,null,null,null,null,null,null,null,""]
[null,null,null,null,null,null,null,null,null,null,null,""]
[null,null,null,null,null,null,null,null,null,null,null,""]
[null,null,null,null,null,null,null,null,null,null,null,""]
[null,null,null,null,null,null,null,null,null,null,null,""]
[null,null,null,null,null,null,null,null,null,null,null,""]
[null,null,null,null,null,null,null,null,null,null,null,""]
[null,null,null,null,null,null,null,null,null,null,null,""]
[null,null,null,null,null,null,null,null,null,null,null,""]
[null,null,null,null,null,null,null,null,null,null,null,""]
[null,null,null,null,null,null,null,null,null,null,null,""]
[null,null,null,null,null,null,null,null,null,null,null,""]
[null,null,null,null,null,null,null,null,null,null,null,""]
[null,null,null,null,null,null,null,null,null,null,null,""]
[null,null,null,null,null,null,null,null,null,null,null,""]
[null,null,null,null,null,null,null,null,null,null,null,""]
[null,null,null,null,null,null,null,null,null,null,null,""]
[null,null,null,null,null,null,null,null,null,null,null,""]
[null,null,null,null,null,null,null,null,null,null,null,""]
[null,null,null,null,null,null,null,null,null,null,null,""]
[null,null,null,null,null,null,null,null,null,null,null,""]
[null,null,null,null,null,null,null,null,null,null,null,{"$f":"IF(AND(E1498>800,G1498=0),\"Anschaffungsmonat fehlt!\",\"\")","v":""}]
[null,null,null,null,null,null,null,null,null,null,null,""]
[null,null,null,null,null,null,null,null,null,null,null,""]
[null,null,null,null,null,null,null,null,null,null,null,""]
[null,null,null,null,null,null,null,null,null,null,null,""]
[null,null,null,null,null,null,null,null,null,null,null,""]
[null,null,null,null,null,null,null,null,null,null,null,""]
[null,null,null,null,null,null,null,null,null,null,null,""]
[null,null,null,null,null,null,null,null,null,null,null,""]
[null,null,null,null,null,null,null,null,null,null,null,""]
[null,null,null,null,null,null,null,null,null,null,null,""]
[null,null,null,null,null,null,null,null,null,null,null,""]
[null,null,null,null,null,null,null,null,null,null,null,""]
[null,null,null,null,null,null,null,null,null,null,null,""]
[null,null,null,null,null,null,null,null,null,null,null,""]
[null,null,null,null,null,null,null,null,null,null,null,""]
[null,null,null,null,null,null,null,null,null,null,null,""]
[null,null,null,null,null,null,null,null,null,null,null,""]
[null,null,null,null,null,null,null,null,null,null,null,""]
[null,null,null,null,null,null,null,null,null,null,null,""]
[null,null,null,null,null,null,null,null,null,null,null,""]
[null,null,null,null,null,null,null,null,null,null,null,""]
[null,null,null,null,null,null,null,null,null,null,null,""]
[null,null,null,null,null,null,null,null,null,null,null,""]
[null,null,null,null,null,null,null,null,null,null,null,""]
[null,null,null,null,null,null,null,null,null,null,null,""]
[null,null,null,null,null,null,null,null,null,null,null,""]
[null,null,null,null,null,null,null,null,null,null,null,""]
[null,null,null,null,null,null,null,null,null,null,null,""]
[null,null,null,null,null,null,null,null,null,null,null,""]
[null,null,null,null,null,null,null,null,null,null,null,""]
[null,null,null,null,null,null,null,null,null,null,null,""]
[null,null,null,null,null,null,null,null,null,null,null,""]
[null,null,null,null,null,null,null,null,null,null,null,""]
[null,null,null,null,null,null,null,null,null,null,null,""]
[null,null,null,null,null,null,null,null,null,null,null,""]
[null,null,null,null,null,null,null,null,null,null,null,""]
[null,null,null,null,null,null,null,null,null,null,null,""]
[null,null,null,null,null,null,null,null,null,null,null,""]
[null,null,null,null,null,null,null,null,null,null,null,""]
[null,null,null,null,null,null,null,null,null,null,null,""]
[null,null,null,null,null,null,null,null,null,null,null,""]
[null,null,null,null,null,null,null,null,null,null,null,""]
[null,null,null,null,null,null,null,null,null,null,null,""]
[null,null,null,null,null,null,null,null,null,null,null,""]
[null,null,null,null,null,null,null,null,null,null,null,""]
[null,null,null,null,null,null,null,null,null,null,null,""]
[null,null,null,null,null,null,null,null,null,null,null,""]
[null,null,null,null,null,null,null,null,null,null,null,""]
[null,null,null,null,null,null,null,null,null,null,null,""]
[null,null,null,null,null,null,null,null,null,null,null,""]
[null,null,null,null,null,null,null,null,null,null,null,""]
[null,null,null,null,null,null,null,null,null,null,null,""]
[null,null,null,null,null,null,null,null,null,null,null,""]
[null,null,null,null,null,null,null,null,null,null,null,""]
[null,null,null,null,null,null,null,null,null,null,null,""]
[null,null,null,null,null,null,null,null,null,null,null,""]
[null,null,null,null,null,null,null,null,null,null,null,""]
[null,null,null,null,null,null,null,null,null,null,null,""]
[null,null,null,null,null,null,null,null,null,null,null,""]
[null,null,null,null,null,null,null,null,null,null,null,""]
[null,null,null,null,null,null,null,null,null,null,null,""]
[null,null,null,null,null,null,null,null,null,null,null,""]
[null,null,null,null,null,null,null,null,null,null,null,""]
[null,null,null,null,null,null,null,null,null,null,null,{"$f":"IF(AND(E1562>800,G1562=0),\"Anschaffungsmonat fehlt!\",\"\")","v":""}]
[null,null,null,null,null,null,null,null,null,null,null,""]
[null,null,null,null,null,null,null,null,null,null,null,""]
[null,null,null,null,null,null,null,null,null,null,null,""]
[null,null,null,null,null,null,null,null,null,null,null,""]
[null,null,null,null,null,null,null,null,null,null,null,""]
[null,null,null,null,null,null,null,null,null,null,null,""]
[null,null,null,null,null,null,null,null,null,null,null,""]
[null,null,null,null,null,null,null,null,null,null,null,""]
[null,null,null,null,null,null,null,null,null,null,null,""]
[null,null,null,null,null,null,null,null,null,null,null,""]
[null,null,null,null,null,null,null,null,null,null,null,""]
[null,null,null,null,null,null,null,null,null,null,null,""]
[null,null,null,null,null,null,null,null,null,null,null,""]
[null,null,null,null,null,null,null,null,null,null,null,""]
[null,null,null,null,null,null,null,null,null,null,null,""]
[null,null,null,null,null,null,null,null,null,null,null,""]
[null,null,null,null,null,null,null,null,null,null,null,""]
[null,null,null,null,null,null,null,null,null,null,null,""]
[null,null,null,null,null,null,null,null,null,null,null,""]
[null,null,null,null,null,null,null,null,null,null,null,""]
[null,null,null,null,null,null,null,null,null,null,null,""]
[null,null,null,null,null,null,null,null,null,null,null,""]
[null,null,null,null,null,null,null,null,null,null,null,""]
[null,null,null,null,null,null,null,null,null,null,null,""]
[null,null,null,null,null,null,null,null,null,null,null,""]
[null,null,null,null,null,null,null,null,null,null,null,""]
[null,null,null,null,null,null,null,null,null,null,null,""]
[null,null,null,null,null,null,null,null,null,null,null,""]
[null,null,null,null,null,null,null,null,null,null,null,""]
[null,null,null,null,null,null,null,null,null,null,null,""]
[null,null,null,null,null,null,null,null,null,null,null,""]
[null,null,null,null,null,null,null,null,null,null,null,""]
[null,null,null,null,null,null,null,null,null,null,null,""]
[null,null,null,null,null,null,null,null,null,null,null,""]
[null,null,null,null,null,null,null,null,null,null,null,""]
[null,null,null,null,null,null,null,null,null,null,null,""]
[null,null,null,null,null,null,null,null,null,null,null,""]
[null,null,null,null,null,null,null,null,null,null,null,""]
[null,null,null,null,null,null,null,null,null,null,null,""]
[null,null,null,null,null,null,null,null,null,null,null,""]
[null,null,null,null,null,null,null,null,null,null,null,""]
[null,null,null,null,null,null,null,null,null,null,null,""]
[null,null,null,null,null,null,null,null,null,null,null,""]
[null,null,null,null,null,null,null,null,null,null,null,""]
[null,null,null,null,null,null,null,null,null,null,null,""]
[null,null,null,null,null,null,null,null,null,null,null,""]
[null,null,null,null,null,null,null,null,null,null,null,""]
[null,null,null,null,null,null,null,null,null,null,null,""]
[null,null,null,null,null,null,null,null,null,null,null,""]
[]
[]
[]
[]
[]
[]
[]
[]
[]
[]
[]
[]
[]
[]
[]
[]
[]
[]
[]
[]
[]
[]
[]
[]
[]
[]
[]
[]
[]
[]
[]
[]
[]
[]
[]
[]
[]
[]
[]
[]
[]
[]
[]
[]
[]
[]
[]
[]
[]
[]
[]
[]
[]
[]
[]
[]
[]
[]
[]
[]
[]
[]
[]
[]
[]
[]
[]
[]
[]
[]
[]
[]
[]
[]
[]
[]
[]
[]
[]
[]
[]
[]
[]
[]
[]
[]
[]
[]
[]
[]
[]
[]
[]
[]
[]
[]
[]
[]
[]
[]
[]
[]
[]
[]
[]
[]
[]
[]
[]
[]
[]
[]
[]
[]
[]
[]
[]
[]
[]
[]
[]
[]
[]
[]
[]
[]
[]
[]
[]
[]
[]
[]
[]
[]
[]
[]
[]
[]
[]
[]
[]
[]
[]
[]
[]
[]
[]
[]
[]
[]
[]
[]
[]
[]
[]
[]
[]
[]
[]
[]
[]
[]
[]
[]
[]
[]
[]
[]
[]
[]
[]
[]
[]
[]
[]
[]
[]
[]
[]
[]
[]
[]
[]
[]
[]
[]
[]
[]
[]
[]
[]
[]
[]
[]
[]
[]
[]
[]
[]
[]
[]
[]
[]
[]
[]
[]
[]
[]
[]
[]
[]
[]
[]
[]
[]
[]
[]
[]
[]
[]
[]
[]
[]
[]
[]
[]
[]
[]
[]
[]
[]
[]
[]
[]
[]
[]
[]
[]
[]
[]
[]
[]
[]
[]
[]
[]
[]
[]
[]
[]
[]
[]
[]
[]
[]
[]
[]
[]
[]
[]
[]
[]
[]
[]
[]
[]
[]
[]
[]
[]
[]
[]
[]
[]
[]
[]
[]
[]
[]
[]
[]
[]
[]
[]
[]
[]
[]
[]
[]
[]
[]
[]
[]
[]
[]
[]
[]
[]
[]
[]
[]
[]
[]
[]
[]
[]
[]
[]
[]
[]
[]
[]
[]
[]
[]
[]
[]
[]
[]
[]
[]
[]
[]
[]
[]
[]
[]
[]
[]
[]
[]
[]
[]
[]
[]
[]
[]
[]
[]
[]
[]
[]
[]
[]
[]
[]
[]
[]
[]
[]
[]
[]
[]
[]
[]
[]
[]
[]
[]
[]
[]
[]
[]
[]
[]
[]
[]
[]
[]
[]
[]
[]
[]
[]
[]
[]
[]
[]
[]
[]
[]
[]
[]
[]
[]
[]
[]
[]
[]
[]
[]
[]
[]
[]
[]
[]
[]
[]
[]
[]
[]
[]
[]
[]
[]
[]
[]
[]
[]
[]
[]
[]
[]
[]
[]
[]
[]
[]
[]
[]
[]
[]
[]
[]
[]
[]
[]
[]
[]
[]
[]
[]
[]
[]
[]
[]
[]
[]
[]
[]
[]
[]
[]
[]
[null,null,null,"Schreiben"]
[null,null,null,"Fax"]
[null,null,null,"E-Mail"]
[null,null,null,"Sonstiges"]

{"sheet":"DegressiveAbschreibung","index":3,"n_rows":2059,"n_cols":23,"rows_kept":2059,"cut":false,"hidden":false,"merged":[[0,2,2,11],[22,10,22,11]]}
[null,null,{"$f":"Startseite!B1","v":"Geringwertige Wirtschaftsgüter"}]
[null,null,null,null,null,null,null,null,null,null,null,null,null,null,null,null,null,null,null,null,null,null,"Schreiben"]
[null,null,null,null,null,null,null,null,null,null,null,null,null,null,null,null,null,null,null,null,null,null,"E-Mail"]
[null,null,null,null,null,null,null,null,null,null,null,null,null,null,null,null,null,null,null,null,null,null,"Fax"]
[null,null,null,null,null,null,null,null,null,null,null,null,null,null,null,null,null,null,null,null,null,null,"Sonstiges"]
[null,null,null,"Abschreibungsalternativen*)",null,null,null,null,null,null,null,"» Startseite"]
[]
[]
[null,null,null,"Poolabschreibung",{"$f":"SUM(K$25:K$1470)","v":0}]
[]
[null,null,null,"Sofortabschreibung",{"$f":"SUM(L$25:L$1470)","v":0}]
[]
[null,null,null,"Differenz Pool / Sofortabschreibung",{"$f":"+E9-E11","v":0}]
[]
[null,null,null,"Einfluss auf Steuer / Pool",{"$f":"IF($E$21=\"\",\"Keine Angabe\",E9*$E$21)","v":"Keine Angabe"}]
[]
[null,null,null,"Einfluss auf Steuer / Sofortabschreibung linear",{"$f":"IF($E$21=\"\",\"Keine Angabe\",E11*$E$21)","v":"Keine Angabe"}]
[]
[null,null,null,"Differenz Steuer  Pool / Sofortabschreibung",{"$f":"+E15-E17","v":0}]
[]
[null,null,null,"Steuersatz",{"$f":"'Lineare Abschreibung'!E21","v":0}]
[]
[null,null,null,null,null,null,"Nebenrechnung!",null,null,null,"Abschreibungsalternativen"]
[null,null,null,"Bezeichnung","Wert","Abschreibungs-\nzeitraum","Abschreibungssatz\nlinear","Abschreibungssatz\ndegressiv","Anschaffungs-\nmonat","ausblenden","Pool","Sofort"]
[null,null,null,{"$f":"'Lineare Abschreibung'!D25","v":0},{"$f":"'Lineare Abschreibung'!E25","v":0},{"$f":"'Lineare Abschreibung'!F25","v":0},{"$f":"IF(F25=0,0,1/F25)","v":0},{"$f":"IF(G25*2.5>25%,25%,G25*2.5)","v":0},{"$f":"'Lineare Abschreibung'!G25","v":0},{"$f":"12-I25+1","v":13},{"$f":"IF(E25<250.01,E25,E25/5)","v":0},{"$f":"IF($E25<800.01,$E25,$E25*H25/12*$J25)","v":0},null,{"$f":"IF(AND(E25>800,I25=0),\"Anschaffungsmonat fehlt!\",\"\")","v":""}]
[null,null,null,{"$f":"'Lineare Abschreibung'!D26","v":0},{"$f":"'Lineare Abschreibung'!E26","v":0},{"$f":"'Lineare Abschreibung'!F26","v":0},{"$f":"IF(F26=0,0,1/F26)","v":0},{"$f":"IF(G26*2.5>25%,25%,G26*2.5)","v":0},{"$f":"'Lineare Abschreibung'!G26","v":0},{"$f":"12-I26+1","v":13},{"$f":"IF(E26<250.01,E26,E26/5)","v":0},{"$f":"IF($E26<800.01,$E26,$E26*H26/12*$J26)","v":0},null,{"$f":"IF(AND(E26>800,I26=0),\"Anschaffungsmonat fehlt!\",\"\")","v":""}]
[null,null,null,{"$f":"'Lineare Abschreibung'!D27","v":0},{"$f":"'Lineare Abschreibung'!E27","v":0},{"$f":"'Lineare Abschreibung'!F27","v":0},0,0,{"$f":"'Lineare Abschreibung'!G27","v":0},13,0,0,null,""]
[null,null,null,{"$f":"'Lineare Abschreibung'!D28","v":0},{"$f":"'Lineare Abschreibung'!E28","v":0},{"$f":"'Lineare Abschreibung'!F28","v":0},0,0,{"$f":"'Lineare Abschreibung'!G28","v":0},13,0,0,null,""]
[null,null,null,{"$f":"'Lineare Abschreibung'!D29","v":0},{"$f":"'Lineare Abschreibung'!E29","v":0},{"$f":"'Lineare Abschreibung'!F29","v":0},0,0,{"$f":"'Lineare Abschreibung'!G29","v":0},13,0,0,null,""]
[null,null,null,{"$f":"'Lineare Abschreibung'!D30","v":0},{"$f":"'Lineare Abschreibung'!E30","v":0},{"$f":"'Lineare Abschreibung'!F30","v":0},0,0,{"$f":"'Lineare Abschreibung'!G30","v":0},13,0,0,null,""]
[null,null,null,{"$f":"'Lineare Abschreibung'!D31","v":0},{"$f":"'Lineare Abschreibung'!E31","v":0},{"$f":"'Lineare Abschreibung'!F31","v":0},0,0,{"$f":"'Lineare Abschreibung'!G31","v":0},13,0,0,null,""]
[null,null,null,{"$f":"'Lineare Abschreibung'!D32","v":0},{"$f":"'Lineare Abschreibung'!E32","v":0},{"$f":"'Lineare Abschreibung'!F32","v":0},0,0,{"$f":"'Lineare Abschreibung'!G32","v":0},13,0,0,null,""]
[null,null,null,{"$f":"'Lineare Abschreibung'!D33","v":0},{"$f":"'Lineare Abschreibung'!E33","v":0},{"$f":"'Lineare Abschreibung'!F33","v":0},0,0,{"$f":"'Lineare Abschreibung'!G33","v":0},13,0,0,null,""]
[null,null,null,{"$f":"'Lineare Abschreibung'!D34","v":0},{"$f":"'Lineare Abschreibung'!E34","v":0},{"$f":"'Lineare Abschreibung'!F34","v":0},0,0,{"$f":"'Lineare Abschreibung'!G34","v":0},13,0,0,null,""]
[null,null,null,{"$f":"'Lineare Abschreibung'!D35","v":0},{"$f":"'Lineare Abschreibung'!E35","v":0},{"$f":"'Lineare Abschreibung'!F35","v":0},0,0,{"$f":"'Lineare Abschreibung'!G35","v":0},13,0,0,null,""]
[null,null,null,{"$f":"'Lineare Abschreibung'!D36","v":0},{"$f":"'Lineare Abschreibung'!E36","v":0},{"$f":"'Lineare Abschreibung'!F36","v":0},0,0,{"$f":"'Lineare Abschreibung'!G36","v":0},13,0,0,null,""]
[null,null,null,{"$f":"'Lineare Abschreibung'!D37","v":0},{"$f":"'Lineare Abschreibung'!E37","v":0},{"$f":"'Lineare Abschreibung'!F37","v":0},0,0,{"$f":"'Lineare Abschreibung'!G37","v":0},13,0,0,null,""]
[null,null,null,{"$f":"'Lineare Abschreibung'!D38","v":0},{"$f":"'Lineare Abschreibung'!E38","v":0},{"$f":"'Lineare Abschreibung'!F38","v":0},0,0,{"$f":"'Lineare Abschreibung'!G38","v":0},13,0,0,null,""]
[null,null,null,{"$f":"'Lineare Abschreibung'!D39","v":0},{"$f":"'Lineare Abschreibung'!E39","v":0},{"$f":"'Lineare Abschreibung'!F39","v":0},0,0,{"$f":"'Lineare Abschreibung'!G39","v":0},13,0,0,null,""]
[null,null,null,{"$f":"'Lineare Abschreibung'!D40","v":0},{"$f":"'Lineare Abschreibung'!E40","v":0},{"$f":"'Lineare Abschreibung'!F40","v":0},0,0,{"$f":"'Lineare Abschreibung'!G40","v":0},13,0,0,null,""]
[null,null,null,{"$f":"'Lineare Abschreibung'!D41","v":0},{"$f":"'Lineare Abschreibung'!E41","v":0},{"$f":"'Lineare Abschreibung'!F41","v":0},0,0,{"$f":"'Lineare Abschreibung'!G41","v":0},13,0,0,null,""]
[null,null,null,{"$f":"'Lineare Abschreibung'!D42","v":0},{"$f":"'Lineare Abschreibung'!E42","v":0},{"$f":"'Lineare Abschreibung'!F42","v":0},0,0,{"$f":"'Lineare Abschreibung'!G42","v":0},13,0,0,null,""]
[null,null,null,{"$f":"'Lineare Abschreibung'!D43","v":0},{"$f":"'Lineare Abschreibung'!E43","v":0},{"$f":"'Lineare Abschreibung'!F43","v":0},0,0,{"$f":"'Lineare Abschreibung'!G43","v":0},13,0,0,null,""]
[null,null,null,{"$f":"'Lineare Abschreibung'!D44","v":0},{"$f":"'Lineare Abschreibung'!E44","v":0},{"$f":"'Lineare Abschreibung'!F44","v":0},0,0,{"$f":"'Lineare Abschreibung'!G44","v":0},13,0,0,null,""]
[null,null,null,{"$f":"'Lineare Abschreibung'!D45","v":0},{"$f":"'Lineare Abschreibung'!E45","v":0},{"$f":"'Lineare Abschreibung'!F45","v":0},0,0,{"$f":"'Lineare Abschreibung'!G45","v":0},13,0,0,null,""]
[null,null,null,{"$f":"'Lineare Abschreibung'!D46","v":0},{"$f":"'Lineare Abschreibung'!E46","v":0},{"$f":"'Lineare Abschreibung'!F46","v":0},0,0,{"$f":"'Lineare Abschreibung'!G46","v":0},13,0,0,null,""]
[null,null,null,{"$f":"'Lineare Abschreibung'!D47","v":0},{"$f":"'Lineare Abschreibung'!E47","v":0},{"$f":"'Lineare Abschreibung'!F47","v":0},0,0,{"$f":"'Lineare Abschreibung'!G47","v":0},13,0,0,null,""]
[null,null,null,{"$f":"'Lineare Abschreibung'!D48","v":0},{"$f":"'Lineare Abschreibung'!E48","v":0},{"$f":"'Lineare Abschreibung'!F48","v":0},0,0,{"$f":"'Lineare Abschreibung'!G48","v":0},13,0,0,null,""]
[null,null,null,{"$f":"'Lineare Abschreibung'!D49","v":0},{"$f":"'Lineare Abschreibung'!E49","v":0},{"$f":"'Lineare Abschreibung'!F49","v":0},0,0,{"$f":"'Lineare Abschreibung'!G49","v":0},13,0,0,null,""]
[null,null,null,{"$f":"'Lineare Abschreibung'!D50","v":0},{"$f":"'Lineare Abschreibung'!E50","v":0},{"$f":"'Lineare Abschreibung'!F50","v":0},0,0,{"$f":"'Lineare Abschreibung'!G50","v":0},13,0,0,null,""]
[null,null,null,{"$f":"'Lineare Abschreibung'!D51","v":0},{"$f":"'Lineare Abschreibung'!E51","v":0},{"$f":"'Lineare Abschreibung'!F51","v":0},0,0,{"$f":"'Lineare Abschreibung'!G51","v":0},13,0,0,null,""]
[null,null,null,{"$f":"'Lineare Abschreibung'!D52","v":0},{"$f":"'Lineare Abschreibung'!E52","v":0},{"$f":"'Lineare Abschreibung'!F52","v":0},0,0,{"$f":"'Lineare Abschreibung'!G52","v":0},13,0,0,null,""]
[null,null,null,{"$f":"'Lineare Abschreibung'!D53","v":0},{"$f":"'Lineare Abschreibung'!E53","v":0},{"$f":"'Lineare Abschreibung'!F53","v":0},0,0,{"$f":"'Lineare Abschreibung'!G53","v":0},13,0,0,null,""]
[null,null,null,{"$f":"'Lineare Abschreibung'!D54","v":0},{"$f":"'Lineare Abschreibung'!E54","v":0},{"$f":"'Lineare Abschreibung'!F54","v":0},0,0,{"$f":"'Lineare Abschreibung'!G54","v":0},13,0,0,null,""]
[null,null,null,{"$f":"'Lineare Abschreibung'!D55","v":0},{"$f":"'Lineare Abschreibung'!E55","v":0},{"$f":"'Lineare Abschreibung'!F55","v":0},0,0,{"$f":"'Lineare Abschreibung'!G55","v":0},13,0,0,null,""]
[null,null,null,{"$f":"'Lineare Abschreibung'!D56","v":0},{"$f":"'Lineare Abschreibung'!E56","v":0},{"$f":"'Lineare Abschreibung'!F56","v":0},0,0,{"$f":"'Lineare Abschreibung'!G56","v":0},13,0,0,null,""]
[null,null,null,{"$f":"'Lineare Abschreibung'!D57","v":0},{"$f":"'Lineare Abschreibung'!E57","v":0},{"$f":"'Lineare Abschreibung'!F57","v":0},0,0,{"$f":"'Lineare Abschreibung'!G57","v":0},13,0,0,null,""]
[null,null,null,{"$f":"'Lineare Abschreibung'!D58","v":0},{"$f":"'Lineare Abschreibung'!E58","v":0},{"$f":"'Lineare Abschreibung'!F58","v":0},0,0,{"$f":"'Lineare Abschreibung'!G58","v":0},13,0,0,null,""]
[null,null,null,{"$f":"'Lineare Abschreibung'!D59","v":0},{"$f":"'Lineare Abschreibung'!E59","v":0},{"$f":"'Lineare Abschreibung'!F59","v":0},0,0,{"$f":"'Lineare Abschreibung'!G59","v":0},13,0,0,null,""]
[null,null,null,{"$f":"'Lineare Abschreibung'!D60","v":0},{"$f":"'Lineare Abschreibung'!E60","v":0},{"$f":"'Lineare Abschreibung'!F60","v":0},0,0,{"$f":"'Lineare Abschreibung'!G60","v":0},13,0,0,null,""]
[null,null,null,{"$f":"'Lineare Abschreibung'!D61","v":0},{"$f":"'Lineare Abschreibung'!E61","v":0},{"$f":"'Lineare Abschreibung'!F61","v":0},0,0,{"$f":"'Lineare Abschreibung'!G61","v":0},13,0,0,null,""]
[null,null,null,{"$f":"'Lineare Abschreibung'!D62","v":0},{"$f":"'Lineare Abschreibung'!E62","v":0},{"$f":"'Lineare Abschreibung'!F62","v":0},0,0,{"$f":"'Lineare Abschreibung'!G62","v":0},13,0,0,null,""]
[null,null,null,{"$f":"'Lineare Abschreibung'!D63","v":0},{"$f":"'Lineare Abschreibung'!E63","v":0},{"$f":"'Lineare Abschreibung'!F63","v":0},0,0,{"$f":"'Lineare Abschreibung'!G63","v":0},13,0,0,null,""]
[null,null,null,{"$f":"'Lineare Abschreibung'!D64","v":0},{"$f":"'Lineare Abschreibung'!E64","v":0},{"$f":"'Lineare Abschreibung'!F64","v":0},0,0,{"$f":"'Lineare Abschreibung'!G64","v":0},13,0,0,null,""]
[null,null,null,{"$f":"'Lineare Abschreibung'!D65","v":0},{"$f":"'Lineare Abschreibung'!E65","v":0},{"$f":"'Lineare Abschreibung'!F65","v":0},0,0,{"$f":"'Lineare Abschreibung'!G65","v":0},13,0,0,null,""]
[null,null,null,{"$f":"'Lineare Abschreibung'!D66","v":0},{"$f":"'Lineare Abschreibung'!E66","v":0},{"$f":"'Lineare Abschreibung'!F66","v":0},0,0,{"$f":"'Lineare Abschreibung'!G66","v":0},13,0,0,null,""]
[null,null,null,{"$f":"'Lineare Abschreibung'!D67","v":0},{"$f":"'Lineare Abschreibung'!E67","v":0},{"$f":"'Lineare Abschreibung'!F67","v":0},0,0,{"$f":"'Lineare Abschreibung'!G67","v":0},13,0,0,null,""]
[null,null,null,{"$f":"'Lineare Abschreibung'!D68","v":0},{"$f":"'Lineare Abschreibung'!E68","v":0},{"$f":"'Lineare Abschreibung'!F68","v":0},0,0,{"$f":"'Lineare Abschreibung'!G68","v":0},13,0,0,null,""]
[null,null,null,{"$f":"'Lineare Abschreibung'!D69","v":0},{"$f":"'Lineare Abschreibung'!E69","v":0},{"$f":"'Lineare Abschreibung'!F69","v":0},0,0,{"$f":"'Lineare Abschreibung'!G69","v":0},13,0,0,null,""]
[null,null,null,{"$f":"'Lineare Abschreibung'!D70","v":0},{"$f":"'Lineare Abschreibung'!E70","v":0},{"$f":"'Lineare Abschreibung'!F70","v":0},0,0,{"$f":"'Lineare Abschreibung'!G70","v":0},13,0,0,null,""]
[null,null,null,{"$f":"'Lineare Abschreibung'!D71","v":0},{"$f":"'Lineare Abschreibung'!E71","v":0},{"$f":"'Lineare Abschreibung'!F71","v":0},0,0,{"$f":"'Lineare Abschreibung'!G71","v":0},13,0,0,null,""]
[null,null,null,{"$f":"'Lineare Abschreibung'!D72","v":0},{"$f":"'Lineare Abschreibung'!E72","v":0},{"$f":"'Lineare Abschreibung'!F72","v":0},0,0,{"$f":"'Lineare Abschreibung'!G72","v":0},13,0,0,null,""]
[null,null,null,{"$f":"'Lineare Abschreibung'!D73","v":0},{"$f":"'Lineare Abschreibung'!E73","v":0},{"$f":"'Lineare Abschreibung'!F73","v":0},0,0,{"$f":"'Lineare Abschreibung'!G73","v":0},13,0,0,null,""]
[null,null,null,{"$f":"'Lineare Abschreibung'!D74","v":0},{"$f":"'Lineare Abschreibung'!E74","v":0},{"$f":"'Lineare Abschreibung'!F74","v":0},0,0,{"$f":"'Lineare Abschreibung'!G74","v":0},13,0,0,null,""]
[null,null,null,{"$f":"'Lineare Abschreibung'!D75","v":0},{"$f":"'Lineare Abschreibung'!E75","v":0},{"$f":"'Lineare Abschreibung'!F75","v":0},0,0,{"$f":"'Lineare Abschreibung'!G75","v":0},13,0,0,null,""]
[null,null,null,{"$f":"'Lineare Abschreibung'!D76","v":0},{"$f":"'Lineare Abschreibung'!E76","v":0},{"$f":"'Lineare Abschreibung'!F76","v":0},0,0,{"$f":"'Lineare Abschreibung'!G76","v":0},13,0,0,null,""]
[null,null,null,{"$f":"'Lineare Abschreibung'!D77","v":0},{"$f":"'Lineare Abschreibung'!E77","v":0},{"$f":"'Lineare Abschreibung'!F77","v":0},0,0,{"$f":"'Lineare Abschreibung'!G77","v":0},13,0,0,null,""]
[null,null,null,{"$f":"'Lineare Abschreibung'!D78","v":0},{"$f":"'Lineare Abschreibung'!E78","v":0},{"$f":"'Lineare Abschreibung'!F78","v":0},0,0,{"$f":"'Lineare Abschreibung'!G78","v":0},13,0,0,null,""]
[null,null,null,{"$f":"'Lineare Abschreibung'!D79","v":0},{"$f":"'Lineare Abschreibung'!E79","v":0},{"$f":"'Lineare Abschreibung'!F79","v":0},0,0,{"$f":"'Lineare Abschreibung'!G79","v":0},13,0,0,null,""]
[null,null,null,{"$f":"'Lineare Abschreibung'!D80","v":0},{"$f":"'Lineare Abschreibung'!E80","v":0},{"$f":"'Lineare Abschreibung'!F80","v":0},0,0,{"$f":"'Lineare Abschreibung'!G80","v":0},13,0,0,null,""]
[null,null,null,{"$f":"'Lineare Abschreibung'!D81","v":0},{"$f":"'Lineare Abschreibung'!E81","v":0},{"$f":"'Lineare Abschreibung'!F81","v":0},0,0,{"$f":"'Lineare Abschreibung'!G81","v":0},13,0,0,null,""]
[null,null,null,{"$f":"'Lineare Abschreibung'!D82","v":0},{"$f":"'Lineare Abschreibung'!E82","v":0},{"$f":"'Lineare Abschreibung'!F82","v":0},0,0,{"$f":"'Lineare Abschreibung'!G82","v":0},13,0,0,null,""]
[null,null,null,{"$f":"'Lineare Abschreibung'!D83","v":0},{"$f":"'Lineare Abschreibung'!E83","v":0},{"$f":"'Lineare Abschreibung'!F83","v":0},0,0,{"$f":"'Lineare Abschreibung'!G83","v":0},13,0,0,null,""]
[null,null,null,{"$f":"'Lineare Abschreibung'!D84","v":0},{"$f":"'Lineare Abschreibung'!E84","v":0},{"$f":"'Lineare Abschreibung'!F84","v":0},0,0,{"$f":"'Lineare Abschreibung'!G84","v":0},13,0,0,null,""]
[null,null,null,{"$f":"'Lineare Abschreibung'!D85","v":0},{"$f":"'Lineare Abschreibung'!E85","v":0},{"$f":"'Lineare Abschreibung'!F85","v":0},0,0,{"$f":"'Lineare Abschreibung'!G85","v":0},13,0,0,null,""]
[null,null,null,{"$f":"'Lineare Abschreibung'!D86","v":0},{"$f":"'Lineare Abschreibung'!E86","v":0},{"$f":"'Lineare Abschreibung'!F86","v":0},0,0,{"$f":"'Lineare Abschreibung'!G86","v":0},13,0,0,null,""]
[null,null,null,{"$f":"'Lineare Abschreibung'!D87","v":0},{"$f":"'Lineare Abschreibung'!E87","v":0},{"$f":"'Lineare Abschreibung'!F87","v":0},0,0,{"$f":"'Lineare Abschreibung'!G87","v":0},13,0,0,null,""]
[null,null,null,{"$f":"'Lineare Abschreibung'!D88","v":0},{"$f":"'Lineare Abschreibung'!E88","v":0},{"$f":"'Lineare Abschreibung'!F88","v":0},0,0,{"$f":"'Lineare Abschreibung'!G88","v":0},13,0,0,null,""]
[null,null,null,{"$f":"'Lineare Abschreibung'!D89","v":0},{"$f":"'Lineare Abschreibung'!E89","v":0},{"$f":"'Lineare Abschreibung'!F89","v":0},0,0,{"$f":"'Lineare Abschreibung'!G89","v":0},13,0,0,null,""]
[null,null,null,{"$f":"'Lineare Abschreibung'!D90","v":0},{"$f":"'Lineare Abschreibung'!E90","v":0},{"$f":"'Lineare Abschreibung'!F90","v":0},{"$f":"IF(F90=0,0,1/F90)","v":0},{"$f":"IF(G90*2.5>25%,25%,G90*2.5)","v":0},{"$f":"'Lineare Abschreibung'!G90","v":0},{"$f":"12-I90+1","v":13},{"$f":"IF(E90<250.01,E90,E90/5)","v":0},{"$f":"IF($E90<800.01,$E90,$E90*H90/12*$J90)","v":0},null,{"$f":"IF(AND(E90>800,I90=0),\"Anschaffungsmonat fehlt!\",\"\")","v":""}]
[null,null,null,{"$f":"'Lineare Abschreibung'!D91","v":0},{"$f":"'Lineare Abschreibung'!E91","v":0},{"$f":"'Lineare Abschreibung'!F91","v":0},0,0,{"$f":"'Lineare Abschreibung'!G91","v":0},13,0,0,null,""]
[null,null,null,{"$f":"'Lineare Abschreibung'!D92","v":0},{"$f":"'Lineare Abschreibung'!E92","v":0},{"$f":"'Lineare Abschreibung'!F92","v":0},0,0,{"$f":"'Lineare Abschreibung'!G92","v":0},13,0,0,null,""]
[null,null,null,{"$f":"'Lineare Abschreibung'!D93","v":0},{"$f":"'Lineare Abschreibung'!E93","v":0},{"$f":"'Lineare Abschreibung'!F93","v":0},0,0,{"$f":"'Lineare Abschreibung'!G93","v":0},13,0,0,null,""]
[null,null,null,{"$f":"'Lineare Abschreibung'!D94","v":0},{"$f":"'Lineare Abschreibung'!E94","v":0},{"$f":"'Lineare Abschreibung'!F94","v":0},0,0,{"$f":"'Lineare Abschreibung'!G94","v":0},13,0,0,null,""]
[null,null,null,{"$f":"'Lineare Abschreibung'!D95","v":0},{"$f":"'Lineare Abschreibung'!E95","v":0},{"$f":"'Lineare Abschreibung'!F95","v":0},0,0,{"$f":"'Lineare Abschreibung'!G95","v":0},13,0,0,null,""]
[null,null,null,{"$f":"'Lineare Abschreibung'!D96","v":0},{"$f":"'Lineare Abschreibung'!E96","v":0},{"$f":"'Lineare Abschreibung'!F96","v":0},0,0,{"$f":"'Lineare Abschreibung'!G96","v":0},13,0,0,null,""]
[null,null,null,{"$f":"'Lineare Abschreibung'!D97","v":0},{"$f":"'Lineare Abschreibung'!E97","v":0},{"$f":"'Lineare Abschreibung'!F97","v":0},0,0,{"$f":"'Lineare Abschreibung'!G97","v":0},13,0,0,null,""]
[null,null,null,{"$f":"'Lineare Abschreibung'!D98","v":0},{"$f":"'Lineare Abschreibung'!E98","v":0},{"$f":"'Lineare Abschreibung'!F98","v":0},0,0,{"$f":"'Lineare Abschreibung'!G98","v":0},13,0,0,null,""]
[null,null,null,{"$f":"'Lineare Abschreibung'!D99","v":0},{"$f":"'Lineare Abschreibung'!E99","v":0},{"$f":"'Lineare Abschreibung'!F99","v":0},0,0,{"$f":"'Lineare Abschreibung'!G99","v":0},13,0,0,null,""]
[null,null,null,{"$f":"'Lineare Abschreibung'!D100","v":0},{"$f":"'Lineare Abschreibung'!E100","v":0},{"$f":"'Lineare Abschreibung'!F100","v":0},0,0,{"$f":"'Lineare Abschreibung'!G100","v":0},13,0,0,null,""]
[null,null,null,{"$f":"'Lineare Abschreibung'!D101","v":0},{"$f":"'Lineare Abschreibung'!E101","v":0},{"$f":"'Lineare Abschreibung'!F101","v":0},0,0,{"$f":"'Lineare Abschreibung'!G101","v":0},13,0,0,null,""]
[null,null,null,{"$f":"'Lineare Abschreibung'!D102","v":0},{"$f":"'Lineare Abschreibung'!E102","v":0},{"$f":"'Lineare Abschreibung'!F102","v":0},0,0,{"$f":"'Lineare Abschreibung'!G102","v":0},13,0,0,null,""]
[null,null,null,{"$f":"'Lineare Abschreibung'!D103","v":0},{"$f":"'Lineare Abschreibung'!E103","v":0},{"$f":"'Lineare Abschreibung'!F103","v":0},0,0,{"$f":"'Lineare Abschreibung'!G103","v":0},13,0,0,null,""]
[null,null,null,{"$f":"'Lineare Abschreibung'!D104","v":0},{"$f":"'Lineare Abschreibung'!E104","v":0},{"$f":"'Lineare Abschreibung'!F104","v":0},0,0,{"$f":"'Lineare Abschreibung'!G104","v":0},13,0,0,null,""]
[null,null,null,{"$f":"'Lineare Abschreibung'!D105","v":0},{"$f":"'Lineare Abschreibung'!E105","v":0},{"$f":"'Lineare Abschreibung'!F105","v":0},0,0,{"$f":"'Lineare Abschreibung'!G105","v":0},13,0,0,null,""]
[null,null,null,{"$f":"'Lineare Abschreibung'!D106","v":0},{"$f":"'Lineare Abschreibung'!E106","v":0},{"$f":"'Lineare Abschreibung'!F106","v":0},0,0,{"$f":"'Lineare Abschreibung'!G106","v":0},13,0,0,null,""]
[null,null,null,{"$f":"'Lineare Abschreibung'!D107","v":0},{"$f":"'Lineare Abschreibung'!E107","v":0},{"$f":"'Lineare Abschreibung'!F107","v":0},0,0,{"$f":"'Lineare Abschreibung'!G107","v":0},13,0,0,null,""]
[null,null,null,{"$f":"'Lineare Abschreibung'!D108","v":0},{"$f":"'Lineare Abschreibung'!E108","v":0},{"$f":"'Lineare Abschreibung'!F108","v":0},0,0,{"$f":"'Lineare Abschreibung'!G108","v":0},13,0,0,null,""]
[null,null,null,{"$f":"'Lineare Abschreibung'!D109","v":0},{"$f":"'Lineare Abschreibung'!E109","v":0},{"$f":"'Lineare Abschreibung'!F109","v":0},0,0,{"$f":"'Lineare Abschreibung'!G109","v":0},13,0,0,null,""]
[null,null,null,{"$f":"'Lineare Abschreibung'!D110","v":0},{"$f":"'Lineare Abschreibung'!E110","v":0},{"$f":"'Lineare Abschreibung'!F110","v":0},0,0,{"$f":"'Lineare Abschreibung'!G110","v":0},13,0,0,null,""]
[null,null,null,{"$f":"'Lineare Abschreibung'!D111","v":0},{"$f":"'Lineare Abschreibung'!E111","v":0},{"$f":"'Lineare Abschreibung'!F111","v":0},0,0,{"$f":"'Lineare Abschreibung'!G111","v":0},13,0,0,null,""]
[null,null,null,{"$f":"'Lineare Abschreibung'!D112","v":0},{"$f":"'Lineare Abschreibung'!E112","v":0},{"$f":"'Lineare Abschreibung'!F112","v":0},0,0,{"$f":"'Lineare Abschreibung'!G112","v":0},13,0,0,null,""]
[null,null,null,{"$f":"'Lineare Abschreibung'!D113","v":0},{"$f":"'Lineare Abschreibung'!E113","v":0},{"$f":"'Lineare Abschreibung'!F113","v":0},0,0,{"$f":"'Lineare Abschreibung'!G113","v":0},13,0,0,null,""]
[null,null,null,{"$f":"'Lineare Abschreibung'!D114","v":0},{"$f":"'Lineare Abschreibung'!E114","v":0},{"$f":"'Lineare Abschreibung'!F114","v":0},0,0,{"$f":"'Lineare Abschreibung'!G114","v":0},13,0,0,null,""]
[null,null,null,{"$f":"'Lineare Abschreibung'!D115","v":0},{"$f":"'Lineare Abschreibung'!E115","v":0},{"$f":"'Lineare Abschreibung'!F115","v":0},0,0,{"$f":"'Lineare Abschreibung'!G115","v":0},13,0,0,null,""]
[null,null,null,{"$f":"'Lineare Abschreibung'!D116","v":0},{"$f":"'Lineare Abschreibung'!E116","v":0},{"$f":"'Lineare Abschreibung'!F116","v":0},0,0,{"$f":"'Lineare Abschreibung'!G116","v":0},13,0,0,null,""]
[null,null,null,{"$f":"'Lineare Abschreibung'!D117","v":0},{"$f":"'Lineare Abschreibung'!E117","v":0},{"$f":"'Lineare Abschreibung'!F117","v":0},0,0,{"$f":"'Lineare Abschreibung'!G117","v":0},13,0,0,null,""]
[null,null,null,{"$f":"'Lineare Abschreibung'!D118","v":0},{"$f":"'Lineare Abschreibung'!E118","v":0},{"$f":"'Lineare Abschreibung'!F118","v":0},0,0,{"$f":"'Lineare Abschreibung'!G118","v":0},13,0,0,null,""]
[null,null,null,{"$f":"'Lineare Abschreibung'!D119","v":0},{"$f":"'Lineare Abschreibung'!E119","v":0},{"$f":"'Lineare Abschreibung'!F119","v":0},0,0,{"$f":"'Lineare Abschreibung'!G119","v":0},13,0,0,null,""]
[null,null,null,{"$f":"'Lineare Abschreibung'!D120","v":0},{"$f":"'Lineare Abschreibung'!E120","v":0},{"$f":"'Lineare Abschreibung'!F120","v":0},0,0,{"$f":"'Lineare Abschreibung'!G120","v":0},13,0,0,null,""]
[null,null,null,{"$f":"'Lineare Abschreibung'!D121","v":0},{"$f":"'Lineare Abschreibung'!E121","v":0},{"$f":"'Lineare Abschreibung'!F121","v":0},0,0,{"$f":"'Lineare Abschreibung'!G121","v":0},13,0,0,null,""]
[null,null,null,{"$f":"'Lineare Abschreibung'!D122","v":0},{"$f":"'Lineare Abschreibung'!E122","v":0},{"$f":"'Lineare Abschreibung'!F122","v":0},0,0,{"$f":"'Lineare Abschreibung'!G122","v":0},13,0,0,null,""]
[null,null,null,{"$f":"'Lineare Abschreibung'!D123","v":0},{"$f":"'Lineare Abschreibung'!E123","v":0},{"$f":"'Lineare Abschreibung'!F123","v":0},0,0,{"$f":"'Lineare Abschreibung'!G123","v":0},13,0,0,null,""]
[null,null,null,{"$f":"'Lineare Abschreibung'!D124","v":0},{"$f":"'Lineare Abschreibung'!E124","v":0},{"$f":"'Lineare Abschreibung'!F124","v":0},0,0,{"$f":"'Lineare Abschreibung'!G124","v":0},13,0,0,null,""]
[null,null,null,{"$f":"'Lineare Abschreibung'!D125","v":0},{"$f":"'Lineare Abschreibung'!E125","v":0},{"$f":"'Lineare Abschreibung'!F125","v":0},0,0,{"$f":"'Lineare Abschreibung'!G125","v":0},13,0,0,null,""]
[null,null,null,{"$f":"'Lineare Abschreibung'!D126","v":0},{"$f":"'Lineare Abschreibung'!E126","v":0},{"$f":"'Lineare Abschreibung'!F126","v":0},0,0,{"$f":"'Lineare Abschreibung'!G126","v":0},13,0,0,null,""]
[null,null,null,{"$f":"'Lineare Abschreibung'!D127","v":0},{"$f":"'Lineare Abschreibung'!E127","v":0},{"$f":"'Lineare Abschreibung'!F127","v":0},0,0,{"$f":"'Lineare Abschreibung'!G127","v":0},13,0,0,null,""]
[null,null,null,{"$f":"'Lineare Abschreibung'!D128","v":0},{"$f":"'Lineare Abschreibung'!E128","v":0},{"$f":"'Lineare Abschreibung'!F128","v":0},0,0,{"$f":"'Lineare Abschreibung'!G128","v":0},13,0,0,null,""]
[null,null,null,{"$f":"'Lineare Abschreibung'!D129","v":0},{"$f":"'Lineare Abschreibung'!E129","v":0},{"$f":"'Lineare Abschreibung'!F129","v":0},0,0,{"$f":"'Lineare Abschreibung'!G129","v":0},13,0,0,null,""]
[null,null,null,{"$f":"'Lineare Abschreibung'!D130","v":0},{"$f":"'Lineare Abschreibung'!E130","v":0},{"$f":"'Lineare Abschreibung'!F130","v":0},0,0,{"$f":"'Lineare Abschreibung'!G130","v":0},13,0,0,null,""]
[null,null,null,{"$f":"'Lineare Abschreibung'!D131","v":0},{"$f":"'Lineare Abschreibung'!E131","v":0},{"$f":"'Lineare Abschreibung'!F131","v":0},0,0,{"$f":"'Lineare Abschreibung'!G131","v":0},13,0,0,null,""]
[null,null,null,{"$f":"'Lineare Abschreibung'!D132","v":0},{"$f":"'Lineare Abschreibung'!E132","v":0},{"$f":"'Lineare Abschreibung'!F132","v":0},0,0,{"$f":"'Lineare Abschreibung'!G132","v":0},13,0,0,null,""]
[null,null,null,{"$f":"'Lineare Abschreibung'!D133","v":0},{"$f":"'Lineare Abschreibung'!E133","v":0},{"$f":"'Lineare Abschreibung'!F133","v":0},0,0,{"$f":"'Lineare Abschreibung'!G133","v":0},13,0,0,null,""]
[null,null,null,{"$f":"'Lineare Abschreibung'!D134","v":0},{"$f":"'Lineare Abschreibung'!E134","v":0},{"$f":"'Lineare Abschreibung'!F134","v":0},0,0,{"$f":"'Lineare Abschreibung'!G134","v":0},13,0,0,null,""]
[null,null,null,{"$f":"'Lineare Abschreibung'!D135","v":0},{"$f":"'Lineare Abschreibung'!E135","v":0},{"$f":"'Lineare Abschreibung'!F135","v":0},0,0,{"$f":"'Lineare Abschreibung'!G135","v":0},13,0,0,null,""]
[null,null,null,{"$f":"'Lineare Abschreibung'!D136","v":0},{"$f":"'Lineare Abschreibung'!E136","v":0},{"$f":"'Lineare Abschreibung'!F136","v":0},0,0,{"$f":"'Lineare Abschreibung'!G136","v":0},13,0,0,null,""]
[null,null,null,{"$f":"'Lineare Abschreibung'!D137","v":0},{"$f":"'Lineare Abschreibung'!E137","v":0},{"$f":"'Lineare Abschreibung'!F137","v":0},0,0,{"$f":"'Lineare Abschreibung'!G137","v":0},13,0,0,null,""]
[null,null,null,{"$f":"'Lineare Abschreibung'!D138","v":0},{"$f":"'Lineare Abschreibung'!E138","v":0},{"$f":"'Lineare Abschreibung'!F138","v":0},0,0,{"$f":"'Lineare Abschreibung'!G138","v":0},13,0,0,null,""]
[null,null,null,{"$f":"'Lineare Abschreibung'!D139","v":0},{"$f":"'Lineare Abschreibung'!E139","v":0},{"$f":"'Lineare Abschreibung'!F139","v":0},0,0,{"$f":"'Lineare Abschreibung'!G139","v":0},13,0,0,null,""]
[null,null,null,{"$f":"'Lineare Abschreibung'!D140","v":0},{"$f":"'Lineare Abschreibung'!E140","v":0},{"$f":"'Lineare Abschreibung'!F140","v":0},0,0,{"$f":"'Lineare Abschreibung'!G140","v":0},13,0,0,null,""]
[null,null,null,{"$f":"'Lineare Abschreibung'!D141","v":0},{"$f":"'Lineare Abschreibung'!E141","v":0},{"$f":"'Lineare Abschreibung'!F141","v":0},0,0,{"$f":"'Lineare Abschreibung'!G141","v":0},13,0,0,null,""]
[null,null,null,{"$f":"'Lineare Abschreibung'!D142","v":0},{"$f":"'Lineare Abschreibung'!E142","v":0},{"$f":"'Lineare Abschreibung'!F142","v":0},0,0,{"$f":"'Lineare Abschreibung'!G142","v":0},13,0,0,null,""]
[null,null,null,{"$f":"'Lineare Abschreibung'!D143","v":0},{"$f":"'Lineare Abschreibung'!E143","v":0},{"$f":"'Lineare Abschreibung'!F143","v":0},0,0,{"$f":"'Lineare Abschreibung'!G143","v":0},13,0,0,null,""]
[null,null,null,{"$f":"'Lineare Abschreibung'!D144","v":0},{"$f":"'Lineare Abschreibung'!E144","v":0},{"$f":"'Lineare Abschreibung'!F144","v":0},0,0,{"$f":"'Lineare Abschreibung'!G144","v":0},13,0,0,null,""]
[null,null,null,{"$f":"'Lineare Abschreibung'!D145","v":0},{"$f":"'Lineare Abschreibung'!E145","v":0},{"$f":"'Lineare Abschreibung'!F145","v":0},0,0,{"$f":"'Lineare Abschreibung'!G145","v":0},13,0,0,null,""]
[null,null,null,{"$f":"'Lineare Abschreibung'!D146","v":0},{"$f":"'Lineare Abschreibung'!E146","v":0},{"$f":"'Lineare Abschreibung'!F146","v":0},0,0,{"$f":"'Lineare Abschreibung'!G146","v":0},13,0,0,null,""]
[null,null,null,{"$f":"'Lineare Abschreibung'!D147","v":0},{"$f":"'Lineare Abschreibung'!E147","v":0},{"$f":"'Lineare Abschreibung'!F147","v":0},0,0,{"$f":"'Lineare Abschreibung'!G147","v":0},13,0,0,null,""]
[null,null,null,{"$f":"'Lineare Abschreibung'!D148","v":0},{"$f":"'Lineare Abschreibung'!E148","v":0},{"$f":"'Lineare Abschreibung'!F148","v":0},0,0,{"$f":"'Lineare Abschreibung'!G148","v":0},13,0,0,null,""]
[null,null,null,{"$f":"'Lineare Abschreibung'!D149","v":0},{"$f":"'Lineare Abschreibung'!E149","v":0},{"$f":"'Lineare Abschreibung'!F149","v":0},0,0,{"$f":"'Lineare Abschreibung'!G149","v":0},13,0,0,null,""]
[null,null,null,{"$f":"'Lineare Abschreibung'!D150","v":0},{"$f":"'Lineare Abschreibung'!E150","v":0},{"$f":"'Lineare Abschreibung'!F150","v":0},0,0,{"$f":"'Lineare Abschreibung'!G150","v":0},13,0,0,null,""]
[null,null,null,{"$f":"'Lineare Abschreibung'!D151","v":0},{"$f":"'Lineare Abschreibung'!E151","v":0},{"$f":"'Lineare Abschreibung'!F151","v":0},0,0,{"$f":"'Lineare Abschreibung'!G151","v":0},13,0,0,null,""]
[null,null,null,{"$f":"'Lineare Abschreibung'!D152","v":0},{"$f":"'Lineare Abschreibung'!E152","v":0},{"$f":"'Lineare Abschreibung'!F152","v":0},0,0,{"$f":"'Lineare Abschreibung'!G152","v":0},13,0,0,null,""]
[null,null,null,{"$f":"'Lineare Abschreibung'!D153","v":0},{"$f":"'Lineare Abschreibung'!E153","v":0},{"$f":"'Lineare Abschreibung'!F153","v":0},0,0,{"$f":"'Lineare Abschreibung'!G153","v":0},13,0,0,null,""]
[null,null,null,{"$f":"'Lineare Abschreibung'!D154","v":0},{"$f":"'Lineare Abschreibung'!E154","v":0},{"$f":"'Lineare Abschreibung'!F154","v":0},{"$f":"IF(F154=0,0,1/F154)","v":0},{"$f":"IF(G154*2.5>25%,25%,G154*2.5)","v":0},{"$f":"'Lineare Abschreibung'!G154","v":0},{"$f":"12-I154+1","v":13},{"$f":"IF(E154<250.01,E154,E154/5)","v":0},{"$f":"IF($E154<800.01,$E154,$E154*H154/12*$J154)","v":0},null,{"$f":"IF(AND(E154>800,I154=0),\"Anschaffungsmonat fehlt!\",\"\")","v":""}]
[null,null,null,{"$f":"'Lineare Abschreibung'!D155","v":0},{"$f":"'Lineare Abschreibung'!E155","v":0},{"$f":"'Lineare Abschreibung'!F155","v":0},0,0,{"$f":"'Lineare Abschreibung'!G155","v":0},13,0,0,null,""]
[null,null,null,{"$f":"'Lineare Abschreibung'!D156","v":0},{"$f":"'Lineare Abschreibung'!E156","v":0},{"$f":"'Lineare Abschreibung'!F156","v":0},0,0,{"$f":"'Lineare Abschreibung'!G156","v":0},13,0,0,null,""]
[null,null,null,{"$f":"'Lineare Abschreibung'!D157","v":0},{"$f":"'Lineare Abschreibung'!E157","v":0},{"$f":"'Lineare Abschreibung'!F157","v":0},0,0,{"$f":"'Lineare Abschreibung'!G157","v":0},13,0,0,null,""]
[null,null,null,{"$f":"'Lineare Abschreibung'!D158","v":0},{"$f":"'Lineare Abschreibung'!E158","v":0},{"$f":"'Lineare Abschreibung'!F158","v":0},0,0,{"$f":"'Lineare Abschreibung'!G158","v":0},13,0,0,null,""]
[null,null,null,{"$f":"'Lineare Abschreibung'!D159","v":0},{"$f":"'Lineare Abschreibung'!E159","v":0},{"$f":"'Lineare Abschreibung'!F159","v":0},0,0,{"$f":"'Lineare Abschreibung'!G159","v":0},13,0,0,null,""]
[null,null,null,{"$f":"'Lineare Abschreibung'!D160","v":0},{"$f":"'Lineare Abschreibung'!E160","v":0},{"$f":"'Lineare Abschreibung'!F160","v":0},0,0,{"$f":"'Lineare Abschreibung'!G160","v":0},13,0,0,null,""]
[null,null,null,{"$f":"'Lineare Abschreibung'!D161","v":0},{"$f":"'Lineare Abschreibung'!E161","v":0},{"$f":"'Lineare Abschreibung'!F161","v":0},0,0,{"$f":"'Lineare Abschreibung'!G161","v":0},13,0,0,null,""]
[null,null,null,{"$f":"'Lineare Abschreibung'!D162","v":0},{"$f":"'Lineare Abschreibung'!E162","v":0},{"$f":"'Lineare Abschreibung'!F162","v":0},0,0,{"$f":"'Lineare Abschreibung'!G162","v":0},13,0,0,null,""]
[null,null,null,{"$f":"'Lineare Abschreibung'!D163","v":0},{"$f":"'Lineare Abschreibung'!E163","v":0},{"$f":"'Lineare Abschreibung'!F163","v":0},0,0,{"$f":"'Lineare Abschreibung'!G163","v":0},13,0,0,null,""]
[null,null,null,{"$f":"'Lineare Abschreibung'!D164","v":0},{"$f":"'Lineare Abschreibung'!E164","v":0},{"$f":"'Lineare Abschreibung'!F164","v":0},0,0,{"$f":"'Lineare Abschreibung'!G164","v":0},13,0,0,null,""]
[null,null,null,{"$f":"'Lineare Abschreibung'!D165","v":0},{"$f":"'Lineare Abschreibung'!E165","v":0},{"$f":"'Lineare Abschreibung'!F165","v":0},0,0,{"$f":"'Lineare Abschreibung'!G165","v":0},13,0,0,null,""]
[null,null,null,{"$f":"'Lineare Abschreibung'!D166","v":0},{"$f":"'Lineare Abschreibung'!E166","v":0},{"$f":"'Lineare Abschreibung'!F166","v":0},0,0,{"$f":"'Lineare Abschreibung'!G166","v":0},13,0,0,null,""]
[null,null,null,{"$f":"'Lineare Abschreibung'!D167","v":0},{"$f":"'Lineare Abschreibung'!E167","v":0},{"$f":"'Lineare Abschreibung'!F167","v":0},0,0,{"$f":"'Lineare Abschreibung'!G167","v":0},13,0,0,null,""]
[null,null,null,{"$f":"'Lineare Abschreibung'!D168","v":0},{"$f":"'Lineare Abschreibung'!E168","v":0},{"$f":"'Lineare Abschreibung'!F168","v":0},0,0,{"$f":"'Lineare Abschreibung'!G168","v":0},13,0,0,null,""]
[null,null,null,{"$f":"'Lineare Abschreibung'!D169","v":0},{"$f":"'Lineare Abschreibung'!E169","v":0},{"$f":"'Lineare Abschreibung'!F169","v":0},0,0,{"$f":"'Lineare Abschreibung'!G169","v":0},13,0,0,null,""]
[null,null,null,{"$f":"'Lineare Abschreibung'!D170","v":0},{"$f":"'Lineare Abschreibung'!E170","v":0},{"$f":"'Lineare Abschreibung'!F170","v":0},0,0,{"$f":"'Lineare Abschreibung'!G170","v":0},13,0,0,null,""]
[null,null,null,{"$f":"'Lineare Abschreibung'!D171","v":0},{"$f":"'Lineare Abschreibung'!E171","v":0},{"$f":"'Lineare Abschreibung'!F171","v":0},0,0,{"$f":"'Lineare Abschreibung'!G171","v":0},13,0,0,null,""]
[null,null,null,{"$f":"'Lineare Abschreibung'!D172","v":0},{"$f":"'Lineare Abschreibung'!E172","v":0},{"$f":"'Lineare Abschreibung'!F172","v":0},0,0,{"$f":"'Lineare Abschreibung'!G172","v":0},13,0,0,null,""]
[null,null,null,{"$f":"'Lineare Abschreibung'!D173","v":0},{"$f":"'Lineare Abschreibung'!E173","v":0},{"$f":"'Lineare Abschreibung'!F173","v":0},0,0,{"$f":"'Lineare Abschreibung'!G173","v":0},13,0,0,null,""]
[null,null,null,{"$f":"'Lineare Abschreibung'!D174","v":0},{"$f":"'Lineare Abschreibung'!E174","v":0},{"$f":"'Lineare Abschreibung'!F174","v":0},0,0,{"$f":"'Lineare Abschreibung'!G174","v":0},13,0,0,null,""]
[null,null,null,{"$f":"'Lineare Abschreibung'!D175","v":0},{"$f":"'Lineare Abschreibung'!E175","v":0},{"$f":"'Lineare Abschreibung'!F175","v":0},0,0,{"$f":"'Lineare Abschreibung'!G175","v":0},13,0,0,null,""]
[null,null,null,{"$f":"'Lineare Abschreibung'!D176","v":0},{"$f":"'Lineare Abschreibung'!E176","v":0},{"$f":"'Lineare Abschreibung'!F176","v":0},0,0,{"$f":"'Lineare Abschreibung'!G176","v":0},13,0,0,null,""]
[null,null,null,{"$f":"'Lineare Abschreibung'!D177","v":0},{"$f":"'Lineare Abschreibung'!E177","v":0},{"$f":"'Lineare Abschreibung'!F177","v":0},0,0,{"$f":"'Lineare Abschreibung'!G177","v":0},13,0,0,null,""]
[null,null,null,{"$f":"'Lineare Abschreibung'!D178","v":0},{"$f":"'Lineare Abschreibung'!E178","v":0},{"$f":"'Lineare Abschreibung'!F178","v":0},0,0,{"$f":"'Lineare Abschreibung'!G178","v":0},13,0,0,null,""]
[null,null,null,{"$f":"'Lineare Abschreibung'!D179","v":0},{"$f":"'Lineare Abschreibung'!E179","v":0},{"$f":"'Lineare Abschreibung'!F179","v":0},0,0,{"$f":"'Lineare Abschreibung'!G179","v":0},13,0,0,null,""]
[null,null,null,{"$f":"'Lineare Abschreibung'!D180","v":0},{"$f":"'Lineare Abschreibung'!E180","v":0},{"$f":"'Lineare Abschreibung'!F180","v":0},0,0,{"$f":"'Lineare Abschreibung'!G180","v":0},13,0,0,null,""]
[null,null,null,{"$f":"'Lineare Abschreibung'!D181","v":0},{"$f":"'Lineare Abschreibung'!E181","v":0},{"$f":"'Lineare Abschreibung'!F181","v":0},0,0,{"$f":"'Lineare Abschreibung'!G181","v":0},13,0,0,null,""]
[null,null,null,{"$f":"'Lineare Abschreibung'!D182","v":0},{"$f":"'Lineare Abschreibung'!E182","v":0},{"$f":"'Lineare Abschreibung'!F182","v":0},0,0,{"$f":"'Lineare Abschreibung'!G182","v":0},13,0,0,null,""]
[null,null,null,{"$f":"'Lineare Abschreibung'!D183","v":0},{"$f":"'Lineare Abschreibung'!E183","v":0},{"$f":"'Lineare Abschreibung'!F183","v":0},0,0,{"$f":"'Lineare Abschreibung'!G183","v":0},13,0,0,null,""]
[null,null,null,{"$f":"'Lineare Abschreibung'!D184","v":0},{"$f":"'Lineare Abschreibung'!E184","v":0},{"$f":"'Lineare Abschreibung'!F184","v":0},0,0,{"$f":"'Lineare Abschreibung'!G184","v":0},13,0,0,null,""]
[null,null,null,{"$f":"'Lineare Abschreibung'!D185","v":0},{"$f":"'Lineare Abschreibung'!E185","v":0},{"$f":"'Lineare Abschreibung'!F185","v":0},0,0,{"$f":"'Lineare Abschreibung'!G185","v":0},13,0,0,null,""]
[null,null,null,{"$f":"'Lineare Abschreibung'!D186","v":0},{"$f":"'Lineare Abschreibung'!E186","v":0},{"$f":"'Lineare Abschreibung'!F186","v":0},0,0,{"$f":"'Lineare Abschreibung'!G186","v":0},13,0,0,null,""]
[null,null,null,{"$f":"'Lineare Abschreibung'!D187","v":0},{"$f":"'Lineare Abschreibung'!E187","v":0},{"$f":"'Lineare Abschreibung'!F187","v":0},0,0,{"$f":"'Lineare Abschreibung'!G187","v":0},13,0,0,null,""]
[null,null,null,{"$f":"'Lineare Abschreibung'!D188","v":0},{"$f":"'Lineare Abschreibung'!E188","v":0},{"$f":"'Lineare Abschreibung'!F188","v":0},0,0,{"$f":"'Lineare Abschreibung'!G188","v":0},13,0,0,null,""]
[null,null,null,{"$f":"'Lineare Abschreibung'!D189","v":0},{"$f":"'Lineare Abschreibung'!E189","v":0},{"$f":"'Lineare Abschreibung'!F189","v":0},0,0,{"$f":"'Lineare Abschreibung'!G189","v":0},13,0,0,null,""]
[null,null,null,{"$f":"'Lineare Abschreibung'!D190","v":0},{"$f":"'Lineare Abschreibung'!E190","v":0},{"$f":"'Lineare Abschreibung'!F190","v":0},0,0,{"$f":"'Lineare Abschreibung'!G190","v":0},13,0,0,null,""]
[null,null,null,{"$f":"'Lineare Abschreibung'!D191","v":0},{"$f":"'Lineare Abschreibung'!E191","v":0},{"$f":"'Lineare Abschreibung'!F191","v":0},0,0,{"$f":"'Lineare Abschreibung'!G191","v":0},13,0,0,null,""]
[null,null,null,{"$f":"'Lineare Abschreibung'!D192","v":0},{"$f":"'Lineare Abschreibung'!E192","v":0},{"$f":"'Lineare Abschreibung'!F192","v":0},0,0,{"$f":"'Lineare Abschreibung'!G192","v":0},13,0,0,null,""]
[null,null,null,{"$f":"'Lineare Abschreibung'!D193","v":0},{"$f":"'Lineare Abschreibung'!E193","v":0},{"$f":"'Lineare Abschreibung'!F193","v":0},0,0,{"$f":"'Lineare Abschreibung'!G193","v":0},13,0,0,null,""]
[null,null,null,{"$f":"'Lineare Abschreibung'!D194","v":0},{"$f":"'Lineare Abschreibung'!E194","v":0},{"$f":"'Lineare Abschreibung'!F194","v":0},0,0,{"$f":"'Lineare Abschreibung'!G194","v":0},13,0,0,null,""]
[null,null,null,{"$f":"'Lineare Abschreibung'!D195","v":0},{"$f":"'Lineare Abschreibung'!E195","v":0},{"$f":"'Lineare Abschreibung'!F195","v":0},0,0,{"$f":"'Lineare Abschreibung'!G195","v":0},13,0,0,null,""]
[null,null,null,{"$f":"'Lineare Abschreibung'!D196","v":0},{"$f":"'Lineare Abschreibung'!E196","v":0},{"$f":"'Lineare Abschreibung'!F196","v":0},0,0,{"$f":"'Lineare Abschreibung'!G196","v":0},13,0,0,null,""]
[null,null,null,{"$f":"'Lineare Abschreibung'!D197","v":0},{"$f":"'Lineare Abschreibung'!E197","v":0},{"$f":"'Lineare Abschreibung'!F197","v":0},0,0,{"$f":"'Lineare Abschreibung'!G197","v":0},13,0,0,null,""]
[null,null,null,{"$f":"'Lineare Abschreibung'!D198","v":0},{"$f":"'Lineare Abschreibung'!E198","v":0},{"$f":"'Lineare Abschreibung'!F198","v":0},0,0,{"$f":"'Lineare Abschreibung'!G198","v":0},13,0,0,null,""]
[null,null,null,{"$f":"'Lineare Abschreibung'!D199","v":0},{"$f":"'Lineare Abschreibung'!E199","v":0},{"$f":"'Lineare Abschreibung'!F199","v":0},0,0,{"$f":"'Lineare Abschreibung'!G199","v":0},13,0,0,null,""]
[null,null,null,{"$f":"'Lineare Abschreibung'!D200","v":0},{"$f":"'Lineare Abschreibung'!E200","v":0},{"$f":"'Lineare Abschreibung'!F200","v":0},0,0,{"$f":"'Lineare Abschreibung'!G200","v":0},13,0,0,null,""]
[null,null,null,{"$f":"'Lineare Abschreibung'!D201","v":0},{"$f":"'Lineare Abschreibung'!E201","v":0},{"$f":"'Lineare Abschreibung'!F201","v":0},0,0,{"$f":"'Lineare Abschreibung'!G201","v":0},13,0,0,null,""]
[null,null,null,{"$f":"'Lineare Abschreibung'!D202","v":0},{"$f":"'Lineare Abschreibung'!E202","v":0},{"$f":"'Lineare Abschreibung'!F202","v":0},0,0,{"$f":"'Lineare Abschreibung'!G202","v":0},13,0,0,null,""]
[null,null,null,{"$f":"'Lineare Abschreibung'!D203","v":0},{"$f":"'Lineare Abschreibung'!E203","v":0},{"$f":"'Lineare Abschreibung'!F203","v":0},0,0,{"$f":"'Lineare Abschreibung'!G203","v":0},13,0,0,null,""]
[null,null,null,{"$f":"'Lineare Abschreibung'!D204","v":0},{"$f":"'Lineare Abschreibung'!E204","v":0},{"$f":"'Lineare Abschreibung'!F204","v":0},0,0,{"$f":"'Lineare Abschreibung'!G204","v":0},13,0,0,null,""]
[null,null,null,{"$f":"'Lineare Abschreibung'!D205","v":0},{"$f":"'Lineare Abschreibung'!E205","v":0},{"$f":"'Lineare Abschreibung'!F205","v":0},0,0,{"$f":"'Lineare Abschreibung'!G205","v":0},13,0,0,null,""]
[null,null,null,{"$f":"'Lineare Abschreibung'!D206","v":0},{"$f":"'Lineare Abschreibung'!E206","v":0},{"$f":"'Lineare Abschreibung'!F206","v":0},0,0,{"$f":"'Lineare Abschreibung'!G206","v":0},13,0,0,null,""]
[null,null,null,{"$f":"'Lineare Abschreibung'!D207","v":0},{"$f":"'Lineare Abschreibung'!E207","v":0},{"$f":"'Lineare Abschreibung'!F207","v":0},0,0,{"$f":"'Lineare Abschreibung'!G207","v":0},13,0,0,null,""]
[null,null,null,{"$f":"'Lineare Abschreibung'!D208","v":0},{"$f":"'Lineare Abschreibung'!E208","v":0},{"$f":"'Lineare Abschreibung'!F208","v":0},0,0,{"$f":"'Lineare Abschreibung'!G208","v":0},13,0,0,null,""]
[null,null,null,{"$f":"'Lineare Abschreibung'!D209","v":0},{"$f":"'Lineare Abschreibung'!E209","v":0},{"$f":"'Lineare Abschreibung'!F209","v":0},0,0,{"$f":"'Lineare Abschreibung'!G209","v":0},13,0,0,null,""]
[null,null,null,{"$f":"'Lineare Abschreibung'!D210","v":0},{"$f":"'Lineare Abschreibung'!E210","v":0},{"$f":"'Lineare Abschreibung'!F210","v":0},0,0,{"$f":"'Lineare Abschreibung'!G210","v":0},13,0,0,null,""]
[null,null,null,{"$f":"'Lineare Abschreibung'!D211","v":0},{"$f":"'Lineare Abschreibung'!E211","v":0},{"$f":"'Lineare Abschreibung'!F211","v":0},0,0,{"$f":"'Lineare Abschreibung'!G211","v":0},13,0,0,null,""]
[null,null,null,{"$f":"'Lineare Abschreibung'!D212","v":0},{"$f":"'Lineare Abschreibung'!E212","v":0},{"$f":"'Lineare Abschreibung'!F212","v":0},0,0,{"$f":"'Lineare Abschreibung'!G212","v":0},13,0,0,null,""]
[null,null,null,{"$f":"'Lineare Abschreibung'!D213","v":0},{"$f":"'Lineare Abschreibung'!E213","v":0},{"$f":"'Lineare Abschreibung'!F213","v":0},0,0,{"$f":"'Lineare Abschreibung'!G213","v":0},13,0,0,null,""]
[null,null,null,{"$f":"'Lineare Abschreibung'!D214","v":0},{"$f":"'Lineare Abschreibung'!E214","v":0},{"$f":"'Lineare Abschreibung'!F214","v":0},0,0,{"$f":"'Lineare Abschreibung'!G214","v":0},13,0,0,null,""]
[null,null,null,{"$f":"'Lineare Abschreibung'!D215","v":0},{"$f":"'Lineare Abschreibung'!E215","v":0},{"$f":"'Lineare Abschreibung'!F215","v":0},0,0,{"$f":"'Lineare Abschreibung'!G215","v":0},13,0,0,null,""]
[null,null,null,{"$f":"'Lineare Abschreibung'!D216","v":0},{"$f":"'Lineare Abschreibung'!E216","v":0},{"$f":"'Lineare Abschreibung'!F216","v":0},0,0,{"$f":"'Lineare Abschreibung'!G216","v":0},13,0,0,null,""]
[null,null,null,{"$f":"'Lineare Abschreibung'!D217","v":0},{"$f":"'Lineare Abschreibung'!E217","v":0},{"$f":"'Lineare Abschreibung'!F217","v":0},0,0,{"$f":"'Lineare Abschreibung'!G217","v":0},13,0,0,null,""]
[null,null,null,{"$f":"'Lineare Abschreibung'!D218","v":0},{"$f":"'Lineare Abschreibung'!E218","v":0},{"$f":"'Lineare Abschreibung'!F218","v":0},{"$f":"IF(F218=0,0,1/F218)","v":0},{"$f":"IF(G218*2.5>25%,25%,G218*2.5)","v":0},{"$f":"'Lineare Abschreibung'!G218","v":0},{"$f":"12-I218+1","v":13},{"$f":"IF(E218<250.01,E218,E218/5)","v":0},{"$f":"IF($E218<800.01,$E218,$E218*H218/12*$J218)","v":0},null,{"$f":"IF(AND(E218>800,I218=0),\"Anschaffungsmonat fehlt!\",\"\")","v":""}]
[null,null,null,{"$f":"'Lineare Abschreibung'!D219","v":0},{"$f":"'Lineare Abschreibung'!E219","v":0},{"$f":"'Lineare Abschreibung'!F219","v":0},0,0,{"$f":"'Lineare Abschreibung'!G219","v":0},13,0,0,null,""]
[null,null,null,{"$f":"'Lineare Abschreibung'!D220","v":0},{"$f":"'Lineare Abschreibung'!E220","v":0},{"$f":"'Lineare Abschreibung'!F220","v":0},0,0,{"$f":"'Lineare Abschreibung'!G220","v":0},13,0,0,null,""]
[null,null,null,{"$f":"'Lineare Abschreibung'!D221","v":0},{"$f":"'Lineare Abschreibung'!E221","v":0},{"$f":"'Lineare Abschreibung'!F221","v":0},0,0,{"$f":"'Lineare Abschreibung'!G221","v":0},13,0,0,null,""]
[null,null,null,{"$f":"'Lineare Abschreibung'!D222","v":0},{"$f":"'Lineare Abschreibung'!E222","v":0},{"$f":"'Lineare Abschreibung'!F222","v":0},0,0,{"$f":"'Lineare Abschreibung'!G222","v":0},13,0,0,null,""]
[null,null,null,{"$f":"'Lineare Abschreibung'!D223","v":0},{"$f":"'Lineare Abschreibung'!E223","v":0},{"$f":"'Lineare Abschreibung'!F223","v":0},0,0,{"$f":"'Lineare Abschreibung'!G223","v":0},13,0,0,null,""]
[null,null,null,{"$f":"'Lineare Abschreibung'!D224","v":0},{"$f":"'Lineare Abschreibung'!E224","v":0},{"$f":"'Lineare Abschreibung'!F224","v":0},0,0,{"$f":"'Lineare Abschreibung'!G224","v":0},13,0,0,null,""]
[null,null,null,{"$f":"'Lineare Abschreibung'!D225","v":0},{"$f":"'Lineare Abschreibung'!E225","v":0},{"$f":"'Lineare Abschreibung'!F225","v":0},0,0,{"$f":"'Lineare Abschreibung'!G225","v":0},13,0,0,null,""]
[null,null,null,{"$f":"'Lineare Abschreibung'!D226","v":0},{"$f":"'Lineare Abschreibung'!E226","v":0},{"$f":"'Lineare Abschreibung'!F226","v":0},0,0,{"$f":"'Lineare Abschreibung'!G226","v":0},13,0,0,null,""]
[null,null,null,{"$f":"'Lineare Abschreibung'!D227","v":0},{"$f":"'Lineare Abschreibung'!E227","v":0},{"$f":"'Lineare Abschreibung'!F227","v":0},0,0,{"$f":"'Lineare Abschreibung'!G227","v":0},13,0,0,null,""]
[null,null,null,{"$f":"'Lineare Abschreibung'!D228","v":0},{"$f":"'Lineare Abschreibung'!E228","v":0},{"$f":"'Lineare Abschreibung'!F228","v":0},0,0,{"$f":"'Lineare Abschreibung'!G228","v":0},13,0,0,null,""]
[null,null,null,{"$f":"'Lineare Abschreibung'!D229","v":0},{"$f":"'Lineare Abschreibung'!E229","v":0},{"$f":"'Lineare Abschreibung'!F229","v":0},0,0,{"$f":"'Lineare Abschreibung'!G229","v":0},13,0,0,null,""]
[null,null,null,{"$f":"'Lineare Abschreibung'!D230","v":0},{"$f":"'Lineare Abschreibung'!E230","v":0},{"$f":"'Lineare Abschreibung'!F230","v":0},0,0,{"$f":"'Lineare Abschreibung'!G230","v":0},13,0,0,null,""]
[null,null,null,{"$f":"'Lineare Abschreibung'!D231","v":0},{"$f":"'Lineare Abschreibung'!E231","v":0},{"$f":"'Lineare Abschreibung'!F231","v":0},0,0,{"$f":"'Lineare Abschreibung'!G231","v":0},13,0,0,null,""]
[null,null,null,{"$f":"'Lineare Abschreibung'!D232","v":0},{"$f":"'Lineare Abschreibung'!E232","v":0},{"$f":"'Lineare Abschreibung'!F232","v":0},0,0,{"$f":"'Lineare Abschreibung'!G232","v":0},13,0,0,null,""]
[null,null,null,{"$f":"'Lineare Abschreibung'!D233","v":0},{"$f":"'Lineare Abschreibung'!E233","v":0},{"$f":"'Lineare Abschreibung'!F233","v":0},0,0,{"$f":"'Lineare Abschreibung'!G233","v":0},13,0,0,null,""]
[null,null,null,{"$f":"'Lineare Abschreibung'!D234","v":0},{"$f":"'Lineare Abschreibung'!E234","v":0},{"$f":"'Lineare Abschreibung'!F234","v":0},0,0,{"$f":"'Lineare Abschreibung'!G234","v":0},13,0,0,null,""]
[null,null,null,{"$f":"'Lineare Abschreibung'!D235","v":0},{"$f":"'Lineare Abschreibung'!E235","v":0},{"$f":"'Lineare Abschreibung'!F235","v":0},0,0,{"$f":"'Lineare Abschreibung'!G235","v":0},13,0,0,null,""]
[null,null,null,{"$f":"'Lineare Abschreibung'!D236","v":0},{"$f":"'Lineare Abschreibung'!E236","v":0},{"$f":"'Lineare Abschreibung'!F236","v":0},0,0,{"$f":"'Lineare Abschreibung'!G236","v":0},13,0,0,null,""]
[null,null,null,{"$f":"'Lineare Abschreibung'!D237","v":0},{"$f":"'Lineare Abschreibung'!E237","v":0},{"$f":"'Lineare Abschreibung'!F237","v":0},0,0,{"$f":"'Lineare Abschreibung'!G237","v":0},13,0,0,null,""]
[null,null,null,{"$f":"'Lineare Abschreibung'!D238","v":0},{"$f":"'Lineare Abschreibung'!E238","v":0},{"$f":"'Lineare Abschreibung'!F238","v":0},0,0,{"$f":"'Lineare Abschreibung'!G238","v":0},13,0,0,null,""]
[null,null,null,{"$f":"'Lineare Abschreibung'!D239","v":0},{"$f":"'Lineare Abschreibung'!E239","v":0},{"$f":"'Lineare Abschreibung'!F239","v":0},0,0,{"$f":"'Lineare Abschreibung'!G239","v":0},13,0,0,null,""]
[null,null,null,{"$f":"'Lineare Abschreibung'!D240","v":0},{"$f":"'Lineare Abschreibung'!E240","v":0},{"$f":"'Lineare Abschreibung'!F240","v":0},0,0,{"$f":"'Lineare Abschreibung'!G240","v":0},13,0,0,null,""]
[null,null,null,{"$f":"'Lineare Abschreibung'!D241","v":0},{"$f":"'Lineare Abschreibung'!E241","v":0},{"$f":"'Lineare Abschreibung'!F241","v":0},0,0,{"$f":"'Lineare Abschreibung'!G241","v":0},13,0,0,null,""]
[null,null,null,{"$f":"'Lineare Abschreibung'!D242","v":0},{"$f":"'Lineare Abschreibung'!E242","v":0},{"$f":"'Lineare Abschreibung'!F242","v":0},0,0,{"$f":"'Lineare Abschreibung'!G242","v":0},13,0,0,null,""]
[null,null,null,{"$f":"'Lineare Abschreibung'!D243","v":0},{"$f":"'Lineare Abschreibung'!E243","v":0},{"$f":"'Lineare Abschreibung'!F243","v":0},0,0,{"$f":"'Lineare Abschreibung'!G243","v":0},13,0,0,null,""]
[null,null,null,{"$f":"'Lineare Abschreibung'!D244","v":0},{"$f":"'Lineare Abschreibung'!E244","v":0},{"$f":"'Lineare Abschreibung'!F244","v":0},0,0,{"$f":"'Lineare Abschreibung'!G244","v":0},13,0,0,null,""]
[null,null,null,{"$f":"'Lineare Abschreibung'!D245","v":0},{"$f":"'Lineare Abschreibung'!E245","v":0},{"$f":"'Lineare Abschreibung'!F245","v":0},0,0,{"$f":"'Lineare Abschreibung'!G245","v":0},13,0,0,null,""]
[null,null,null,{"$f":"'Lineare Abschreibung'!D246","v":0},{"$f":"'Lineare Abschreibung'!E246","v":0},{"$f":"'Lineare Abschreibung'!F246","v":0},0,0,{"$f":"'Lineare Abschreibung'!G246","v":0},13,0,0,null,""]
[null,null,null,{"$f":"'Lineare Abschreibung'!D247","v":0},{"$f":"'Lineare Abschreibung'!E247","v":0},{"$f":"'Lineare Abschreibung'!F247","v":0},0,0,{"$f":"'Lineare Abschreibung'!G247","v":0},13,0,0,null,""]
[null,null,null,{"$f":"'Lineare Abschreibung'!D248","v":0},{"$f":"'Lineare Abschreibung'!E248","v":0},{"$f":"'Lineare Abschreibung'!F248","v":0},0,0,{"$f":"'Lineare Abschreibung'!G248","v":0},13,0,0,null,""]
[null,null,null,{"$f":"'Lineare Abschreibung'!D249","v":0},{"$f":"'Lineare Abschreibung'!E249","v":0},{"$f":"'Lineare Abschreibung'!F249","v":0},0,0,{"$f":"'Lineare Abschreibung'!G249","v":0},13,0,0,null,""]
[null,null,null,{"$f":"'Lineare Abschreibung'!D250","v":0},{"$f":"'Lineare Abschreibung'!E250","v":0},{"$f":"'Lineare Abschreibung'!F250","v":0},0,0,{"$f":"'Lineare Abschreibung'!G250","v":0},13,0,0,null,""]
[null,null,null,{"$f":"'Lineare Abschreibung'!D251","v":0},{"$f":"'Lineare Abschreibung'!E251","v":0},{"$f":"'Lineare Abschreibung'!F251","v":0},0,0,{"$f":"'Lineare Abschreibung'!G251","v":0},13,0,0,null,""]
[null,null,null,{"$f":"'Lineare Abschreibung'!D252","v":0},{"$f":"'Lineare Abschreibung'!E252","v":0},{"$f":"'Lineare Abschreibung'!F252","v":0},0,0,{"$f":"'Lineare Abschreibung'!G252","v":0},13,0,0,null,""]
[null,null,null,{"$f":"'Lineare Abschreibung'!D253","v":0},{"$f":"'Lineare Abschreibung'!E253","v":0},{"$f":"'Lineare Abschreibung'!F253","v":0},0,0,{"$f":"'Lineare Abschreibung'!G253","v":0},13,0,0,null,""]
[null,null,null,{"$f":"'Lineare Abschreibung'!D254","v":0},{"$f":"'Lineare Abschreibung'!E254","v":0},{"$f":"'Lineare Abschreibung'!F254","v":0},0,0,{"$f":"'Lineare Abschreibung'!G254","v":0},13,0,0,null,""]
[null,null,null,{"$f":"'Lineare Abschreibung'!D255","v":0},{"$f":"'Lineare Abschreibung'!E255","v":0},{"$f":"'Lineare Abschreibung'!F255","v":0},0,0,{"$f":"'Lineare Abschreibung'!G255","v":0},13,0,0,null,""]
[null,null,null,{"$f":"'Lineare Abschreibung'!D256","v":0},{"$f":"'Lineare Abschreibung'!E256","v":0},{"$f":"'Lineare Abschreibung'!F256","v":0},0,0,{"$f":"'Lineare Abschreibung'!G256","v":0},13,0,0,null,""]
[null,null,null,{"$f":"'Lineare Abschreibung'!D257","v":0},{"$f":"'Lineare Abschreibung'!E257","v":0},{"$f":"'Lineare Abschreibung'!F257","v":0},0,0,{"$f":"'Lineare Abschreibung'!G257","v":0},13,0,0,null,""]
[null,null,null,{"$f":"'Lineare Abschreibung'!D258","v":0},{"$f":"'Lineare Abschreibung'!E258","v":0},{"$f":"'Lineare Abschreibung'!F258","v":0},0,0,{"$f":"'Lineare Abschreibung'!G258","v":0},13,0,0,null,""]
[null,null,null,{"$f":"'Lineare Abschreibung'!D259","v":0},{"$f":"'Lineare Abschreibung'!E259","v":0},{"$f":"'Lineare Abschreibung'!F259","v":0},0,0,{"$f":"'Lineare Abschreibung'!G259","v":0},13,0,0,null,""]
[null,null,null,{"$f":"'Lineare Abschreibung'!D260","v":0},{"$f":"'Lineare Abschreibung'!E260","v":0},{"$f":"'Lineare Abschreibung'!F260","v":0},0,0,{"$f":"'Lineare Abschreibung'!G260","v":0},13,0,0,null,""]
[null,null,null,{"$f":"'Lineare Abschreibung'!D261","v":0},{"$f":"'Lineare Abschreibung'!E261","v":0},{"$f":"'Lineare Abschreibung'!F261","v":0},0,0,{"$f":"'Lineare Abschreibung'!G261","v":0},13,0,0,null,""]
[null,null,null,{"$f":"'Lineare Abschreibung'!D262","v":0},{"$f":"'Lineare Abschreibung'!E262","v":0},{"$f":"'Lineare Abschreibung'!F262","v":0},0,0,{"$f":"'Lineare Abschreibung'!G262","v":0},13,0,0,null,""]
[null,null,null,{"$f":"'Lineare Abschreibung'!D263","v":0},{"$f":"'Lineare Abschreibung'!E263","v":0},{"$f":"'Lineare Abschreibung'!F263","v":0},0,0,{"$f":"'Lineare Abschreibung'!G263","v":0},13,0,0,null,""]
[null,null,null,{"$f":"'Lineare Abschreibung'!D264","v":0},{"$f":"'Lineare Abschreibung'!E264","v":0},{"$f":"'Lineare Abschreibung'!F264","v":0},0,0,{"$f":"'Lineare Abschreibung'!G264","v":0},13,0,0,null,""]
[null,null,null,{"$f":"'Lineare Abschreibung'!D265","v":0},{"$f":"'Lineare Abschreibung'!E265","v":0},{"$f":"'Lineare Abschreibung'!F265","v":0},0,0,{"$f":"'Lineare Abschreibung'!G265","v":0},13,0,0,null,""]
[null,null,null,{"$f":"'Lineare Abschreibung'!D266","v":0},{"$f":"'Lineare Abschreibung'!E266","v":0},{"$f":"'Lineare Abschreibung'!F266","v":0},0,0,{"$f":"'Lineare Abschreibung'!G266","v":0},13,0,0,null,""]
[null,null,null,{"$f":"'Lineare Abschreibung'!D267","v":0},{"$f":"'Lineare Abschreibung'!E267","v":0},{"$f":"'Lineare Abschreibung'!F267","v":0},0,0,{"$f":"'Lineare Abschreibung'!G267","v":0},13,0,0,null,""]
[null,null,null,{"$f":"'Lineare Abschreibung'!D268","v":0},{"$f":"'Lineare Abschreibung'!E268","v":0},{"$f":"'Lineare Abschreibung'!F268","v":0},0,0,{"$f":"'Lineare Abschreibung'!G268","v":0},13,0,0,null,""]
[null,null,null,{"$f":"'Lineare Abschreibung'!D269","v":0},{"$f":"'Lineare Abschreibung'!E269","v":0},{"$f":"'Lineare Abschreibung'!F269","v":0},0,0,{"$f":"'Lineare Abschreibung'!G269","v":0},13,0,0,null,""]
[null,null,null,{"$f":"'Lineare Abschreibung'!D270","v":0},{"$f":"'Lineare Abschreibung'!E270","v":0},{"$f":"'Lineare Abschreibung'!F270","v":0},0,0,{"$f":"'Lineare Abschreibung'!G270","v":0},13,0,0,null,""]
[null,null,null,{"$f":"'Lineare Abschreibung'!D271","v":0},{"$f":"'Lineare Abschreibung'!E271","v":0},{"$f":"'Lineare Abschreibung'!F271","v":0},0,0,{"$f":"'Lineare Abschreibung'!G271","v":0},13,0,0,null,""]
[null,null,null,{"$f":"'Lineare Abschreibung'!D272","v":0},{"$f":"'Lineare Abschreibung'!E272","v":0},{"$f":"'Lineare Abschreibung'!F272","v":0},0,0,{"$f":"'Lineare Abschreibung'!G272","v":0},13,0,0,null,""]
[null,null,null,{"$f":"'Lineare Abschreibung'!D273","v":0},{"$f":"'Lineare Abschreibung'!E273","v":0},{"$f":"'Lineare Abschreibung'!F273","v":0},0,0,{"$f":"'Lineare Abschreibung'!G273","v":0},13,0,0,null,""]
[null,null,null,{"$f":"'Lineare Abschreibung'!D274","v":0},{"$f":"'Lineare Abschreibung'!E274","v":0},{"$f":"'Lineare Abschreibung'!F274","v":0},0,0,{"$f":"'Lineare Abschreibung'!G274","v":0},13,0,0,null,""]
[null,null,null,{"$f":"'Lineare Abschreibung'!D275","v":0},{"$f":"'Lineare Abschreibung'!E275","v":0},{"$f":"'Lineare Abschreibung'!F275","v":0},0,0,{"$f":"'Lineare Abschreibung'!G275","v":0},13,0,0,null,""]
[null,null,null,{"$f":"'Lineare Abschreibung'!D276","v":0},{"$f":"'Lineare Abschreibung'!E276","v":0},{"$f":"'Lineare Abschreibung'!F276","v":0},0,0,{"$f":"'Lineare Abschreibung'!G276","v":0},13,0,0,null,""]
[null,null,null,{"$f":"'Lineare Abschreibung'!D277","v":0},{"$f":"'Lineare Abschreibung'!E277","v":0},{"$f":"'Lineare Abschreibung'!F277","v":0},0,0,{"$f":"'Lineare Abschreibung'!G277","v":0},13,0,0,null,""]
[null,null,null,{"$f":"'Lineare Abschreibung'!D278","v":0},{"$f":"'Lineare Abschreibung'!E278","v":0},{"$f":"'Lineare Abschreibung'!F278","v":0},0,0,{"$f":"'Lineare Abschreibung'!G278","v":0},13,0,0,null,""]
[null,null,null,{"$f":"'Lineare Abschreibung'!D279","v":0},{"$f":"'Lineare Abschreibung'!E279","v":0},{"$f":"'Lineare Abschreibung'!F279","v":0},0,0,{"$f":"'Lineare Abschreibung'!G279","v":0},13,0,0,null,""]
[null,null,null,{"$f":"'Lineare Abschreibung'!D280","v":0},{"$f":"'Lineare Abschreibung'!E280","v":0},{"$f":"'Lineare Abschreibung'!F280","v":0},0,0,{"$f":"'Lineare Abschreibung'!G280","v":0},13,0,0,null,""]
[null,null,null,{"$f":"'Lineare Abschreibung'!D281","v":0},{"$f":"'Lineare Abschreibung'!E281","v":0},{"$f":"'Lineare Abschreibung'!F281","v":0},0,0,{"$f":"'Lineare Abschreibung'!G281","v":0},13,0,0,null,""]
[null,null,null,{"$f":"'Lineare Abschreibung'!D282","v":0},{"$f":"'Lineare Abschreibung'!E282","v":0},{"$f":"'Lineare Abschreibung'!F282","v":0},{"$f":"IF(F282=0,0,1/F282)","v":0},{"$f":"IF(G282*2.5>25%,25%,G282*2.5)","v":0},{"$f":"'Lineare Abschreibung'!G282","v":0},{"$f":"12-I282+1","v":13},{"$f":"IF(E282<250.01,E282,E282/5)","v":0},{"$f":"IF($E282<800.01,$E282,$E282*H282/12*$J282)","v":0},null,{"$f":"IF(AND(E282>800,I282=0),\"Anschaffungsmonat fehlt!\",\"\")","v":""}]
[null,null,null,{"$f":"'Lineare Abschreibung'!D283","v":0},{"$f":"'Lineare Abschreibung'!E283","v":0},{"$f":"'Lineare Abschreibung'!F283","v":0},0,0,{"$f":"'Lineare Abschreibung'!G283","v":0},13,0,0,null,""]
[null,null,null,{"$f":"'Lineare Abschreibung'!D284","v":0},{"$f":"'Lineare Abschreibung'!E284","v":0},{"$f":"'Lineare Abschreibung'!F284","v":0},0,0,{"$f":"'Lineare Abschreibung'!G284","v":0},13,0,0,null,""]
[null,null,null,{"$f":"'Lineare Abschreibung'!D285","v":0},{"$f":"'Lineare Abschreibung'!E285","v":0},{"$f":"'Lineare Abschreibung'!F285","v":0},0,0,{"$f":"'Lineare Abschreibung'!G285","v":0},13,0,0,null,""]
[null,null,null,{"$f":"'Lineare Abschreibung'!D286","v":0},{"$f":"'Lineare Abschreibung'!E286","v":0},{"$f":"'Lineare Abschreibung'!F286","v":0},0,0,{"$f":"'Lineare Abschreibung'!G286","v":0},13,0,0,null,""]
[null,null,null,{"$f":"'Lineare Abschreibung'!D287","v":0},{"$f":"'Lineare Abschreibung'!E287","v":0},{"$f":"'Lineare Abschreibung'!F287","v":0},0,0,{"$f":"'Lineare Abschreibung'!G287","v":0},13,0,0,null,""]
[null,null,null,{"$f":"'Lineare Abschreibung'!D288","v":0},{"$f":"'Lineare Abschreibung'!E288","v":0},{"$f":"'Lineare Abschreibung'!F288","v":0},0,0,{"$f":"'Lineare Abschreibung'!G288","v":0},13,0,0,null,""]
[null,null,null,{"$f":"'Lineare Abschreibung'!D289","v":0},{"$f":"'Lineare Abschreibung'!E289","v":0},{"$f":"'Lineare Abschreibung'!F289","v":0},0,0,{"$f":"'Lineare Abschreibung'!G289","v":0},13,0,0,null,""]
[null,null,null,{"$f":"'Lineare Abschreibung'!D290","v":0},{"$f":"'Lineare Abschreibung'!E290","v":0},{"$f":"'Lineare Abschreibung'!F290","v":0},0,0,{"$f":"'Lineare Abschreibung'!G290","v":0},13,0,0,null,""]
[null,null,null,{"$f":"'Lineare Abschreibung'!D291","v":0},{"$f":"'Lineare Abschreibung'!E291","v":0},{"$f":"'Lineare Abschreibung'!F291","v":0},0,0,{"$f":"'Lineare Abschreibung'!G291","v":0},13,0,0,null,""]
[null,null,null,{"$f":"'Lineare Abschreibung'!D292","v":0},{"$f":"'Lineare Abschreibung'!E292","v":0},{"$f":"'Lineare Abschreibung'!F292","v":0},0,0,{"$f":"'Lineare Abschreibung'!G292","v":0},13,0,0,null,""]
[null,null,null,{"$f":"'Lineare Abschreibung'!D293","v":0},{"$f":"'Lineare Abschreibung'!E293","v":0},{"$f":"'Lineare Abschreibung'!F293","v":0},0,0,{"$f":"'Lineare Abschreibung'!G293","v":0},13,0,0,null,""]
[null,null,null,{"$f":"'Lineare Abschreibung'!D294","v":0},{"$f":"'Lineare Abschreibung'!E294","v":0},{"$f":"'Lineare Abschreibung'!F294","v":0},0,0,{"$f":"'Lineare Abschreibung'!G294","v":0},13,0,0,null,""]
[null,null,null,{"$f":"'Lineare Abschreibung'!D295","v":0},{"$f":"'Lineare Abschreibung'!E295","v":0},{"$f":"'Lineare Abschreibung'!F295","v":0},0,0,{"$f":"'Lineare Abschreibung'!G295","v":0},13,0,0,null,""]
[null,null,null,{"$f":"'Lineare Abschreibung'!D296","v":0},{"$f":"'Lineare Abschreibung'!E296","v":0},{"$f":"'Lineare Abschreibung'!F296","v":0},0,0,{"$f":"'Lineare Abschreibung'!G296","v":0},13,0,0,null,""]
[null,null,null,{"$f":"'Lineare Abschreibung'!D297","v":0},{"$f":"'Lineare Abschreibung'!E297","v":0},{"$f":"'Lineare Abschreibung'!F297","v":0},0,0,{"$f":"'Lineare Abschreibung'!G297","v":0},13,0,0,null,""]
[null,null,null,{"$f":"'Lineare Abschreibung'!D298","v":0},{"$f":"'Lineare Abschreibung'!E298","v":0},{"$f":"'Lineare Abschreibung'!F298","v":0},0,0,{"$f":"'Lineare Abschreibung'!G298","v":0},13,0,0,null,""]
[null,null,null,{"$f":"'Lineare Abschreibung'!D299","v":0},{"$f":"'Lineare Abschreibung'!E299","v":0},{"$f":"'Lineare Abschreibung'!F299","v":0},0,0,{"$f":"'Lineare Abschreibung'!G299","v":0},13,0,0,null,""]
[null,null,null,{"$f":"'Lineare Abschreibung'!D300","v":0},{"$f":"'Lineare Abschreibung'!E300","v":0},{"$f":"'Lineare Abschreibung'!F300","v":0},0,0,{"$f":"'Lineare Abschreibung'!G300","v":0},13,0,0,null,""]
[null,null,null,{"$f":"'Lineare Abschreibung'!D301","v":0},{"$f":"'Lineare Abschreibung'!E301","v":0},{"$f":"'Lineare Abschreibung'!F301","v":0},0,0,{"$f":"'Lineare Abschreibung'!G301","v":0},13,0,0,null,""]
[null,null,null,{"$f":"'Lineare Abschreibung'!D302","v":0},{"$f":"'Lineare Abschreibung'!E302","v":0},{"$f":"'Lineare Abschreibung'!F302","v":0},0,0,{"$f":"'Lineare Abschreibung'!G302","v":0},13,0,0,null,""]
[null,null,null,{"$f":"'Lineare Abschreibung'!D303","v":0},{"$f":"'Lineare Abschreibung'!E303","v":0},{"$f":"'Lineare Abschreibung'!F303","v":0},0,0,{"$f":"'Lineare Abschreibung'!G303","v":0},13,0,0,null,""]
[null,null,null,{"$f":"'Lineare Abschreibung'!D304","v":0},{"$f":"'Lineare Abschreibung'!E304","v":0},{"$f":"'Lineare Abschreibung'!F304","v":0},0,0,{"$f":"'Lineare Abschreibung'!G304","v":0},13,0,0,null,""]
[null,null,null,{"$f":"'Lineare Abschreibung'!D305","v":0},{"$f":"'Lineare Abschreibung'!E305","v":0},{"$f":"'Lineare Abschreibung'!F305","v":0},0,0,{"$f":"'Lineare Abschreibung'!G305","v":0},13,0,0,null,""]
[null,null,null,{"$f":"'Lineare Abschreibung'!D306","v":0},{"$f":"'Lineare Abschreibung'!E306","v":0},{"$f":"'Lineare Abschreibung'!F306","v":0},0,0,{"$f":"'Lineare Abschreibung'!G306","v":0},13,0,0,null,""]
[null,null,null,{"$f":"'Lineare Abschreibung'!D307","v":0},{"$f":"'Lineare Abschreibung'!E307","v":0},{"$f":"'Lineare Abschreibung'!F307","v":0},0,0,{"$f":"'Lineare Abschreibung'!G307","v":0},13,0,0,null,""]
[null,null,null,{"$f":"'Lineare Abschreibung'!D308","v":0},{"$f":"'Lineare Abschreibung'!E308","v":0},{"$f":"'Lineare Abschreibung'!F308","v":0},0,0,{"$f":"'Lineare Abschreibung'!G308","v":0},13,0,0,null,""]
[null,null,null,{"$f":"'Lineare Abschreibung'!D309","v":0},{"$f":"'Lineare Abschreibung'!E309","v":0},{"$f":"'Lineare Abschreibung'!F309","v":0},0,0,{"$f":"'Lineare Abschreibung'!G309","v":0},13,0,0,null,""]
[null,null,null,{"$f":"'Lineare Abschreibung'!D310","v":0},{"$f":"'Lineare Abschreibung'!E310","v":0},{"$f":"'Lineare Abschreibung'!F310","v":0},0,0,{"$f":"'Lineare Abschreibung'!G310","v":0},13,0,0,null,""]
[null,null,null,{"$f":"'Lineare Abschreibung'!D311","v":0},{"$f":"'Lineare Abschreibung'!E311","v":0},{"$f":"'Lineare Abschreibung'!F311","v":0},0,0,{"$f":"'Lineare Abschreibung'!G311","v":0},13,0,0,null,""]
[null,null,null,{"$f":"'Lineare Abschreibung'!D312","v":0},{"$f":"'Lineare Abschreibung'!E312","v":0},{"$f":"'Lineare Abschreibung'!F312","v":0},0,0,{"$f":"'Lineare Abschreibung'!G312","v":0},13,0,0,null,""]
[null,null,null,{"$f":"'Lineare Abschreibung'!D313","v":0},{"$f":"'Lineare Abschreibung'!E313","v":0},{"$f":"'Lineare Abschreibung'!F313","v":0},0,0,{"$f":"'Lineare Abschreibung'!G313","v":0},13,0,0,null,""]
[null,null,null,{"$f":"'Lineare Abschreibung'!D314","v":0},{"$f":"'Lineare Abschreibung'!E314","v":0},{"$f":"'Lineare Abschreibung'!F314","v":0},0,0,{"$f":"'Lineare Abschreibung'!G314","v":0},13,0,0,null,""]
[null,null,null,{"$f":"'Lineare Abschreibung'!D315","v":0},{"$f":"'Lineare Abschreibung'!E315","v":0},{"$f":"'Lineare Abschreibung'!F315","v":0},0,0,{"$f":"'Lineare Abschreibung'!G315","v":0},13,0,0,null,""]
[null,null,null,{"$f":"'Lineare Abschreibung'!D316","v":0},{"$f":"'Lineare Abschreibung'!E316","v":0},{"$f":"'Lineare Abschreibung'!F316","v":0},0,0,{"$f":"'Lineare Abschreibung'!G316","v":0},13,0,0,null,""]
[null,null,null,{"$f":"'Lineare Abschreibung'!D317","v":0},{"$f":"'Lineare Abschreibung'!E317","v":0},{"$f":"'Lineare Abschreibung'!F317","v":0},0,0,{"$f":"'Lineare Abschreibung'!G317","v":0},13,0,0,null,""]
[null,null,null,{"$f":"'Lineare Abschreibung'!D318","v":0},{"$f":"'Lineare Abschreibung'!E318","v":0},{"$f":"'Lineare Abschreibung'!F318","v":0},0,0,{"$f":"'Lineare Abschreibung'!G318","v":0},13,0,0,null,""]
[null,null,null,{"$f":"'Lineare Abschreibung'!D319","v":0},{"$f":"'Lineare Abschreibung'!E319","v":0},{"$f":"'Lineare Abschreibung'!F319","v":0},0,0,{"$f":"'Lineare Abschreibung'!G319","v":0},13,0,0,null,""]
[null,null,null,{"$f":"'Lineare Abschreibung'!D320","v":0},{"$f":"'Lineare Abschreibung'!E320","v":0},{"$f":"'Lineare Abschreibung'!F320","v":0},0,0,{"$f":"'Lineare Abschreibung'!G320","v":0},13,0,0,null,""]
[null,null,null,{"$f":"'Lineare Abschreibung'!D321","v":0},{"$f":"'Lineare Abschreibung'!E321","v":0},{"$f":"'Lineare Abschreibung'!F321","v":0},0,0,{"$f":"'Lineare Abschreibung'!G321","v":0},13,0,0,null,""]
[null,null,null,{"$f":"'Lineare Abschreibung'!D322","v":0},{"$f":"'Lineare Abschreibung'!E322","v":0},{"$f":"'Lineare Abschreibung'!F322","v":0},0,0,{"$f":"'Lineare Abschreibung'!G322","v":0},13,0,0,null,""]
[null,null,null,{"$f":"'Lineare Abschreibung'!D323","v":0},{"$f":"'Lineare Abschreibung'!E323","v":0},{"$f":"'Lineare Abschreibung'!F323","v":0},0,0,{"$f":"'Lineare Abschreibung'!G323","v":0},13,0,0,null,""]
[null,null,null,{"$f":"'Lineare Abschreibung'!D324","v":0},{"$f":"'Lineare Abschreibung'!E324","v":0},{"$f":"'Lineare Abschreibung'!F324","v":0},0,0,{"$f":"'Lineare Abschreibung'!G324","v":0},13,0,0,null,""]
[null,null,null,{"$f":"'Lineare Abschreibung'!D325","v":0},{"$f":"'Lineare Abschreibung'!E325","v":0},{"$f":"'Lineare Abschreibung'!F325","v":0},0,0,{"$f":"'Lineare Abschreibung'!G325","v":0},13,0,0,null,""]
[null,null,null,{"$f":"'Lineare Abschreibung'!D326","v":0},{"$f":"'Lineare Abschreibung'!E326","v":0},{"$f":"'Lineare Abschreibung'!F326","v":0},0,0,{"$f":"'Lineare Abschreibung'!G326","v":0},13,0,0,null,""]
[null,null,null,{"$f":"'Lineare Abschreibung'!D327","v":0},{"$f":"'Lineare Abschreibung'!E327","v":0},{"$f":"'Lineare Abschreibung'!F327","v":0},0,0,{"$f":"'Lineare Abschreibung'!G327","v":0},13,0,0,null,""]
[null,null,null,{"$f":"'Lineare Abschreibung'!D328","v":0},{"$f":"'Lineare Abschreibung'!E328","v":0},{"$f":"'Lineare Abschreibung'!F328","v":0},0,0,{"$f":"'Lineare Abschreibung'!G328","v":0},13,0,0,null,""]
[null,null,null,{"$f":"'Lineare Abschreibung'!D329","v":0},{"$f":"'Lineare Abschreibung'!E329","v":0},{"$f":"'Lineare Abschreibung'!F329","v":0},0,0,{"$f":"'Lineare Abschreibung'!G329","v":0},13,0,0,null,""]
[null,null,null,{"$f":"'Lineare Abschreibung'!D330","v":0},{"$f":"'Lineare Abschreibung'!E330","v":0},{"$f":"'Lineare Abschreibung'!F330","v":0},0,0,{"$f":"'Lineare Abschreibung'!G330","v":0},13,0,0,null,""]
[null,null,null,{"$f":"'Lineare Abschreibung'!D331","v":0},{"$f":"'Lineare Abschreibung'!E331","v":0},{"$f":"'Lineare Abschreibung'!F331","v":0},0,0,{"$f":"'Lineare Abschreibung'!G331","v":0},13,0,0,null,""]
[null,null,null,{"$f":"'Lineare Abschreibung'!D332","v":0},{"$f":"'Lineare Abschreibung'!E332","v":0},{"$f":"'Lineare Abschreibung'!F332","v":0},0,0,{"$f":"'Lineare Abschreibung'!G332","v":0},13,0,0,null,""]
[null,null,null,{"$f":"'Lineare Abschreibung'!D333","v":0},{"$f":"'Lineare Abschreibung'!E333","v":0},{"$f":"'Lineare Abschreibung'!F333","v":0},0,0,{"$f":"'Lineare Abschreibung'!G333","v":0},13,0,0,null,""]
[null,null,null,{"$f":"'Lineare Abschreibung'!D334","v":0},{"$f":"'Lineare Abschreibung'!E334","v":0},{"$f":"'Lineare Abschreibung'!F334","v":0},0,0,{"$f":"'Lineare Abschreibung'!G334","v":0},13,0,0,null,""]
[null,null,null,{"$f":"'Lineare Abschreibung'!D335","v":0},{"$f":"'Lineare Abschreibung'!E335","v":0},{"$f":"'Lineare Abschreibung'!F335","v":0},0,0,{"$f":"'Lineare Abschreibung'!G335","v":0},13,0,0,null,""]
[null,null,null,{"$f":"'Lineare Abschreibung'!D336","v":0},{"$f":"'Lineare Abschreibung'!E336","v":0},{"$f":"'Lineare Abschreibung'!F336","v":0},0,0,{"$f":"'Lineare Abschreibung'!G336","v":0},13,0,0,null,""]
[null,null,null,{"$f":"'Lineare Abschreibung'!D337","v":0},{"$f":"'Lineare Abschreibung'!E337","v":0},{"$f":"'Lineare Abschreibung'!F337","v":0},0,0,{"$f":"'Lineare Abschreibung'!G337","v":0},13,0,0,null,""]
[null,null,null,{"$f":"'Lineare Abschreibung'!D338","v":0},{"$f":"'Lineare Abschreibung'!E338","v":0},{"$f":"'Lineare Abschreibung'!F338","v":0},0,0,{"$f":"'Lineare Abschreibung'!G338","v":0},13,0,0,null,""]
[null,null,null,{"$f":"'Lineare Abschreibung'!D339","v":0},{"$f":"'Lineare Abschreibung'!E339","v":0},{"$f":"'Lineare Abschreibung'!F339","v":0},0,0,{"$f":"'Lineare Abschreibung'!G339","v":0},13,0,0,null,""]
[null,null,null,{"$f":"'Lineare Abschreibung'!D340","v":0},{"$f":"'Lineare Abschreibung'!E340","v":0},{"$f":"'Lineare Abschreibung'!F340","v":0},0,0,{"$f":"'Lineare Abschreibung'!G340","v":0},13,0,0,null,""]
[null,null,null,{"$f":"'Lineare Abschreibung'!D341","v":0},{"$f":"'Lineare Abschreibung'!E341","v":0},{"$f":"'Lineare Abschreibung'!F341","v":0},0,0,{"$f":"'Lineare Abschreibung'!G341","v":0},13,0,0,null,""]
[null,null,null,{"$f":"'Lineare Abschreibung'!D342","v":0},{"$f":"'Lineare Abschreibung'!E342","v":0},{"$f":"'Lineare Abschreibung'!F342","v":0},0,0,{"$f":"'Lineare Abschreibung'!G342","v":0},13,0,0,null,""]
[null,null,null,{"$f":"'Lineare Abschreibung'!D343","v":0},{"$f":"'Lineare Abschreibung'!E343","v":0},{"$f":"'Lineare Abschreibung'!F343","v":0},0,0,{"$f":"'Lineare Abschreibung'!G343","v":0},13,0,0,null,""]
[null,null,null,{"$f":"'Lineare Abschreibung'!D344","v":0},{"$f":"'Lineare Abschreibung'!E344","v":0},{"$f":"'Lineare Abschreibung'!F344","v":0},0,0,{"$f":"'Lineare Abschreibung'!G344","v":0},13,0,0,null,""]
[null,null,null,{"$f":"'Lineare Abschreibung'!D345","v":0},{"$f":"'Lineare Abschreibung'!E345","v":0},{"$f":"'Lineare Abschreibung'!F345","v":0},0,0,{"$f":"'Lineare Abschreibung'!G345","v":0},13,0,0,null,""]
[null,null,null,{"$f":"'Lineare Abschreibung'!D346","v":0},{"$f":"'Lineare Abschreibung'!E346","v":0},{"$f":"'Lineare Abschreibung'!F346","v":0},{"$f":"IF(F346=0,0,1/F346)","v":0},{"$f":"IF(G346*2.5>25%,25%,G346*2.5)","v":0},{"$f":"'Lineare Abschreibung'!G346","v":0},{"$f":"12-I346+1","v":13},{"$f":"IF(E346<250.01,E346,E346/5)","v":0},{"$f":"IF($E346<800.01,$E346,$E346*H346/12*$J346)","v":0},null,{"$f":"IF(AND(E346>800,I346=0),\"Anschaffungsmonat fehlt!\",\"\")","v":""}]
[null,null,null,{"$f":"'Lineare Abschreibung'!D347","v":0},{"$f":"'Lineare Abschreibung'!E347","v":0},{"$f":"'Lineare Abschreibung'!F347","v":0},0,0,{"$f":"'Lineare Abschreibung'!G347","v":0},13,0,0,null,""]
[null,null,null,{"$f":"'Lineare Abschreibung'!D348","v":0},{"$f":"'Lineare Abschreibung'!E348","v":0},{"$f":"'Lineare Abschreibung'!F348","v":0},0,0,{"$f":"'Lineare Abschreibung'!G348","v":0},13,0,0,null,""]
[null,null,null,{"$f":"'Lineare Abschreibung'!D349","v":0},{"$f":"'Lineare Abschreibung'!E349","v":0},{"$f":"'Lineare Abschreibung'!F349","v":0},0,0,{"$f":"'Lineare Abschreibung'!G349","v":0},13,0,0,null,""]
[null,null,null,{"$f":"'Lineare Abschreibung'!D350","v":0},{"$f":"'Lineare Abschreibung'!E350","v":0},{"$f":"'Lineare Abschreibung'!F350","v":0},0,0,{"$f":"'Lineare Abschreibung'!G350","v":0},13,0,0,null,""]
[null,null,null,{"$f":"'Lineare Abschreibung'!D351","v":0},{"$f":"'Lineare Abschreibung'!E351","v":0},{"$f":"'Lineare Abschreibung'!F351","v":0},0,0,{"$f":"'Lineare Abschreibung'!G351","v":0},13,0,0,null,""]
[null,null,null,{"$f":"'Lineare Abschreibung'!D352","v":0},{"$f":"'Lineare Abschreibung'!E352","v":0},{"$f":"'Lineare Abschreibung'!F352","v":0},0,0,{"$f":"'Lineare Abschreibung'!G352","v":0},13,0,0,null,""]
[null,null,null,{"$f":"'Lineare Abschreibung'!D353","v":0},{"$f":"'Lineare Abschreibung'!E353","v":0},{"$f":"'Lineare Abschreibung'!F353","v":0},0,0,{"$f":"'Lineare Abschreibung'!G353","v":0},13,0,0,null,""]
[null,null,null,{"$f":"'Lineare Abschreibung'!D354","v":0},{"$f":"'Lineare Abschreibung'!E354","v":0},{"$f":"'Lineare Abschreibung'!F354","v":0},0,0,{"$f":"'Lineare Abschreibung'!G354","v":0},13,0,0,null,""]
[null,null,null,{"$f":"'Lineare Abschreibung'!D355","v":0},{"$f":"'Lineare Abschreibung'!E355","v":0},{"$f":"'Lineare Abschreibung'!F355","v":0},0,0,{"$f":"'Lineare Abschreibung'!G355","v":0},13,0,0,null,""]
[null,null,null,{"$f":"'Lineare Abschreibung'!D356","v":0},{"$f":"'Lineare Abschreibung'!E356","v":0},{"$f":"'Lineare Abschreibung'!F356","v":0},0,0,{"$f":"'Lineare Abschreibung'!G356","v":0},13,0,0,null,""]
[null,null,null,{"$f":"'Lineare Abschreibung'!D357","v":0},{"$f":"'Lineare Abschreibung'!E357","v":0},{"$f":"'Lineare Abschreibung'!F357","v":0},0,0,{"$f":"'Lineare Abschreibung'!G357","v":0},13,0,0,null,""]
[null,null,null,{"$f":"'Lineare Abschreibung'!D358","v":0},{"$f":"'Lineare Abschreibung'!E358","v":0},{"$f":"'Lineare Abschreibung'!F358","v":0},0,0,{"$f":"'Lineare Abschreibung'!G358","v":0},13,0,0,null,""]
[null,null,null,{"$f":"'Lineare Abschreibung'!D359","v":0},{"$f":"'Lineare Abschreibung'!E359","v":0},{"$f":"'Lineare Abschreibung'!F359","v":0},0,0,{"$f":"'Lineare Abschreibung'!G359","v":0},13,0,0,null,""]
[null,null,null,{"$f":"'Lineare Abschreibung'!D360","v":0},{"$f":"'Lineare Abschreibung'!E360","v":0},{"$f":"'Lineare Abschreibung'!F360","v":0},0,0,{"$f":"'Lineare Abschreibung'!G360","v":0},13,0,0,null,""]
[null,null,null,{"$f":"'Lineare Abschreibung'!D361","v":0},{"$f":"'Lineare Abschreibung'!E361","v":0},{"$f":"'Lineare Abschreibung'!F361","v":0},0,0,{"$f":"'Lineare Abschreibung'!G361","v":0},13,0,0,null,""]
[null,null,null,{"$f":"'Lineare Abschreibung'!D362","v":0},{"$f":"'Lineare Abschreibung'!E362","v":0},{"$f":"'Lineare Abschreibung'!F362","v":0},0,0,{"$f":"'Lineare Abschreibung'!G362","v":0},13,0,0,null,""]
[null,null,null,{"$f":"'Lineare Abschreibung'!D363","v":0},{"$f":"'Lineare Abschreibung'!E363","v":0},{"$f":"'Lineare Abschreibung'!F363","v":0},0,0,{"$f":"'Lineare Abschreibung'!G363","v":0},13,0,0,null,""]
[null,null,null,{"$f":"'Lineare Abschreibung'!D364","v":0},{"$f":"'Lineare Abschreibung'!E364","v":0},{"$f":"'Lineare Abschreibung'!F364","v":0},0,0,{"$f":"'Lineare Abschreibung'!G364","v":0},13,0,0,null,""]
[null,null,null,{"$f":"'Lineare Abschreibung'!D365","v":0},{"$f":"'Lineare Abschreibung'!E365","v":0},{"$f":"'Lineare Abschreibung'!F365","v":0},0,0,{"$f":"'Lineare Abschreibung'!G365","v":0},13,0,0,null,""]
[null,null,null,{"$f":"'Lineare Abschreibung'!D366","v":0},{"$f":"'Lineare Abschreibung'!E366","v":0},{"$f":"'Lineare Abschreibung'!F366","v":0},0,0,{"$f":"'Lineare Abschreibung'!G366","v":0},13,0,0,null,""]
[null,null,null,{"$f":"'Lineare Abschreibung'!D367","v":0},{"$f":"'Lineare Abschreibung'!E367","v":0},{"$f":"'Lineare Abschreibung'!F367","v":0},0,0,{"$f":"'Lineare Abschreibung'!G367","v":0},13,0,0,null,""]
[null,null,null,{"$f":"'Lineare Abschreibung'!D368","v":0},{"$f":"'Lineare Abschreibung'!E368","v":0},{"$f":"'Lineare Abschreibung'!F368","v":0},0,0,{"$f":"'Lineare Abschreibung'!G368","v":0},13,0,0,null,""]
[null,null,null,{"$f":"'Lineare Abschreibung'!D369","v":0},{"$f":"'Lineare Abschreibung'!E369","v":0},{"$f":"'Lineare Abschreibung'!F369","v":0},0,0,{"$f":"'Lineare Abschreibung'!G369","v":0},13,0,0,null,""]
[null,null,null,{"$f":"'Lineare Abschreibung'!D370","v":0},{"$f":"'Lineare Abschreibung'!E370","v":0},{"$f":"'Lineare Abschreibung'!F370","v":0},0,0,{"$f":"'Lineare Abschreibung'!G370","v":0},13,0,0,null,""]
[null,null,null,{"$f":"'Lineare Abschreibung'!D371","v":0},{"$f":"'Lineare Abschreibung'!E371","v":0},{"$f":"'Lineare Abschreibung'!F371","v":0},0,0,{"$f":"'Lineare Abschreibung'!G371","v":0},13,0,0,null,""]
[null,null,null,{"$f":"'Lineare Abschreibung'!D372","v":0},{"$f":"'Lineare Abschreibung'!E372","v":0},{"$f":"'Lineare Abschreibung'!F372","v":0},0,0,{"$f":"'Lineare Abschreibung'!G372","v":0},13,0,0,null,""]
[null,null,null,{"$f":"'Lineare Abschreibung'!D373","v":0},{"$f":"'Lineare Abschreibung'!E373","v":0},{"$f":"'Lineare Abschreibung'!F373","v":0},0,0,{"$f":"'Lineare Abschreibung'!G373","v":0},13,0,0,null,""]
[null,null,null,{"$f":"'Lineare Abschreibung'!D374","v":0},{"$f":"'Lineare Abschreibung'!E374","v":0},{"$f":"'Lineare Abschreibung'!F374","v":0},0,0,{"$f":"'Lineare Abschreibung'!G374","v":0},13,0,0,null,""]
[null,null,null,{"$f":"'Lineare Abschreibung'!D375","v":0},{"$f":"'Lineare Abschreibung'!E375","v":0},{"$f":"'Lineare Abschreibung'!F375","v":0},0,0,{"$f":"'Lineare Abschreibung'!G375","v":0},13,0,0,null,""]
[null,null,null,{"$f":"'Lineare Abschreibung'!D376","v":0},{"$f":"'Lineare Abschreibung'!E376","v":0},{"$f":"'Lineare Abschreibung'!F376","v":0},0,0,{"$f":"'Lineare Abschreibung'!G376","v":0},13,0,0,null,""]
[null,null,null,{"$f":"'Lineare Abschreibung'!D377","v":0},{"$f":"'Lineare Abschreibung'!E377","v":0},{"$f":"'Lineare Abschreibung'!F377","v":0},0,0,{"$f":"'Lineare Abschreibung'!G377","v":0},13,0,0,null,""]
[null,null,null,{"$f":"'Lineare Abschreibung'!D378","v":0},{"$f":"'Lineare Abschreibung'!E378","v":0},{"$f":"'Lineare Abschreibung'!F378","v":0},0,0,{"$f":"'Lineare Abschreibung'!G378","v":0},13,0,0,null,""]
[null,null,null,{"$f":"'Lineare Abschreibung'!D379","v":0},{"$f":"'Lineare Abschreibung'!E379","v":0},{"$f":"'Lineare Abschreibung'!F379","v":0},0,0,{"$f":"'Lineare Abschreibung'!G379","v":0},13,0,0,null,""]
[null,null,null,{"$f":"'Lineare Abschreibung'!D380","v":0},{"$f":"'Lineare Abschreibung'!E380","v":0},{"$f":"'Lineare Abschreibung'!F380","v":0},0,0,{"$f":"'Lineare Abschreibung'!G380","v":0},13,0,0,null,""]
[null,null,null,{"$f":"'Lineare Abschreibung'!D381","v":0},{"$f":"'Lineare Abschreibung'!E381","v":0},{"$f":"'Lineare Abschreibung'!F381","v":0},0,0,{"$f":"'Lineare Abschreibung'!G381","v":0},13,0,0,null,""]
[null,null,null,{"$f":"'Lineare Abschreibung'!D382","v":0},{"$f":"'Lineare Abschreibung'!E382","v":0},{"$f":"'Lineare Abschreibung'!F382","v":0},0,0,{"$f":"'Lineare Abschreibung'!G382","v":0},13,0,0,null,""]
[null,null,null,{"$f":"'Lineare Abschreibung'!D383","v":0},{"$f":"'Lineare Abschreibung'!E383","v":0},{"$f":"'Lineare Abschreibung'!F383","v":0},0,0,{"$f":"'Lineare Abschreibung'!G383","v":0},13,0,0,null,""]
[null,null,null,{"$f":"'Lineare Abschreibung'!D384","v":0},{"$f":"'Lineare Abschreibung'!E384","v":0},{"$f":"'Lineare Abschreibung'!F384","v":0},0,0,{"$f":"'Lineare Abschreibung'!G384","v":0},13,0,0,null,""]
[null,null,null,{"$f":"'Lineare Abschreibung'!D385","v":0},{"$f":"'Lineare Abschreibung'!E385","v":0},{"$f":"'Lineare Abschreibung'!F385","v":0},0,0,{"$f":"'Lineare Abschreibung'!G385","v":0},13,0,0,null,""]
[null,null,null,{"$f":"'Lineare Abschreibung'!D386","v":0},{"$f":"'Lineare Abschreibung'!E386","v":0},{"$f":"'Lineare Abschreibung'!F386","v":0},0,0,{"$f":"'Lineare Abschreibung'!G386","v":0},13,0,0,null,""]
[null,null,null,{"$f":"'Lineare Abschreibung'!D387","v":0},{"$f":"'Lineare Abschreibung'!E387","v":0},{"$f":"'Lineare Abschreibung'!F387","v":0},0,0,{"$f":"'Lineare Abschreibung'!G387","v":0},13,0,0,null,""]
[null,null,null,{"$f":"'Lineare Abschreibung'!D388","v":0},{"$f":"'Lineare Abschreibung'!E388","v":0},{"$f":"'Lineare Abschreibung'!F388","v":0},0,0,{"$f":"'Lineare Abschreibung'!G388","v":0},13,0,0,null,""]
[null,null,null,{"$f":"'Lineare Abschreibung'!D389","v":0},{"$f":"'Lineare Abschreibung'!E389","v":0},{"$f":"'Lineare Abschreibung'!F389","v":0},0,0,{"$f":"'Lineare Abschreibung'!G389","v":0},13,0,0,null,""]
[null,null,null,{"$f":"'Lineare Abschreibung'!D390","v":0},{"$f":"'Lineare Abschreibung'!E390","v":0},{"$f":"'Lineare Abschreibung'!F390","v":0},0,0,{"$f":"'Lineare Abschreibung'!G390","v":0},13,0,0,null,""]
[null,null,null,{"$f":"'Lineare Abschreibung'!D391","v":0},{"$f":"'Lineare Abschreibung'!E391","v":0},{"$f":"'Lineare Abschreibung'!F391","v":0},0,0,{"$f":"'Lineare Abschreibung'!G391","v":0},13,0,0,null,""]
[null,null,null,{"$f":"'Lineare Abschreibung'!D392","v":0},{"$f":"'Lineare Abschreibung'!E392","v":0},{"$f":"'Lineare Abschreibung'!F392","v":0},0,0,{"$f":"'Lineare Abschreibung'!G392","v":0},13,0,0,null,""]
[null,null,null,{"$f":"'Lineare Abschreibung'!D393","v":0},{"$f":"'Lineare Abschreibung'!E393","v":0},{"$f":"'Lineare Abschreibung'!F393","v":0},0,0,{"$f":"'Lineare Abschreibung'!G393","v":0},13,0,0,null,""]
[null,null,null,{"$f":"'Lineare Abschreibung'!D394","v":0},{"$f":"'Lineare Abschreibung'!E394","v":0},{"$f":"'Lineare Abschreibung'!F394","v":0},0,0,{"$f":"'Lineare Abschreibung'!G394","v":0},13,0,0,null,""]
[null,null,null,{"$f":"'Lineare Abschreibung'!D395","v":0},{"$f":"'Lineare Abschreibung'!E395","v":0},{"$f":"'Lineare Abschreibung'!F395","v":0},0,0,{"$f":"'Lineare Abschreibung'!G395","v":0},13,0,0,null,""]
[null,null,null,{"$f":"'Lineare Abschreibung'!D396","v":0},{"$f":"'Lineare Abschreibung'!E396","v":0},{"$f":"'Lineare Abschreibung'!F396","v":0},0,0,{"$f":"'Lineare Abschreibung'!G396","v":0},13,0,0,null,""]
[null,null,null,{"$f":"'Lineare Abschreibung'!D397","v":0},{"$f":"'Lineare Abschreibung'!E397","v":0},{"$f":"'Lineare Abschreibung'!F397","v":0},0,0,{"$f":"'Lineare Abschreibung'!G397","v":0},13,0,0,null,""]
[null,null,null,{"$f":"'Lineare Abschreibung'!D398","v":0},{"$f":"'Lineare Abschreibung'!E398","v":0},{"$f":"'Lineare Abschreibung'!F398","v":0},0,0,{"$f":"'Lineare Abschreibung'!G398","v":0},13,0,0,null,""]
[null,null,null,{"$f":"'Lineare Abschreibung'!D399","v":0},{"$f":"'Lineare Abschreibung'!E399","v":0},{"$f":"'Lineare Abschreibung'!F399","v":0},0,0,{"$f":"'Lineare Abschreibung'!G399","v":0},13,0,0,null,""]
[null,null,null,{"$f":"'Lineare Abschreibung'!D400","v":0},{"$f":"'Lineare Abschreibung'!E400","v":0},{"$f":"'Lineare Abschreibung'!F400","v":0},0,0,{"$f":"'Lineare Abschreibung'!G400","v":0},13,0,0,null,""]
[null,null,null,{"$f":"'Lineare Abschreibung'!D401","v":0},{"$f":"'Lineare Abschreibung'!E401","v":0},{"$f":"'Lineare Abschreibung'!F401","v":0},0,0,{"$f":"'Lineare Abschreibung'!G401","v":0},13,0,0,null,""]
[null,null,null,{"$f":"'Lineare Abschreibung'!D402","v":0},{"$f":"'Lineare Abschreibung'!E402","v":0},{"$f":"'Lineare Abschreibung'!F402","v":0},0,0,{"$f":"'Lineare Abschreibung'!G402","v":0},13,0,0,null,""]
[null,null,null,{"$f":"'Lineare Abschreibung'!D403","v":0},{"$f":"'Lineare Abschreibung'!E403","v":0},{"$f":"'Lineare Abschreibung'!F403","v":0},0,0,{"$f":"'Lineare Abschreibung'!G403","v":0},13,0,0,null,""]
[null,null,null,{"$f":"'Lineare Abschreibung'!D404","v":0},{"$f":"'Lineare Abschreibung'!E404","v":0},{"$f":"'Lineare Abschreibung'!F404","v":0},0,0,{"$f":"'Lineare Abschreibung'!G404","v":0},13,0,0,null,""]
[null,null,null,{"$f":"'Lineare Abschreibung'!D405","v":0},{"$f":"'Lineare Abschreibung'!E405","v":0},{"$f":"'Lineare Abschreibung'!F405","v":0},0,0,{"$f":"'Lineare Abschreibung'!G405","v":0},13,0,0,null,""]
[null,null,null,{"$f":"'Lineare Abschreibung'!D406","v":0},{"$f":"'Lineare Abschreibung'!E406","v":0},{"$f":"'Lineare Abschreibung'!F406","v":0},0,0,{"$f":"'Lineare Abschreibung'!G406","v":0},13,0,0,null,""]
[null,null,null,{"$f":"'Lineare Abschreibung'!D407","v":0},{"$f":"'Lineare Abschreibung'!E407","v":0},{"$f":"'Lineare Abschreibung'!F407","v":0},0,0,{"$f":"'Lineare Abschreibung'!G407","v":0},13,0,0,null,""]
[null,null,null,{"$f":"'Lineare Abschreibung'!D408","v":0},{"$f":"'Lineare Abschreibung'!E408","v":0},{"$f":"'Lineare Abschreibung'!F408","v":0},0,0,{"$f":"'Lineare Abschreibung'!G408","v":0},13,0,0,null,""]
[null,null,null,{"$f":"'Lineare Abschreibung'!D409","v":0},{"$f":"'Lineare Abschreibung'!E409","v":0},{"$f":"'Lineare Abschreibung'!F409","v":0},0,0,{"$f":"'Lineare Abschreibung'!G409","v":0},13,0,0,null,""]
[null,null,null,{"$f":"'Lineare Abschreibung'!D410","v":0},{"$f":"'Lineare Abschreibung'!E410","v":0},{"$f":"'Lineare Abschreibung'!F410","v":0},{"$f":"IF(F410=0,0,1/F410)","v":0},{"$f":"IF(G410*2.5>25%,25%,G410*2.5)","v":0},{"$f":"'Lineare Abschreibung'!G410","v":0},{"$f":"12-I410+1","v":13},{"$f":"IF(E410<250.01,E410,E410/5)","v":0},{"$f":"IF($E410<800.01,$E410,$E410*H410/12*$J410)","v":0},null,{"$f":"IF(AND(E410>800,I410=0),\"Anschaffungsmonat fehlt!\",\"\")","v":""}]
[null,null,null,{"$f":"'Lineare Abschreibung'!D411","v":0},{"$f":"'Lineare Abschreibung'!E411","v":0},{"$f":"'Lineare Abschreibung'!F411","v":0},0,0,{"$f":"'Lineare Abschreibung'!G411","v":0},13,0,0,null,""]
[null,null,null,{"$f":"'Lineare Abschreibung'!D412","v":0},{"$f":"'Lineare Abschreibung'!E412","v":0},{"$f":"'Lineare Abschreibung'!F412","v":0},0,0,{"$f":"'Lineare Abschreibung'!G412","v":0},13,0,0,null,""]
[null,null,null,{"$f":"'Lineare Abschreibung'!D413","v":0},{"$f":"'Lineare Abschreibung'!E413","v":0},{"$f":"'Lineare Abschreibung'!F413","v":0},0,0,{"$f":"'Lineare Abschreibung'!G413","v":0},13,0,0,null,""]
[null,null,null,{"$f":"'Lineare Abschreibung'!D414","v":0},{"$f":"'Lineare Abschreibung'!E414","v":0},{"$f":"'Lineare Abschreibung'!F414","v":0},0,0,{"$f":"'Lineare Abschreibung'!G414","v":0},13,0,0,null,""]
[null,null,null,{"$f":"'Lineare Abschreibung'!D415","v":0},{"$f":"'Lineare Abschreibung'!E415","v":0},{"$f":"'Lineare Abschreibung'!F415","v":0},0,0,{"$f":"'Lineare Abschreibung'!G415","v":0},13,0,0,null,""]
[null,null,null,{"$f":"'Lineare Abschreibung'!D416","v":0},{"$f":"'Lineare Abschreibung'!E416","v":0},{"$f":"'Lineare Abschreibung'!F416","v":0},0,0,{"$f":"'Lineare Abschreibung'!G416","v":0},13,0,0,null,""]
[null,null,null,{"$f":"'Lineare Abschreibung'!D417","v":0},{"$f":"'Lineare Abschreibung'!E417","v":0},{"$f":"'Lineare Abschreibung'!F417","v":0},0,0,{"$f":"'Lineare Abschreibung'!G417","v":0},13,0,0,null,""]
[null,null,null,{"$f":"'Lineare Abschreibung'!D418","v":0},{"$f":"'Lineare Abschreibung'!E418","v":0},{"$f":"'Lineare Abschreibung'!F418","v":0},0,0,{"$f":"'Lineare Abschreibung'!G418","v":0},13,0,0,null,""]
[null,null,null,{"$f":"'Lineare Abschreibung'!D419","v":0},{"$f":"'Lineare Abschreibung'!E419","v":0},{"$f":"'Lineare Abschreibung'!F419","v":0},0,0,{"$f":"'Lineare Abschreibung'!G419","v":0},13,0,0,null,""]
[null,null,null,{"$f":"'Lineare Abschreibung'!D420","v":0},{"$f":"'Lineare Abschreibung'!E420","v":0},{"$f":"'Lineare Abschreibung'!F420","v":0},0,0,{"$f":"'Lineare Abschreibung'!G420","v":0},13,0,0,null,""]
[null,null,null,{"$f":"'Lineare Abschreibung'!D421","v":0},{"$f":"'Lineare Abschreibung'!E421","v":0},{"$f":"'Lineare Abschreibung'!F421","v":0},0,0,{"$f":"'Lineare Abschreibung'!G421","v":0},13,0,0,null,""]
[null,null,null,{"$f":"'Lineare Abschreibung'!D422","v":0},{"$f":"'Lineare Abschreibung'!E422","v":0},{"$f":"'Lineare Abschreibung'!F422","v":0},0,0,{"$f":"'Lineare Abschreibung'!G422","v":0},13,0,0,null,""]
[null,null,null,{"$f":"'Lineare Abschreibung'!D423","v":0},{"$f":"'Lineare Abschreibung'!E423","v":0},{"$f":"'Lineare Abschreibung'!F423","v":0},0,0,{"$f":"'Lineare Abschreibung'!G423","v":0},13,0,0,null,""]
[null,null,null,{"$f":"'Lineare Abschreibung'!D424","v":0},{"$f":"'Lineare Abschreibung'!E424","v":0},{"$f":"'Lineare Abschreibung'!F424","v":0},0,0,{"$f":"'Lineare Abschreibung'!G424","v":0},13,0,0,null,""]
[null,null,null,{"$f":"'Lineare Abschreibung'!D425","v":0},{"$f":"'Lineare Abschreibung'!E425","v":0},{"$f":"'Lineare Abschreibung'!F425","v":0},0,0,{"$f":"'Lineare Abschreibung'!G425","v":0},13,0,0,null,""]
[null,null,null,{"$f":"'Lineare Abschreibung'!D426","v":0},{"$f":"'Lineare Abschreibung'!E426","v":0},{"$f":"'Lineare Abschreibung'!F426","v":0},0,0,{"$f":"'Lineare Abschreibung'!G426","v":0},13,0,0,null,""]
[null,null,null,{"$f":"'Lineare Abschreibung'!D427","v":0},{"$f":"'Lineare Abschreibung'!E427","v":0},{"$f":"'Lineare Abschreibung'!F427","v":0},0,0,{"$f":"'Lineare Abschreibung'!G427","v":0},13,0,0,null,""]
[null,null,null,{"$f":"'Lineare Abschreibung'!D428","v":0},{"$f":"'Lineare Abschreibung'!E428","v":0},{"$f":"'Lineare Abschreibung'!F428","v":0},0,0,{"$f":"'Lineare Abschreibung'!G428","v":0},13,0,0,null,""]
[null,null,null,{"$f":"'Lineare Abschreibung'!D429","v":0},{"$f":"'Lineare Abschreibung'!E429","v":0},{"$f":"'Lineare Abschreibung'!F429","v":0},0,0,{"$f":"'Lineare Abschreibung'!G429","v":0},13,0,0,null,""]
[null,null,null,{"$f":"'Lineare Abschreibung'!D430","v":0},{"$f":"'Lineare Abschreibung'!E430","v":0},{"$f":"'Lineare Abschreibung'!F430","v":0},0,0,{"$f":"'Lineare Abschreibung'!G430","v":0},13,0,0,null,""]
[null,null,null,{"$f":"'Lineare Abschreibung'!D431","v":0},{"$f":"'Lineare Abschreibung'!E431","v":0},{"$f":"'Lineare Abschreibung'!F431","v":0},0,0,{"$f":"'Lineare Abschreibung'!G431","v":0},13,0,0,null,""]
[null,null,null,{"$f":"'Lineare Abschreibung'!D432","v":0},{"$f":"'Lineare Abschreibung'!E432","v":0},{"$f":"'Lineare Abschreibung'!F432","v":0},0,0,{"$f":"'Lineare Abschreibung'!G432","v":0},13,0,0,null,""]
[null,null,null,{"$f":"'Lineare Abschreibung'!D433","v":0},{"$f":"'Lineare Abschreibung'!E433","v":0},{"$f":"'Lineare Abschreibung'!F433","v":0},0,0,{"$f":"'Lineare Abschreibung'!G433","v":0},13,0,0,null,""]
[null,null,null,{"$f":"'Lineare Abschreibung'!D434","v":0},{"$f":"'Lineare Abschreibung'!E434","v":0},{"$f":"'Lineare Abschreibung'!F434","v":0},0,0,{"$f":"'Lineare Abschreibung'!G434","v":0},13,0,0,null,""]
[null,null,null,{"$f":"'Lineare Abschreibung'!D435","v":0},{"$f":"'Lineare Abschreibung'!E435","v":0},{"$f":"'Lineare Abschreibung'!F435","v":0},0,0,{"$f":"'Lineare Abschreibung'!G435","v":0},13,0,0,null,""]
[null,null,null,{"$f":"'Lineare Abschreibung'!D436","v":0},{"$f":"'Lineare Abschreibung'!E436","v":0},{"$f":"'Lineare Abschreibung'!F436","v":0},0,0,{"$f":"'Lineare Abschreibung'!G436","v":0},13,0,0,null,""]
[null,null,null,{"$f":"'Lineare Abschreibung'!D437","v":0},{"$f":"'Lineare Abschreibung'!E437","v":0},{"$f":"'Lineare Abschreibung'!F437","v":0},0,0,{"$f":"'Lineare Abschreibung'!G437","v":0},13,0,0,null,""]
[null,null,null,{"$f":"'Lineare Abschreibung'!D438","v":0},{"$f":"'Lineare Abschreibung'!E438","v":0},{"$f":"'Lineare Abschreibung'!F438","v":0},0,0,{"$f":"'Lineare Abschreibung'!G438","v":0},13,0,0,null,""]
[null,null,null,{"$f":"'Lineare Abschreibung'!D439","v":0},{"$f":"'Lineare Abschreibung'!E439","v":0},{"$f":"'Lineare Abschreibung'!F439","v":0},0,0,{"$f":"'Lineare Abschreibung'!G439","v":0},13,0,0,null,""]
[null,null,null,{"$f":"'Lineare Abschreibung'!D440","v":0},{"$f":"'Lineare Abschreibung'!E440","v":0},{"$f":"'Lineare Abschreibung'!F440","v":0},0,0,{"$f":"'Lineare Abschreibung'!G440","v":0},13,0,0,null,""]
[null,null,null,{"$f":"'Lineare Abschreibung'!D441","v":0},{"$f":"'Lineare Abschreibung'!E441","v":0},{"$f":"'Lineare Abschreibung'!F441","v":0},0,0,{"$f":"'Lineare Abschreibung'!G441","v":0},13,0,0,null,""]
[null,null,null,{"$f":"'Lineare Abschreibung'!D442","v":0},{"$f":"'Lineare Abschreibung'!E442","v":0},{"$f":"'Lineare Abschreibung'!F442","v":0},0,0,{"$f":"'Lineare Abschreibung'!G442","v":0},13,0,0,null,""]
[null,null,null,{"$f":"'Lineare Abschreibung'!D443","v":0},{"$f":"'Lineare Abschreibung'!E443","v":0},{"$f":"'Lineare Abschreibung'!F443","v":0},0,0,{"$f":"'Lineare Abschreibung'!G443","v":0},13,0,0,null,""]
[null,null,null,{"$f":"'Lineare Abschreibung'!D444","v":0},{"$f":"'Lineare Abschreibung'!E444","v":0},{"$f":"'Lineare Abschreibung'!F444","v":0},0,0,{"$f":"'Lineare Abschreibung'!G444","v":0},13,0,0,null,""]
[null,null,null,{"$f":"'Lineare Abschreibung'!D445","v":0},{"$f":"'Lineare Abschreibung'!E445","v":0},{"$f":"'Lineare Abschreibung'!F445","v":0},0,0,{"$f":"'Lineare Abschreibung'!G445","v":0},13,0,0,null,""]
[null,null,null,{"$f":"'Lineare Abschreibung'!D446","v":0},{"$f":"'Lineare Abschreibung'!E446","v":0},{"$f":"'Lineare Abschreibung'!F446","v":0},0,0,{"$f":"'Lineare Abschreibung'!G446","v":0},13,0,0,null,""]
[null,null,null,{"$f":"'Lineare Abschreibung'!D447","v":0},{"$f":"'Lineare Abschreibung'!E447","v":0},{"$f":"'Lineare Abschreibung'!F447","v":0},0,0,{"$f":"'Lineare Abschreibung'!G447","v":0},13,0,0,null,""]
[null,null,null,{"$f":"'Lineare Abschreibung'!D448","v":0},{"$f":"'Lineare Abschreibung'!E448","v":0},{"$f":"'Lineare Abschreibung'!F448","v":0},0,0,{"$f":"'Lineare Abschreibung'!G448","v":0},13,0,0,null,""]
[null,null,null,{"$f":"'Lineare Abschreibung'!D449","v":0},{"$f":"'Lineare Abschreibung'!E449","v":0},{"$f":"'Lineare Abschreibung'!F449","v":0},0,0,{"$f":"'Lineare Abschreibung'!G449","v":0},13,0,0,null,""]
[null,null,null,{"$f":"'Lineare Abschreibung'!D450","v":0},{"$f":"'Lineare Abschreibung'!E450","v":0},{"$f":"'Lineare Abschreibung'!F450","v":0},0,0,{"$f":"'Lineare Abschreibung'!G450","v":0},13,0,0,null,""]
[null,null,null,{"$f":"'Lineare Abschreibung'!D451","v":0},{"$f":"'Lineare Abschreibung'!E451","v":0},{"$f":"'Lineare Abschreibung'!F451","v":0},0,0,{"$f":"'Lineare Abschreibung'!G451","v":0},13,0,0,null,""]
[null,null,null,{"$f":"'Lineare Abschreibung'!D452","v":0},{"$f":"'Lineare Abschreibung'!E452","v":0},{"$f":"'Lineare Abschreibung'!F452","v":0},0,0,{"$f":"'Lineare Abschreibung'!G452","v":0},13,0,0,null,""]
[null,null,null,{"$f":"'Lineare Abschreibung'!D453","v":0},{"$f":"'Lineare Abschreibung'!E453","v":0},{"$f":"'Lineare Abschreibung'!F453","v":0},0,0,{"$f":"'Lineare Abschreibung'!G453","v":0},13,0,0,null,""]
[null,null,null,{"$f":"'Lineare Abschreibung'!D454","v":0},{"$f":"'Lineare Abschreibung'!E454","v":0},{"$f":"'Lineare Abschreibung'!F454","v":0},0,0,{"$f":"'Lineare Abschreibung'!G454","v":0},13,0,0,null,""]
[null,null,null,{"$f":"'Lineare Abschreibung'!D455","v":0},{"$f":"'Lineare Abschreibung'!E455","v":0},{"$f":"'Lineare Abschreibung'!F455","v":0},0,0,{"$f":"'Lineare Abschreibung'!G455","v":0},13,0,0,null,""]
[null,null,null,{"$f":"'Lineare Abschreibung'!D456","v":0},{"$f":"'Lineare Abschreibung'!E456","v":0},{"$f":"'Lineare Abschreibung'!F456","v":0},0,0,{"$f":"'Lineare Abschreibung'!G456","v":0},13,0,0,null,""]
[null,null,null,{"$f":"'Lineare Abschreibung'!D457","v":0},{"$f":"'Lineare Abschreibung'!E457","v":0},{"$f":"'Lineare Abschreibung'!F457","v":0},0,0,{"$f":"'Lineare Abschreibung'!G457","v":0},13,0,0,null,""]
[null,null,null,{"$f":"'Lineare Abschreibung'!D458","v":0},{"$f":"'Lineare Abschreibung'!E458","v":0},{"$f":"'Lineare Abschreibung'!F458","v":0},0,0,{"$f":"'Lineare Abschreibung'!G458","v":0},13,0,0,null,""]
[null,null,null,{"$f":"'Lineare Abschreibung'!D459","v":0},{"$f":"'Lineare Abschreibung'!E459","v":0},{"$f":"'Lineare Abschreibung'!F459","v":0},0,0,{"$f":"'Lineare Abschreibung'!G459","v":0},13,0,0,null,""]
[null,null,null,{"$f":"'Lineare Abschreibung'!D460","v":0},{"$f":"'Lineare Abschreibung'!E460","v":0},{"$f":"'Lineare Abschreibung'!F460","v":0},0,0,{"$f":"'Lineare Abschreibung'!G460","v":0},13,0,0,null,""]
[null,null,null,{"$f":"'Lineare Abschreibung'!D461","v":0},{"$f":"'Lineare Abschreibung'!E461","v":0},{"$f":"'Lineare Abschreibung'!F461","v":0},0,0,{"$f":"'Lineare Abschreibung'!G461","v":0},13,0,0,null,""]
[null,null,null,{"$f":"'Lineare Abschreibung'!D462","v":0},{"$f":"'Lineare Abschreibung'!E462","v":0},{"$f":"'Lineare Abschreibung'!F462","v":0},0,0,{"$f":"'Lineare Abschreibung'!G462","v":0},13,0,0,null,""]
[null,null,null,{"$f":"'Lineare Abschreibung'!D463","v":0},{"$f":"'Lineare Abschreibung'!E463","v":0},{"$f":"'Lineare Abschreibung'!F463","v":0},0,0,{"$f":"'Lineare Abschreibung'!G463","v":0},13,0,0,null,""]
[null,null,null,{"$f":"'Lineare Abschreibung'!D464","v":0},{"$f":"'Lineare Abschreibung'!E464","v":0},{"$f":"'Lineare Abschreibung'!F464","v":0},0,0,{"$f":"'Lineare Abschreibung'!G464","v":0},13,0,0,null,""]
[null,null,null,{"$f":"'Lineare Abschreibung'!D465","v":0},{"$f":"'Lineare Abschreibung'!E465","v":0},{"$f":"'Lineare Abschreibung'!F465","v":0},0,0,{"$f":"'Lineare Abschreibung'!G465","v":0},13,0,0,null,""]
[null,null,null,{"$f":"'Lineare Abschreibung'!D466","v":0},{"$f":"'Lineare Abschreibung'!E466","v":0},{"$f":"'Lineare Abschreibung'!F466","v":0},0,0,{"$f":"'Lineare Abschreibung'!G466","v":0},13,0,0,null,""]
[null,null,null,{"$f":"'Lineare Abschreibung'!D467","v":0},{"$f":"'Lineare Abschreibung'!E467","v":0},{"$f":"'Lineare Abschreibung'!F467","v":0},0,0,{"$f":"'Lineare Abschreibung'!G467","v":0},13,0,0,null,""]
[null,null,null,{"$f":"'Lineare Abschreibung'!D468","v":0},{"$f":"'Lineare Abschreibung'!E468","v":0},{"$f":"'Lineare Abschreibung'!F468","v":0},0,0,{"$f":"'Lineare Abschreibung'!G468","v":0},13,0,0,null,""]
[null,null,null,{"$f":"'Lineare Abschreibung'!D469","v":0},{"$f":"'Lineare Abschreibung'!E469","v":0},{"$f":"'Lineare Abschreibung'!F469","v":0},0,0,{"$f":"'Lineare Abschreibung'!G469","v":0},13,0,0,null,""]
[null,null,null,{"$f":"'Lineare Abschreibung'!D470","v":0},{"$f":"'Lineare Abschreibung'!E470","v":0},{"$f":"'Lineare Abschreibung'!F470","v":0},0,0,{"$f":"'Lineare Abschreibung'!G470","v":0},13,0,0,null,""]
[null,null,null,{"$f":"'Lineare Abschreibung'!D471","v":0},{"$f":"'Lineare Abschreibung'!E471","v":0},{"$f":"'Lineare Abschreibung'!F471","v":0},0,0,{"$f":"'Lineare Abschreibung'!G471","v":0},13,0,0,null,""]
[null,null,null,{"$f":"'Lineare Abschreibung'!D472","v":0},{"$f":"'Lineare Abschreibung'!E472","v":0},{"$f":"'Lineare Abschreibung'!F472","v":0},0,0,{"$f":"'Lineare Abschreibung'!G472","v":0},13,0,0,null,""]
[null,null,null,{"$f":"'Lineare Abschreibung'!D473","v":0},{"$f":"'Lineare Abschreibung'!E473","v":0},{"$f":"'Lineare Abschreibung'!F473","v":0},0,0,{"$f":"'Lineare Abschreibung'!G473","v":0},13,0,0,null,""]
[null,null,null,{"$f":"'Lineare Abschreibung'!D474","v":0},{"$f":"'Lineare Abschreibung'!E474","v":0},{"$f":"'Lineare Abschreibung'!F474","v":0},{"$f":"IF(F474=0,0,1/F474)","v":0},{"$f":"IF(G474*2.5>25%,25%,G474*2.5)","v":0},{"$f":"'Lineare Abschreibung'!G474","v":0},{"$f":"12-I474+1","v":13},{"$f":"IF(E474<250.01,E474,E474/5)","v":0},{"$f":"IF($E474<800.01,$E474,$E474*H474/12*$J474)","v":0},null,{"$f":"IF(AND(E474>800,I474=0),\"Anschaffungsmonat fehlt!\",\"\")","v":""}]
[null,null,null,{"$f":"'Lineare Abschreibung'!D475","v":0},{"$f":"'Lineare Abschreibung'!E475","v":0},{"$f":"'Lineare Abschreibung'!F475","v":0},0,0,{"$f":"'Lineare Abschreibung'!G475","v":0},13,0,0,null,""]
[null,null,null,{"$f":"'Lineare Abschreibung'!D476","v":0},{"$f":"'Lineare Abschreibung'!E476","v":0},{"$f":"'Lineare Abschreibung'!F476","v":0},0,0,{"$f":"'Lineare Abschreibung'!G476","v":0},13,0,0,null,""]
[null,null,null,{"$f":"'Lineare Abschreibung'!D477","v":0},{"$f":"'Lineare Abschreibung'!E477","v":0},{"$f":"'Lineare Abschreibung'!F477","v":0},0,0,{"$f":"'Lineare Abschreibung'!G477","v":0},13,0,0,null,""]
[null,null,null,{"$f":"'Lineare Abschreibung'!D478","v":0},{"$f":"'Lineare Abschreibung'!E478","v":0},{"$f":"'Lineare Abschreibung'!F478","v":0},0,0,{"$f":"'Lineare Abschreibung'!G478","v":0},13,0,0,null,""]
[null,null,null,{"$f":"'Lineare Abschreibung'!D479","v":0},{"$f":"'Lineare Abschreibung'!E479","v":0},{"$f":"'Lineare Abschreibung'!F479","v":0},0,0,{"$f":"'Lineare Abschreibung'!G479","v":0},13,0,0,null,""]
[null,null,null,{"$f":"'Lineare Abschreibung'!D480","v":0},{"$f":"'Lineare Abschreibung'!E480","v":0},{"$f":"'Lineare Abschreibung'!F480","v":0},0,0,{"$f":"'Lineare Abschreibung'!G480","v":0},13,0,0,null,""]
[null,null,null,{"$f":"'Lineare Abschreibung'!D481","v":0},{"$f":"'Lineare Abschreibung'!E481","v":0},{"$f":"'Lineare Abschreibung'!F481","v":0},0,0,{"$f":"'Lineare Abschreibung'!G481","v":0},13,0,0,null,""]
[null,null,null,{"$f":"'Lineare Abschreibung'!D482","v":0},{"$f":"'Lineare Abschreibung'!E482","v":0},{"$f":"'Lineare Abschreibung'!F482","v":0},0,0,{"$f":"'Lineare Abschreibung'!G482","v":0},13,0,0,null,""]
[null,null,null,{"$f":"'Lineare Abschreibung'!D483","v":0},{"$f":"'Lineare Abschreibung'!E483","v":0},{"$f":"'Lineare Abschreibung'!F483","v":0},0,0,{"$f":"'Lineare Abschreibung'!G483","v":0},13,0,0,null,""]
[null,null,null,{"$f":"'Lineare Abschreibung'!D484","v":0},{"$f":"'Lineare Abschreibung'!E484","v":0},{"$f":"'Lineare Abschreibung'!F484","v":0},0,0,{"$f":"'Lineare Abschreibung'!G484","v":0},13,0,0,null,""]
[null,null,null,{"$f":"'Lineare Abschreibung'!D485","v":0},{"$f":"'Lineare Abschreibung'!E485","v":0},{"$f":"'Lineare Abschreibung'!F485","v":0},0,0,{"$f":"'Lineare Abschreibung'!G485","v":0},13,0,0,null,""]
[null,null,null,{"$f":"'Lineare Abschreibung'!D486","v":0},{"$f":"'Lineare Abschreibung'!E486","v":0},{"$f":"'Lineare Abschreibung'!F486","v":0},0,0,{"$f":"'Lineare Abschreibung'!G486","v":0},13,0,0,null,""]
[null,null,null,{"$f":"'Lineare Abschreibung'!D487","v":0},{"$f":"'Lineare Abschreibung'!E487","v":0},{"$f":"'Lineare Abschreibung'!F487","v":0},0,0,{"$f":"'Lineare Abschreibung'!G487","v":0},13,0,0,null,""]
[null,null,null,{"$f":"'Lineare Abschreibung'!D488","v":0},{"$f":"'Lineare Abschreibung'!E488","v":0},{"$f":"'Lineare Abschreibung'!F488","v":0},0,0,{"$f":"'Lineare Abschreibung'!G488","v":0},13,0,0,null,""]
[null,null,null,{"$f":"'Lineare Abschreibung'!D489","v":0},{"$f":"'Lineare Abschreibung'!E489","v":0},{"$f":"'Lineare Abschreibung'!F489","v":0},0,0,{"$f":"'Lineare Abschreibung'!G489","v":0},13,0,0,null,""]
[null,null,null,{"$f":"'Lineare Abschreibung'!D490","v":0},{"$f":"'Lineare Abschreibung'!E490","v":0},{"$f":"'Lineare Abschreibung'!F490","v":0},0,0,{"$f":"'Lineare Abschreibung'!G490","v":0},13,0,0,null,""]
[null,null,null,{"$f":"'Lineare Abschreibung'!D491","v":0},{"$f":"'Lineare Abschreibung'!E491","v":0},{"$f":"'Lineare Abschreibung'!F491","v":0},0,0,{"$f":"'Lineare Abschreibung'!G491","v":0},13,0,0,null,""]
[null,null,null,{"$f":"'Lineare Abschreibung'!D492","v":0},{"$f":"'Lineare Abschreibung'!E492","v":0},{"$f":"'Lineare Abschreibung'!F492","v":0},0,0,{"$f":"'Lineare Abschreibung'!G492","v":0},13,0,0,null,""]
[null,null,null,{"$f":"'Lineare Abschreibung'!D493","v":0},{"$f":"'Lineare Abschreibung'!E493","v":0},{"$f":"'Lineare Abschreibung'!F493","v":0},0,0,{"$f":"'Lineare Abschreibung'!G493","v":0},13,0,0,null,""]
[null,null,null,{"$f":"'Lineare Abschreibung'!D494","v":0},{"$f":"'Lineare Abschreibung'!E494","v":0},{"$f":"'Lineare Abschreibung'!F494","v":0},0,0,{"$f":"'Lineare Abschreibung'!G494","v":0},13,0,0,null,""]
[null,null,null,{"$f":"'Lineare Abschreibung'!D495","v":0},{"$f":"'Lineare Abschreibung'!E495","v":0},{"$f":"'Lineare Abschreibung'!F495","v":0},0,0,{"$f":"'Lineare Abschreibung'!G495","v":0},13,0,0,null,""]
[null,null,null,{"$f":"'Lineare Abschreibung'!D496","v":0},{"$f":"'Lineare Abschreibung'!E496","v":0},{"$f":"'Lineare Abschreibung'!F496","v":0},0,0,{"$f":"'Lineare Abschreibung'!G496","v":0},13,0,0,null,""]
[null,null,null,{"$f":"'Lineare Abschreibung'!D497","v":0},{"$f":"'Lineare Abschreibung'!E497","v":0},{"$f":"'Lineare Abschreibung'!F497","v":0},0,0,{"$f":"'Lineare Abschreibung'!G497","v":0},13,0,0,null,""]
[null,null,null,{"$f":"'Lineare Abschreibung'!D498","v":0},{"$f":"'Lineare Abschreibung'!E498","v":0},{"$f":"'Lineare Abschreibung'!F498","v":0},0,0,{"$f":"'Lineare Abschreibung'!G498","v":0},13,0,0,null,""]
[null,null,null,{"$f":"'Lineare Abschreibung'!D499","v":0},{"$f":"'Lineare Abschreibung'!E499","v":0},{"$f":"'Lineare Abschreibung'!F499","v":0},0,0,{"$f":"'Lineare Abschreibung'!G499","v":0},13,0,0,null,""]
[null,null,null,{"$f":"'Lineare Abschreibung'!D500","v":0},{"$f":"'Lineare Abschreibung'!E500","v":0},{"$f":"'Lineare Abschreibung'!F500","v":0},0,0,{"$f":"'Lineare Abschreibung'!G500","v":0},13,0,0,null,""]
[null,null,null,{"$f":"'Lineare Abschreibung'!D501","v":0},{"$f":"'Lineare Abschreibung'!E501","v":0},{"$f":"'Lineare Abschreibung'!F501","v":0},0,0,{"$f":"'Lineare Abschreibung'!G501","v":0},13,0,0,null,""]
[null,null,null,{"$f":"'Lineare Abschreibung'!D502","v":0},{"$f":"'Lineare Abschreibung'!E502","v":0},{"$f":"'Lineare Abschreibung'!F502","v":0},0,0,{"$f":"'Lineare Abschreibung'!G502","v":0},13,0,0,null,""]
[null,null,null,{"$f":"'Lineare Abschreibung'!D503","v":0},{"$f":"'Lineare Abschreibung'!E503","v":0},{"$f":"'Lineare Abschreibung'!F503","v":0},0,0,{"$f":"'Lineare Abschreibung'!G503","v":0},13,0,0,null,""]
[null,null,null,{"$f":"'Lineare Abschreibung'!D504","v":0},{"$f":"'Lineare Abschreibung'!E504","v":0},{"$f":"'Lineare Abschreibung'!F504","v":0},0,0,{"$f":"'Lineare Abschreibung'!G504","v":0},13,0,0,null,""]
[null,null,null,{"$f":"'Lineare Abschreibung'!D505","v":0},{"$f":"'Lineare Abschreibung'!E505","v":0},{"$f":"'Lineare Abschreibung'!F505","v":0},0,0,{"$f":"'Lineare Abschreibung'!G505","v":0},13,0,0,null,""]
[null,null,null,{"$f":"'Lineare Abschreibung'!D506","v":0},{"$f":"'Lineare Abschreibung'!E506","v":0},{"$f":"'Lineare Abschreibung'!F506","v":0},0,0,{"$f":"'Lineare Abschreibung'!G506","v":0},13,0,0,null,""]
[null,null,null,{"$f":"'Lineare Abschreibung'!D507","v":0},{"$f":"'Lineare Abschreibung'!E507","v":0},{"$f":"'Lineare Abschreibung'!F507","v":0},0,0,{"$f":"'Lineare Abschreibung'!G507","v":0},13,0,0,null,""]
[null,null,null,{"$f":"'Lineare Abschreibung'!D508","v":0},{"$f":"'Lineare Abschreibung'!E508","v":0},{"$f":"'Lineare Abschreibung'!F508","v":0},0,0,{"$f":"'Lineare Abschreibung'!G508","v":0},13,0,0,null,""]
[null,null,null,{"$f":"'Lineare Abschreibung'!D509","v":0},{"$f":"'Lineare Abschreibung'!E509","v":0},{"$f":"'Lineare Abschreibung'!F509","v":0},0,0,{"$f":"'Lineare Abschreibung'!G509","v":0},13,0,0,null,""]
[null,null,null,{"$f":"'Lineare Abschreibung'!D510","v":0},{"$f":"'Lineare Abschreibung'!E510","v":0},{"$f":"'Lineare Abschreibung'!F510","v":0},0,0,{"$f":"'Lineare Abschreibung'!G510","v":0},13,0,0,null,""]
[null,null,null,{"$f":"'Lineare Abschreibung'!D511","v":0},{"$f":"'Lineare Abschreibung'!E511","v":0},{"$f":"'Lineare Abschreibung'!F511","v":0},0,0,{"$f":"'Lineare Abschreibung'!G511","v":0},13,0,0,null,""]
[null,null,null,{"$f":"'Lineare Abschreibung'!D512","v":0},{"$f":"'Lineare Abschreibung'!E512","v":0},{"$f":"'Lineare Abschreibung'!F512","v":0},0,0,{"$f":"'Lineare Abschreibung'!G512","v":0},13,0,0,null,""]
[null,null,null,{"$f":"'Lineare Abschreibung'!D513","v":0},{"$f":"'Lineare Abschreibung'!E513","v":0},{"$f":"'Lineare Abschreibung'!F513","v":0},0,0,{"$f":"'Lineare Abschreibung'!G513","v":0},13,0,0,null,""]
[null,null,null,{"$f":"'Lineare Abschreibung'!D514","v":0},{"$f":"'Lineare Abschreibung'!E514","v":0},{"$f":"'Lineare Abschreibung'!F514","v":0},0,0,{"$f":"'Lineare Abschreibung'!G514","v":0},13,0,0,null,""]
[null,null,null,{"$f":"'Lineare Abschreibung'!D515","v":0},{"$f":"'Lineare Abschreibung'!E515","v":0},{"$f":"'Lineare Abschreibung'!F515","v":0},0,0,{"$f":"'Lineare Abschreibung'!G515","v":0},13,0,0,null,""]
[null,null,null,{"$f":"'Lineare Abschreibung'!D516","v":0},{"$f":"'Lineare Abschreibung'!E516","v":0},{"$f":"'Lineare Abschreibung'!F516","v":0},0,0,{"$f":"'Lineare Abschreibung'!G516","v":0},13,0,0,null,""]
[null,null,null,{"$f":"'Lineare Abschreibung'!D517","v":0},{"$f":"'Lineare Abschreibung'!E517","v":0},{"$f":"'Lineare Abschreibung'!F517","v":0},0,0,{"$f":"'Lineare Abschreibung'!G517","v":0},13,0,0,null,""]
[null,null,null,{"$f":"'Lineare Abschreibung'!D518","v":0},{"$f":"'Lineare Abschreibung'!E518","v":0},{"$f":"'Lineare Abschreibung'!F518","v":0},0,0,{"$f":"'Lineare Abschreibung'!G518","v":0},13,0,0,null,""]
[null,null,null,{"$f":"'Lineare Abschreibung'!D519","v":0},{"$f":"'Lineare Abschreibung'!E519","v":0},{"$f":"'Lineare Abschreibung'!F519","v":0},0,0,{"$f":"'Lineare Abschreibung'!G519","v":0},13,0,0,null,""]
[null,null,null,{"$f":"'Lineare Abschreibung'!D520","v":0},{"$f":"'Lineare Abschreibung'!E520","v":0},{"$f":"'Lineare Abschreibung'!F520","v":0},0,0,{"$f":"'Lineare Abschreibung'!G520","v":0},13,0,0,null,""]
[null,null,null,{"$f":"'Lineare Abschreibung'!D521","v":0},{"$f":"'Lineare Abschreibung'!E521","v":0},{"$f":"'Lineare Abschreibung'!F521","v":0},0,0,{"$f":"'Lineare Abschreibung'!G521","v":0},13,0,0,null,""]
[null,null,null,{"$f":"'Lineare Abschreibung'!D522","v":0},{"$f":"'Lineare Abschreibung'!E522","v":0},{"$f":"'Lineare Abschreibung'!F522","v":0},0,0,{"$f":"'Lineare Abschreibung'!G522","v":0},13,0,0,null,""]
[null,null,null,{"$f":"'Lineare Abschreibung'!D523","v":0},{"$f":"'Lineare Abschreibung'!E523","v":0},{"$f":"'Lineare Abschreibung'!F523","v":0},0,0,{"$f":"'Lineare Abschreibung'!G523","v":0},13,0,0,null,""]
[null,null,null,{"$f":"'Lineare Abschreibung'!D524","v":0},{"$f":"'Lineare Abschreibung'!E524","v":0},{"$f":"'Lineare Abschreibung'!F524","v":0},0,0,{"$f":"'Lineare Abschreibung'!G524","v":0},13,0,0,null,""]
[null,null,null,{"$f":"'Lineare Abschreibung'!D525","v":0},{"$f":"'Lineare Abschreibung'!E525","v":0},{"$f":"'Lineare Abschreibung'!F525","v":0},0,0,{"$f":"'Lineare Abschreibung'!G525","v":0},13,0,0,null,""]
[null,null,null,{"$f":"'Lineare Abschreibung'!D526","v":0},{"$f":"'Lineare Abschreibung'!E526","v":0},{"$f":"'Lineare Abschreibung'!F526","v":0},0,0,{"$f":"'Lineare Abschreibung'!G526","v":0},13,0,0,null,""]
[null,null,null,{"$f":"'Lineare Abschreibung'!D527","v":0},{"$f":"'Lineare Abschreibung'!E527","v":0},{"$f":"'Lineare Abschreibung'!F527","v":0},0,0,{"$f":"'Lineare Abschreibung'!G527","v":0},13,0,0,null,""]
[null,null,null,{"$f":"'Lineare Abschreibung'!D528","v":0},{"$f":"'Lineare Abschreibung'!E528","v":0},{"$f":"'Lineare Abschreibung'!F528","v":0},0,0,{"$f":"'Lineare Abschreibung'!G528","v":0},13,0,0,null,""]
[null,null,null,{"$f":"'Lineare Abschreibung'!D529","v":0},{"$f":"'Lineare Abschreibung'!E529","v":0},{"$f":"'Lineare Abschreibung'!F529","v":0},0,0,{"$f":"'Lineare Abschreibung'!G529","v":0},13,0,0,null,""]
[null,null,null,{"$f":"'Lineare Abschreibung'!D530","v":0},{"$f":"'Lineare Abschreibung'!E530","v":0},{"$f":"'Lineare Abschreibung'!F530","v":0},0,0,{"$f":"'Lineare Abschreibung'!G530","v":0},13,0,0,null,""]
[null,null,null,{"$f":"'Lineare Abschreibung'!D531","v":0},{"$f":"'Lineare Abschreibung'!E531","v":0},{"$f":"'Lineare Abschreibung'!F531","v":0},0,0,{"$f":"'Lineare Abschreibung'!G531","v":0},13,0,0,null,""]
[null,null,null,{"$f":"'Lineare Abschreibung'!D532","v":0},{"$f":"'Lineare Abschreibung'!E532","v":0},{"$f":"'Lineare Abschreibung'!F532","v":0},0,0,{"$f":"'Lineare Abschreibung'!G532","v":0},13,0,0,null,""]
[null,null,null,{"$f":"'Lineare Abschreibung'!D533","v":0},{"$f":"'Lineare Abschreibung'!E533","v":0},{"$f":"'Lineare Abschreibung'!F533","v":0},0,0,{"$f":"'Lineare Abschreibung'!G533","v":0},13,0,0,null,""]
[null,null,null,{"$f":"'Lineare Abschreibung'!D534","v":0},{"$f":"'Lineare Abschreibung'!E534","v":0},{"$f":"'Lineare Abschreibung'!F534","v":0},0,0,{"$f":"'Lineare Abschreibung'!G534","v":0},13,0,0,null,""]
[null,null,null,{"$f":"'Lineare Abschreibung'!D535","v":0},{"$f":"'Lineare Abschreibung'!E535","v":0},{"$f":"'Lineare Abschreibung'!F535","v":0},0,0,{"$f":"'Lineare Abschreibung'!G535","v":0},13,0,0,null,""]
[null,null,null,{"$f":"'Lineare Abschreibung'!D536","v":0},{"$f":"'Lineare Abschreibung'!E536","v":0},{"$f":"'Lineare Abschreibung'!F536","v":0},0,0,{"$f":"'Lineare Abschreibung'!G536","v":0},13,0,0,null,""]
[null,null,null,{"$f":"'Lineare Abschreibung'!D537","v":0},{"$f":"'Lineare Abschreibung'!E537","v":0},{"$f":"'Lineare Abschreibung'!F537","v":0},0,0,{"$f":"'Lineare Abschreibung'!G537","v":0},13,0,0,null,""]
[null,null,null,{"$f":"'Lineare Abschreibung'!D538","v":0},{"$f":"'Lineare Abschreibung'!E538","v":0},{"$f":"'Lineare Abschreibung'!F538","v":0},{"$f":"IF(F538=0,0,1/F538)","v":0},{"$f":"IF(G538*2.5>25%,25%,G538*2.5)","v":0},{"$f":"'Lineare Abschreibung'!G538","v":0},{"$f":"12-I538+1","v":13},{"$f":"IF(E538<250.01,E538,E538/5)","v":0},{"$f":"IF($E538<800.01,$E538,$E538*H538/12*$J538)","v":0},null,{"$f":"IF(AND(E538>800,I538=0),\"Anschaffungsmonat fehlt!\",\"\")","v":""}]
[null,null,null,{"$f":"'Lineare Abschreibung'!D539","v":0},{"$f":"'Lineare Abschreibung'!E539","v":0},{"$f":"'Lineare Abschreibung'!F539","v":0},0,0,{"$f":"'Lineare Abschreibung'!G539","v":0},13,0,0,null,""]
[null,null,null,{"$f":"'Lineare Abschreibung'!D540","v":0},{"$f":"'Lineare Abschreibung'!E540","v":0},{"$f":"'Lineare Abschreibung'!F540","v":0},0,0,{"$f":"'Lineare Abschreibung'!G540","v":0},13,0,0,null,""]
[null,null,null,{"$f":"'Lineare Abschreibung'!D541","v":0},{"$f":"'Lineare Abschreibung'!E541","v":0},{"$f":"'Lineare Abschreibung'!F541","v":0},0,0,{"$f":"'Lineare Abschreibung'!G541","v":0},13,0,0,null,""]
[null,null,null,{"$f":"'Lineare Abschreibung'!D542","v":0},{"$f":"'Lineare Abschreibung'!E542","v":0},{"$f":"'Lineare Abschreibung'!F542","v":0},0,0,{"$f":"'Lineare Abschreibung'!G542","v":0},13,0,0,null,""]
[null,null,null,{"$f":"'Lineare Abschreibung'!D543","v":0},{"$f":"'Lineare Abschreibung'!E543","v":0},{"$f":"'Lineare Abschreibung'!F543","v":0},0,0,{"$f":"'Lineare Abschreibung'!G543","v":0},13,0,0,null,""]
[null,null,null,{"$f":"'Lineare Abschreibung'!D544","v":0},{"$f":"'Lineare Abschreibung'!E544","v":0},{"$f":"'Lineare Abschreibung'!F544","v":0},0,0,{"$f":"'Lineare Abschreibung'!G544","v":0},13,0,0,null,""]
[null,null,null,{"$f":"'Lineare Abschreibung'!D545","v":0},{"$f":"'Lineare Abschreibung'!E545","v":0},{"$f":"'Lineare Abschreibung'!F545","v":0},0,0,{"$f":"'Lineare Abschreibung'!G545","v":0},13,0,0,null,""]
[null,null,null,{"$f":"'Lineare Abschreibung'!D546","v":0},{"$f":"'Lineare Abschreibung'!E546","v":0},{"$f":"'Lineare Abschreibung'!F546","v":0},0,0,{"$f":"'Lineare Abschreibung'!G546","v":0},13,0,0,null,""]
[null,null,null,{"$f":"'Lineare Abschreibung'!D547","v":0},{"$f":"'Lineare Abschreibung'!E547","v":0},{"$f":"'Lineare Abschreibung'!F547","v":0},0,0,{"$f":"'Lineare Abschreibung'!G547","v":0},13,0,0,null,""]
[null,null,null,{"$f":"'Lineare Abschreibung'!D548","v":0},{"$f":"'Lineare Abschreibung'!E548","v":0},{"$f":"'Lineare Abschreibung'!F548","v":0},0,0,{"$f":"'Lineare Abschreibung'!G548","v":0},13,0,0,null,""]
[null,null,null,{"$f":"'Lineare Abschreibung'!D549","v":0},{"$f":"'Lineare Abschreibung'!E549","v":0},{"$f":"'Lineare Abschreibung'!F549","v":0},0,0,{"$f":"'Lineare Abschreibung'!G549","v":0},13,0,0,null,""]
[null,null,null,{"$f":"'Lineare Abschreibung'!D550","v":0},{"$f":"'Lineare Abschreibung'!E550","v":0},{"$f":"'Lineare Abschreibung'!F550","v":0},0,0,{"$f":"'Lineare Abschreibung'!G550","v":0},13,0,0,null,""]
[null,null,null,{"$f":"'Lineare Abschreibung'!D551","v":0},{"$f":"'Lineare Abschreibung'!E551","v":0},{"$f":"'Lineare Abschreibung'!F551","v":0},0,0,{"$f":"'Lineare Abschreibung'!G551","v":0},13,0,0,null,""]
[null,null,null,{"$f":"'Lineare Abschreibung'!D552","v":0},{"$f":"'Lineare Abschreibung'!E552","v":0},{"$f":"'Lineare Abschreibung'!F552","v":0},0,0,{"$f":"'Lineare Abschreibung'!G552","v":0},13,0,0,null,""]
[null,null,null,{"$f":"'Lineare Abschreibung'!D553","v":0},{"$f":"'Lineare Abschreibung'!E553","v":0},{"$f":"'Lineare Abschreibung'!F553","v":0},0,0,{"$f":"'Lineare Abschreibung'!G553","v":0},13,0,0,null,""]
[null,null,null,{"$f":"'Lineare Abschreibung'!D554","v":0},{"$f":"'Lineare Abschreibung'!E554","v":0},{"$f":"'Lineare Abschreibung'!F554","v":0},0,0,{"$f":"'Lineare Abschreibung'!G554","v":0},13,0,0,null,""]
[null,null,null,{"$f":"'Lineare Abschreibung'!D555","v":0},{"$f":"'Lineare Abschreibung'!E555","v":0},{"$f":"'Lineare Abschreibung'!F555","v":0},0,0,{"$f":"'Lineare Abschreibung'!G555","v":0},13,0,0,null,""]
[null,null,null,{"$f":"'Lineare Abschreibung'!D556","v":0},{"$f":"'Lineare Abschreibung'!E556","v":0},{"$f":"'Lineare Abschreibung'!F556","v":0},0,0,{"$f":"'Lineare Abschreibung'!G556","v":0},13,0,0,null,""]
[null,null,null,{"$f":"'Lineare Abschreibung'!D557","v":0},{"$f":"'Lineare Abschreibung'!E557","v":0},{"$f":"'Lineare Abschreibung'!F557","v":0},0,0,{"$f":"'Lineare Abschreibung'!G557","v":0},13,0,0,null,""]
[null,null,null,{"$f":"'Lineare Abschreibung'!D558","v":0},{"$f":"'Lineare Abschreibung'!E558","v":0},{"$f":"'Lineare Abschreibung'!F558","v":0},0,0,{"$f":"'Lineare Abschreibung'!G558","v":0},13,0,0,null,""]
[null,null,null,{"$f":"'Lineare Abschreibung'!D559","v":0},{"$f":"'Lineare Abschreibung'!E559","v":0},{"$f":"'Lineare Abschreibung'!F559","v":0},0,0,{"$f":"'Lineare Abschreibung'!G559","v":0},13,0,0,null,""]
[null,null,null,{"$f":"'Lineare Abschreibung'!D560","v":0},{"$f":"'Lineare Abschreibung'!E560","v":0},{"$f":"'Lineare Abschreibung'!F560","v":0},0,0,{"$f":"'Lineare Abschreibung'!G560","v":0},13,0,0,null,""]
[null,null,null,{"$f":"'Lineare Abschreibung'!D561","v":0},{"$f":"'Lineare Abschreibung'!E561","v":0},{"$f":"'Lineare Abschreibung'!F561","v":0},0,0,{"$f":"'Lineare Abschreibung'!G561","v":0},13,0,0,null,""]
[null,null,null,{"$f":"'Lineare Abschreibung'!D562","v":0},{"$f":"'Lineare Abschreibung'!E562","v":0},{"$f":"'Lineare Abschreibung'!F562","v":0},0,0,{"$f":"'Lineare Abschreibung'!G562","v":0},13,0,0,null,""]
[null,null,null,{"$f":"'Lineare Abschreibung'!D563","v":0},{"$f":"'Lineare Abschreibung'!E563","v":0},{"$f":"'Lineare Abschreibung'!F563","v":0},0,0,{"$f":"'Lineare Abschreibung'!G563","v":0},13,0,0,null,""]
[null,null,null,{"$f":"'Lineare Abschreibung'!D564","v":0},{"$f":"'Lineare Abschreibung'!E564","v":0},{"$f":"'Lineare Abschreibung'!F564","v":0},0,0,{"$f":"'Lineare Abschreibung'!G564","v":0},13,0,0,null,""]
[null,null,null,{"$f":"'Lineare Abschreibung'!D565","v":0},{"$f":"'Lineare Abschreibung'!E565","v":0},{"$f":"'Lineare Abschreibung'!F565","v":0},0,0,{"$f":"'Lineare Abschreibung'!G565","v":0},13,0,0,null,""]
[null,null,null,{"$f":"'Lineare Abschreibung'!D566","v":0},{"$f":"'Lineare Abschreibung'!E566","v":0},{"$f":"'Lineare Abschreibung'!F566","v":0},0,0,{"$f":"'Lineare Abschreibung'!G566","v":0},13,0,0,null,""]
[null,null,null,{"$f":"'Lineare Abschreibung'!D567","v":0},{"$f":"'Lineare Abschreibung'!E567","v":0},{"$f":"'Lineare Abschreibung'!F567","v":0},0,0,{"$f":"'Lineare Abschreibung'!G567","v":0},13,0,0,null,""]
[null,null,null,{"$f":"'Lineare Abschreibung'!D568","v":0},{"$f":"'Lineare Abschreibung'!E568","v":0},{"$f":"'Lineare Abschreibung'!F568","v":0},0,0,{"$f":"'Lineare Abschreibung'!G568","v":0},13,0,0,null,""]
[null,null,null,{"$f":"'Lineare Abschreibung'!D569","v":0},{"$f":"'Lineare Abschreibung'!E569","v":0},{"$f":"'Lineare Abschreibung'!F569","v":0},0,0,{"$f":"'Lineare Abschreibung'!G569","v":0},13,0,0,null,""]
[null,null,null,{"$f":"'Lineare Abschreibung'!D570","v":0},{"$f":"'Lineare Abschreibung'!E570","v":0},{"$f":"'Lineare Abschreibung'!F570","v":0},0,0,{"$f":"'Lineare Abschreibung'!G570","v":0},13,0,0,null,""]
[null,null,null,{"$f":"'Lineare Abschreibung'!D571","v":0},{"$f":"'Lineare Abschreibung'!E571","v":0},{"$f":"'Lineare Abschreibung'!F571","v":0},0,0,{"$f":"'Lineare Abschreibung'!G571","v":0},13,0,0,null,""]
[null,null,null,{"$f":"'Lineare Abschreibung'!D572","v":0},{"$f":"'Lineare Abschreibung'!E572","v":0},{"$f":"'Lineare Abschreibung'!F572","v":0},0,0,{"$f":"'Lineare Abschreibung'!G572","v":0},13,0,0,null,""]
[null,null,null,{"$f":"'Lineare Abschreibung'!D573","v":0},{"$f":"'Lineare Abschreibung'!E573","v":0},{"$f":"'Lineare Abschreibung'!F573","v":0},0,0,{"$f":"'Lineare Abschreibung'!G573","v":0},13,0,0,null,""]
[null,null,null,{"$f":"'Lineare Abschreibung'!D574","v":0},{"$f":"'Lineare Abschreibung'!E574","v":0},{"$f":"'Lineare Abschreibung'!F574","v":0},0,0,{"$f":"'Lineare Abschreibung'!G574","v":0},13,0,0,null,""]
[null,null,null,{"$f":"'Lineare Abschreibung'!D575","v":0},{"$f":"'Lineare Abschreibung'!E575","v":0},{"$f":"'Lineare Abschreibung'!F575","v":0},0,0,{"$f":"'Lineare Abschreibung'!G575","v":0},13,0,0,null,""]
[null,null,null,{"$f":"'Lineare Abschreibung'!D576","v":0},{"$f":"'Lineare Abschreibung'!E576","v":0},{"$f":"'Lineare Abschreibung'!F576","v":0},0,0,{"$f":"'Lineare Abschreibung'!G576","v":0},13,0,0,null,""]
[null,null,null,{"$f":"'Lineare Abschreibung'!D577","v":0},{"$f":"'Lineare Abschreibung'!E577","v":0},{"$f":"'Lineare Abschreibung'!F577","v":0},0,0,{"$f":"'Lineare Abschreibung'!G577","v":0},13,0,0,null,""]
[null,null,null,{"$f":"'Lineare Abschreibung'!D578","v":0},{"$f":"'Lineare Abschreibung'!E578","v":0},{"$f":"'Lineare Abschreibung'!F578","v":0},0,0,{"$f":"'Lineare Abschreibung'!G578","v":0},13,0,0,null,""]
[null,null,null,{"$f":"'Lineare Abschreibung'!D579","v":0},{"$f":"'Lineare Abschreibung'!E579","v":0},{"$f":"'Lineare Abschreibung'!F579","v":0},0,0,{"$f":"'Lineare Abschreibung'!G579","v":0},13,0,0,null,""]
[null,null,null,{"$f":"'Lineare Abschreibung'!D580","v":0},{"$f":"'Lineare Abschreibung'!E580","v":0},{"$f":"'Lineare Abschreibung'!F580","v":0},0,0,{"$f":"'Lineare Abschreibung'!G580","v":0},13,0,0,null,""]
[null,null,null,{"$f":"'Lineare Abschreibung'!D581","v":0},{"$f":"'Lineare Abschreibung'!E581","v":0},{"$f":"'Lineare Abschreibung'!F581","v":0},0,0,{"$f":"'Lineare Abschreibung'!G581","v":0},13,0,0,null,""]
[null,null,null,{"$f":"'Lineare Abschreibung'!D582","v":0},{"$f":"'Lineare Abschreibung'!E582","v":0},{"$f":"'Lineare Abschreibung'!F582","v":0},0,0,{"$f":"'Lineare Abschreibung'!G582","v":0},13,0,0,null,""]
[null,null,null,{"$f":"'Lineare Abschreibung'!D583","v":0},{"$f":"'Lineare Abschreibung'!E583","v":0},{"$f":"'Lineare Abschreibung'!F583","v":0},0,0,{"$f":"'Lineare Abschreibung'!G583","v":0},13,0,0,null,""]
[null,null,null,{"$f":"'Lineare Abschreibung'!D584","v":0},{"$f":"'Lineare Abschreibung'!E584","v":0},{"$f":"'Lineare Abschreibung'!F584","v":0},0,0,{"$f":"'Lineare Abschreibung'!G584","v":0},13,0,0,null,""]
[null,null,null,{"$f":"'Lineare Abschreibung'!D585","v":0},{"$f":"'Lineare Abschreibung'!E585","v":0},{"$f":"'Lineare Abschreibung'!F585","v":0},0,0,{"$f":"'Lineare Abschreibung'!G585","v":0},13,0,0,null,""]
[null,null,null,{"$f":"'Lineare Abschreibung'!D586","v":0},{"$f":"'Lineare Abschreibung'!E586","v":0},{"$f":"'Lineare Abschreibung'!F586","v":0},0,0,{"$f":"'Lineare Abschreibung'!G586","v":0},13,0,0,null,""]
[null,null,null,{"$f":"'Lineare Abschreibung'!D587","v":0},{"$f":"'Lineare Abschreibung'!E587","v":0},{"$f":"'Lineare Abschreibung'!F587","v":0},0,0,{"$f":"'Lineare Abschreibung'!G587","v":0},13,0,0,null,""]
[null,null,null,{"$f":"'Lineare Abschreibung'!D588","v":0},{"$f":"'Lineare Abschreibung'!E588","v":0},{"$f":"'Lineare Abschreibung'!F588","v":0},0,0,{"$f":"'Lineare Abschreibung'!G588","v":0},13,0,0,null,""]
[null,null,null,{"$f":"'Lineare Abschreibung'!D589","v":0},{"$f":"'Lineare Abschreibung'!E589","v":0},{"$f":"'Lineare Abschreibung'!F589","v":0},0,0,{"$f":"'Lineare Abschreibung'!G589","v":0},13,0,0,null,""]
[null,null,null,{"$f":"'Lineare Abschreibung'!D590","v":0},{"$f":"'Lineare Abschreibung'!E590","v":0},{"$f":"'Lineare Abschreibung'!F590","v":0},0,0,{"$f":"'Lineare Abschreibung'!G590","v":0},13,0,0,null,""]
[null,null,null,{"$f":"'Lineare Abschreibung'!D591","v":0},{"$f":"'Lineare Abschreibung'!E591","v":0},{"$f":"'Lineare Abschreibung'!F591","v":0},0,0,{"$f":"'Lineare Abschreibung'!G591","v":0},13,0,0,null,""]
[null,null,null,{"$f":"'Lineare Abschreibung'!D592","v":0},{"$f":"'Lineare Abschreibung'!E592","v":0},{"$f":"'Lineare Abschreibung'!F592","v":0},0,0,{"$f":"'Lineare Abschreibung'!G592","v":0},13,0,0,null,""]
[null,null,null,{"$f":"'Lineare Abschreibung'!D593","v":0},{"$f":"'Lineare Abschreibung'!E593","v":0},{"$f":"'Lineare Abschreibung'!F593","v":0},0,0,{"$f":"'Lineare Abschreibung'!G593","v":0},13,0,0,null,""]
[null,null,null,{"$f":"'Lineare Abschreibung'!D594","v":0},{"$f":"'Lineare Abschreibung'!E594","v":0},{"$f":"'Lineare Abschreibung'!F594","v":0},0,0,{"$f":"'Lineare Abschreibung'!G594","v":0},13,0,0,null,""]
[null,null,null,{"$f":"'Lineare Abschreibung'!D595","v":0},{"$f":"'Lineare Abschreibung'!E595","v":0},{"$f":"'Lineare Abschreibung'!F595","v":0},0,0,{"$f":"'Lineare Abschreibung'!G595","v":0},13,0,0,null,""]
[null,null,null,{"$f":"'Lineare Abschreibung'!D596","v":0},{"$f":"'Lineare Abschreibung'!E596","v":0},{"$f":"'Lineare Abschreibung'!F596","v":0},0,0,{"$f":"'Lineare Abschreibung'!G596","v":0},13,0,0,null,""]
[null,null,null,{"$f":"'Lineare Abschreibung'!D597","v":0},{"$f":"'Lineare Abschreibung'!E597","v":0},{"$f":"'Lineare Abschreibung'!F597","v":0},0,0,{"$f":"'Lineare Abschreibung'!G597","v":0},13,0,0,null,""]
[null,null,null,{"$f":"'Lineare Abschreibung'!D598","v":0},{"$f":"'Lineare Abschreibung'!E598","v":0},{"$f":"'Lineare Abschreibung'!F598","v":0},0,0,{"$f":"'Lineare Abschreibung'!G598","v":0},13,0,0,null,""]
[null,null,null,{"$f":"'Lineare Abschreibung'!D599","v":0},{"$f":"'Lineare Abschreibung'!E599","v":0},{"$f":"'Lineare Abschreibung'!F599","v":0},0,0,{"$f":"'Lineare Abschreibung'!G599","v":0},13,0,0,null,""]
[null,null,null,{"$f":"'Lineare Abschreibung'!D600","v":0},{"$f":"'Lineare Abschreibung'!E600","v":0},{"$f":"'Lineare Abschreibung'!F600","v":0},0,0,{"$f":"'Lineare Abschreibung'!G600","v":0},13,0,0,null,""]
[null,null,null,{"$f":"'Lineare Abschreibung'!D601","v":0},{"$f":"'Lineare Abschreibung'!E601","v":0},{"$f":"'Lineare Abschreibung'!F601","v":0},0,0,{"$f":"'Lineare Abschreibung'!G601","v":0},13,0,0,null,""]
[null,null,null,{"$f":"'Lineare Abschreibung'!D602","v":0},{"$f":"'Lineare Abschreibung'!E602","v":0},{"$f":"'Lineare Abschreibung'!F602","v":0},{"$f":"IF(F602=0,0,1/F602)","v":0},{"$f":"IF(G602*2.5>25%,25%,G602*2.5)","v":0},{"$f":"'Lineare Abschreibung'!G602","v":0},{"$f":"12-I602+1","v":13},{"$f":"IF(E602<250.01,E602,E602/5)","v":0},{"$f":"IF($E602<800.01,$E602,$E602*H602/12*$J602)","v":0},null,{"$f":"IF(AND(E602>800,I602=0),\"Anschaffungsmonat fehlt!\",\"\")","v":""}]
[null,null,null,{"$f":"'Lineare Abschreibung'!D603","v":0},{"$f":"'Lineare Abschreibung'!E603","v":0},{"$f":"'Lineare Abschreibung'!F603","v":0},0,0,{"$f":"'Lineare Abschreibung'!G603","v":0},13,0,0,null,""]
[null,null,null,{"$f":"'Lineare Abschreibung'!D604","v":0},{"$f":"'Lineare Abschreibung'!E604","v":0},{"$f":"'Lineare Abschreibung'!F604","v":0},0,0,{"$f":"'Lineare Abschreibung'!G604","v":0},13,0,0,null,""]
[null,null,null,{"$f":"'Lineare Abschreibung'!D605","v":0},{"$f":"'Lineare Abschreibung'!E605","v":0},{"$f":"'Lineare Abschreibung'!F605","v":0},0,0,{"$f":"'Lineare Abschreibung'!G605","v":0},13,0,0,null,""]
[null,null,null,{"$f":"'Lineare Abschreibung'!D606","v":0},{"$f":"'Lineare Abschreibung'!E606","v":0},{"$f":"'Lineare Abschreibung'!F606","v":0},0,0,{"$f":"'Lineare Abschreibung'!G606","v":0},13,0,0,null,""]
[null,null,null,{"$f":"'Lineare Abschreibung'!D607","v":0},{"$f":"'Lineare Abschreibung'!E607","v":0},{"$f":"'Lineare Abschreibung'!F607","v":0},0,0,{"$f":"'Lineare Abschreibung'!G607","v":0},13,0,0,null,""]
[null,null,null,{"$f":"'Lineare Abschreibung'!D608","v":0},{"$f":"'Lineare Abschreibung'!E608","v":0},{"$f":"'Lineare Abschreibung'!F608","v":0},0,0,{"$f":"'Lineare Abschreibung'!G608","v":0},13,0,0,null,""]
[null,null,null,{"$f":"'Lineare Abschreibung'!D609","v":0},{"$f":"'Lineare Abschreibung'!E609","v":0},{"$f":"'Lineare Abschreibung'!F609","v":0},0,0,{"$f":"'Lineare Abschreibung'!G609","v":0},13,0,0,null,""]
[null,null,null,{"$f":"'Lineare Abschreibung'!D610","v":0},{"$f":"'Lineare Abschreibung'!E610","v":0},{"$f":"'Lineare Abschreibung'!F610","v":0},0,0,{"$f":"'Lineare Abschreibung'!G610","v":0},13,0,0,null,""]
[null,null,null,{"$f":"'Lineare Abschreibung'!D611","v":0},{"$f":"'Lineare Abschreibung'!E611","v":0},{"$f":"'Lineare Abschreibung'!F611","v":0},0,0,{"$f":"'Lineare Abschreibung'!G611","v":0},13,0,0,null,""]
[null,null,null,{"$f":"'Lineare Abschreibung'!D612","v":0},{"$f":"'Lineare Abschreibung'!E612","v":0},{"$f":"'Lineare Abschreibung'!F612","v":0},0,0,{"$f":"'Lineare Abschreibung'!G612","v":0},13,0,0,null,""]
[null,null,null,{"$f":"'Lineare Abschreibung'!D613","v":0},{"$f":"'Lineare Abschreibung'!E613","v":0},{"$f":"'Lineare Abschreibung'!F613","v":0},0,0,{"$f":"'Lineare Abschreibung'!G613","v":0},13,0,0,null,""]
[null,null,null,{"$f":"'Lineare Abschreibung'!D614","v":0},{"$f":"'Lineare Abschreibung'!E614","v":0},{"$f":"'Lineare Abschreibung'!F614","v":0},0,0,{"$f":"'Lineare Abschreibung'!G614","v":0},13,0,0,null,""]
[null,null,null,{"$f":"'Lineare Abschreibung'!D615","v":0},{"$f":"'Lineare Abschreibung'!E615","v":0},{"$f":"'Lineare Abschreibung'!F615","v":0},0,0,{"$f":"'Lineare Abschreibung'!G615","v":0},13,0,0,null,""]
[null,null,null,{"$f":"'Lineare Abschreibung'!D616","v":0},{"$f":"'Lineare Abschreibung'!E616","v":0},{"$f":"'Lineare Abschreibung'!F616","v":0},0,0,{"$f":"'Lineare Abschreibung'!G616","v":0},13,0,0,null,""]
[null,null,null,{"$f":"'Lineare Abschreibung'!D617","v":0},{"$f":"'Lineare Abschreibung'!E617","v":0},{"$f":"'Lineare Abschreibung'!F617","v":0},0,0,{"$f":"'Lineare Abschreibung'!G617","v":0},13,0,0,null,""]
[null,null,null,{"$f":"'Lineare Abschreibung'!D618","v":0},{"$f":"'Lineare Abschreibung'!E618","v":0},{"$f":"'Lineare Abschreibung'!F618","v":0},0,0,{"$f":"'Lineare Abschreibung'!G618","v":0},13,0,0,null,""]
[null,null,null,{"$f":"'Lineare Abschreibung'!D619","v":0},{"$f":"'Lineare Abschreibung'!E619","v":0},{"$f":"'Lineare Abschreibung'!F619","v":0},0,0,{"$f":"'Lineare Abschreibung'!G619","v":0},13,0,0,null,""]
[null,null,null,{"$f":"'Lineare Abschreibung'!D620","v":0},{"$f":"'Lineare Abschreibung'!E620","v":0},{"$f":"'Lineare Abschreibung'!F620","v":0},0,0,{"$f":"'Lineare Abschreibung'!G620","v":0},13,0,0,null,""]
[null,null,null,{"$f":"'Lineare Abschreibung'!D621","v":0},{"$f":"'Lineare Abschreibung'!E621","v":0},{"$f":"'Lineare Abschreibung'!F621","v":0},0,0,{"$f":"'Lineare Abschreibung'!G621","v":0},13,0,0,null,""]
[null,null,null,{"$f":"'Lineare Abschreibung'!D622","v":0},{"$f":"'Lineare Abschreibung'!E622","v":0},{"$f":"'Lineare Abschreibung'!F622","v":0},0,0,{"$f":"'Lineare Abschreibung'!G622","v":0},13,0,0,null,""]
[null,null,null,{"$f":"'Lineare Abschreibung'!D623","v":0},{"$f":"'Lineare Abschreibung'!E623","v":0},{"$f":"'Lineare Abschreibung'!F623","v":0},0,0,{"$f":"'Lineare Abschreibung'!G623","v":0},13,0,0,null,""]
[null,null,null,{"$f":"'Lineare Abschreibung'!D624","v":0},{"$f":"'Lineare Abschreibung'!E624","v":0},{"$f":"'Lineare Abschreibung'!F624","v":0},0,0,{"$f":"'Lineare Abschreibung'!G624","v":0},13,0,0,null,""]
[null,null,null,{"$f":"'Lineare Abschreibung'!D625","v":0},{"$f":"'Lineare Abschreibung'!E625","v":0},{"$f":"'Lineare Abschreibung'!F625","v":0},0,0,{"$f":"'Lineare Abschreibung'!G625","v":0},13,0,0,null,""]
[null,null,null,{"$f":"'Lineare Abschreibung'!D626","v":0},{"$f":"'Lineare Abschreibung'!E626","v":0},{"$f":"'Lineare Abschreibung'!F626","v":0},0,0,{"$f":"'Lineare Abschreibung'!G626","v":0},13,0,0,null,""]
[null,null,null,{"$f":"'Lineare Abschreibung'!D627","v":0},{"$f":"'Lineare Abschreibung'!E627","v":0},{"$f":"'Lineare Abschreibung'!F627","v":0},0,0,{"$f":"'Lineare Abschreibung'!G627","v":0},13,0,0,null,""]
[null,null,null,{"$f":"'Lineare Abschreibung'!D628","v":0},{"$f":"'Lineare Abschreibung'!E628","v":0},{"$f":"'Lineare Abschreibung'!F628","v":0},0,0,{"$f":"'Lineare Abschreibung'!G628","v":0},13,0,0,null,""]
[null,null,null,{"$f":"'Lineare Abschreibung'!D629","v":0},{"$f":"'Lineare Abschreibung'!E629","v":0},{"$f":"'Lineare Abschreibung'!F629","v":0},0,0,{"$f":"'Lineare Abschreibung'!G629","v":0},13,0,0,null,""]
[null,null,null,{"$f":"'Lineare Abschreibung'!D630","v":0},{"$f":"'Lineare Abschreibung'!E630","v":0},{"$f":"'Lineare Abschreibung'!F630","v":0},0,0,{"$f":"'Lineare Abschreibung'!G630","v":0},13,0,0,null,""]
[null,null,null,{"$f":"'Lineare Abschreibung'!D631","v":0},{"$f":"'Lineare Abschreibung'!E631","v":0},{"$f":"'Lineare Abschreibung'!F631","v":0},0,0,{"$f":"'Lineare Abschreibung'!G631","v":0},13,0,0,null,""]
[null,null,null,{"$f":"'Lineare Abschreibung'!D632","v":0},{"$f":"'Lineare Abschreibung'!E632","v":0},{"$f":"'Lineare Abschreibung'!F632","v":0},0,0,{"$f":"'Lineare Abschreibung'!G632","v":0},13,0,0,null,""]
[null,null,null,{"$f":"'Lineare Abschreibung'!D633","v":0},{"$f":"'Lineare Abschreibung'!E633","v":0},{"$f":"'Lineare Abschreibung'!F633","v":0},0,0,{"$f":"'Lineare Abschreibung'!G633","v":0},13,0,0,null,""]
[null,null,null,{"$f":"'Lineare Abschreibung'!D634","v":0},{"$f":"'Lineare Abschreibung'!E634","v":0},{"$f":"'Lineare Abschreibung'!F634","v":0},0,0,{"$f":"'Lineare Abschreibung'!G634","v":0},13,0,0,null,""]
[null,null,null,{"$f":"'Lineare Abschreibung'!D635","v":0},{"$f":"'Lineare Abschreibung'!E635","v":0},{"$f":"'Lineare Abschreibung'!F635","v":0},0,0,{"$f":"'Lineare Abschreibung'!G635","v":0},13,0,0,null,""]
[null,null,null,{"$f":"'Lineare Abschreibung'!D636","v":0},{"$f":"'Lineare Abschreibung'!E636","v":0},{"$f":"'Lineare Abschreibung'!F636","v":0},0,0,{"$f":"'Lineare Abschreibung'!G636","v":0},13,0,0,null,""]
[null,null,null,{"$f":"'Lineare Abschreibung'!D637","v":0},{"$f":"'Lineare Abschreibung'!E637","v":0},{"$f":"'Lineare Abschreibung'!F637","v":0},0,0,{"$f":"'Lineare Abschreibung'!G637","v":0},13,0,0,null,""]
[null,null,null,{"$f":"'Lineare Abschreibung'!D638","v":0},{"$f":"'Lineare Abschreibung'!E638","v":0},{"$f":"'Lineare Abschreibung'!F638","v":0},0,0,{"$f":"'Lineare Abschreibung'!G638","v":0},13,0,0,null,""]
[null,null,null,{"$f":"'Lineare Abschreibung'!D639","v":0},{"$f":"'Lineare Abschreibung'!E639","v":0},{"$f":"'Lineare Abschreibung'!F639","v":0},0,0,{"$f":"'Lineare Abschreibung'!G639","v":0},13,0,0,null,""]
[null,null,null,{"$f":"'Lineare Abschreibung'!D640","v":0},{"$f":"'Lineare Abschreibung'!E640","v":0},{"$f":"'Lineare Abschreibung'!F640","v":0},0,0,{"$f":"'Lineare Abschreibung'!G640","v":0},13,0,0,null,""]
[null,null,null,{"$f":"'Lineare Abschreibung'!D641","v":0},{"$f":"'Lineare Abschreibung'!E641","v":0},{"$f":"'Lineare Abschreibung'!F641","v":0},0,0,{"$f":"'Lineare Abschreibung'!G641","v":0},13,0,0,null,""]
[null,null,null,{"$f":"'Lineare Abschreibung'!D642","v":0},{"$f":"'Lineare Abschreibung'!E642","v":0},{"$f":"'Lineare Abschreibung'!F642","v":0},0,0,{"$f":"'Lineare Abschreibung'!G642","v":0},13,0,0,null,""]
[null,null,null,{"$f":"'Lineare Abschreibung'!D643","v":0},{"$f":"'Lineare Abschreibung'!E643","v":0},{"$f":"'Lineare Abschreibung'!F643","v":0},0,0,{"$f":"'Lineare Abschreibung'!G643","v":0},13,0,0,null,""]
[null,null,null,{"$f":"'Lineare Abschreibung'!D644","v":0},{"$f":"'Lineare Abschreibung'!E644","v":0},{"$f":"'Lineare Abschreibung'!F644","v":0},0,0,{"$f":"'Lineare Abschreibung'!G644","v":0},13,0,0,null,""]
[null,null,null,{"$f":"'Lineare Abschreibung'!D645","v":0},{"$f":"'Lineare Abschreibung'!E645","v":0},{"$f":"'Lineare Abschreibung'!F645","v":0},0,0,{"$f":"'Lineare Abschreibung'!G645","v":0},13,0,0,null,""]
[null,null,null,{"$f":"'Lineare Abschreibung'!D646","v":0},{"$f":"'Lineare Abschreibung'!E646","v":0},{"$f":"'Lineare Abschreibung'!F646","v":0},0,0,{"$f":"'Lineare Abschreibung'!G646","v":0},13,0,0,null,""]
[null,null,null,{"$f":"'Lineare Abschreibung'!D647","v":0},{"$f":"'Lineare Abschreibung'!E647","v":0},{"$f":"'Lineare Abschreibung'!F647","v":0},0,0,{"$f":"'Lineare Abschreibung'!G647","v":0},13,0,0,null,""]
[null,null,null,{"$f":"'Lineare Abschreibung'!D648","v":0},{"$f":"'Lineare Abschreibung'!E648","v":0},{"$f":"'Lineare Abschreibung'!F648","v":0},0,0,{"$f":"'Lineare Abschreibung'!G648","v":0},13,0,0,null,""]
[null,null,null,{"$f":"'Lineare Abschreibung'!D649","v":0},{"$f":"'Lineare Abschreibung'!E649","v":0},{"$f":"'Lineare Abschreibung'!F649","v":0},0,0,{"$f":"'Lineare Abschreibung'!G649","v":0},13,0,0,null,""]
[null,null,null,{"$f":"'Lineare Abschreibung'!D650","v":0},{"$f":"'Lineare Abschreibung'!E650","v":0},{"$f":"'Lineare Abschreibung'!F650","v":0},0,0,{"$f":"'Lineare Abschreibung'!G650","v":0},13,0,0,null,""]
[null,null,null,{"$f":"'Lineare Abschreibung'!D651","v":0},{"$f":"'Lineare Abschreibung'!E651","v":0},{"$f":"'Lineare Abschreibung'!F651","v":0},0,0,{"$f":"'Lineare Abschreibung'!G651","v":0},13,0,0,null,""]
[null,null,null,{"$f":"'Lineare Abschreibung'!D652","v":0},{"$f":"'Lineare Abschreibung'!E652","v":0},{"$f":"'Lineare Abschreibung'!F652","v":0},0,0,{"$f":"'Lineare Abschreibung'!G652","v":0},13,0,0,null,""]
[null,null,null,{"$f":"'Lineare Abschreibung'!D653","v":0},{"$f":"'Lineare Abschreibung'!E653","v":0},{"$f":"'Lineare Abschreibung'!F653","v":0},0,0,{"$f":"'Lineare Abschreibung'!G653","v":0},13,0,0,null,""]
[null,null,null,{"$f":"'Lineare Abschreibung'!D654","v":0},{"$f":"'Lineare Abschreibung'!E654","v":0},{"$f":"'Lineare Abschreibung'!F654","v":0},0,0,{"$f":"'Lineare Abschreibung'!G654","v":0},13,0,0,null,""]
[null,null,null,{"$f":"'Lineare Abschreibung'!D655","v":0},{"$f":"'Lineare Abschreibung'!E655","v":0},{"$f":"'Lineare Abschreibung'!F655","v":0},0,0,{"$f":"'Lineare Abschreibung'!G655","v":0},13,0,0,null,""]
[null,null,null,{"$f":"'Lineare Abschreibung'!D656","v":0},{"$f":"'Lineare Abschreibung'!E656","v":0},{"$f":"'Lineare Abschreibung'!F656","v":0},0,0,{"$f":"'Lineare Abschreibung'!G656","v":0},13,0,0,null,""]
[null,null,null,{"$f":"'Lineare Abschreibung'!D657","v":0},{"$f":"'Lineare Abschreibung'!E657","v":0},{"$f":"'Lineare Abschreibung'!F657","v":0},0,0,{"$f":"'Lineare Abschreibung'!G657","v":0},13,0,0,null,""]
[null,null,null,{"$f":"'Lineare Abschreibung'!D658","v":0},{"$f":"'Lineare Abschreibung'!E658","v":0},{"$f":"'Lineare Abschreibung'!F658","v":0},0,0,{"$f":"'Lineare Abschreibung'!G658","v":0},13,0,0,null,""]
[null,null,null,{"$f":"'Lineare Abschreibung'!D659","v":0},{"$f":"'Lineare Abschreibung'!E659","v":0},{"$f":"'Lineare Abschreibung'!F659","v":0},0,0,{"$f":"'Lineare Abschreibung'!G659","v":0},13,0,0,null,""]
[null,null,null,{"$f":"'Lineare Abschreibung'!D660","v":0},{"$f":"'Lineare Abschreibung'!E660","v":0},{"$f":"'Lineare Abschreibung'!F660","v":0},0,0,{"$f":"'Lineare Abschreibung'!G660","v":0},13,0,0,null,""]
[null,null,null,{"$f":"'Lineare Abschreibung'!D661","v":0},{"$f":"'Lineare Abschreibung'!E661","v":0},{"$f":"'Lineare Abschreibung'!F661","v":0},0,0,{"$f":"'Lineare Abschreibung'!G661","v":0},13,0,0,null,""]
[null,null,null,{"$f":"'Lineare Abschreibung'!D662","v":0},{"$f":"'Lineare Abschreibung'!E662","v":0},{"$f":"'Lineare Abschreibung'!F662","v":0},0,0,{"$f":"'Lineare Abschreibung'!G662","v":0},13,0,0,null,""]
[null,null,null,{"$f":"'Lineare Abschreibung'!D663","v":0},{"$f":"'Lineare Abschreibung'!E663","v":0},{"$f":"'Lineare Abschreibung'!F663","v":0},0,0,{"$f":"'Lineare Abschreibung'!G663","v":0},13,0,0,null,""]
[null,null,null,{"$f":"'Lineare Abschreibung'!D664","v":0},{"$f":"'Lineare Abschreibung'!E664","v":0},{"$f":"'Lineare Abschreibung'!F664","v":0},0,0,{"$f":"'Lineare Abschreibung'!G664","v":0},13,0,0,null,""]
[null,null,null,{"$f":"'Lineare Abschreibung'!D665","v":0},{"$f":"'Lineare Abschreibung'!E665","v":0},{"$f":"'Lineare Abschreibung'!F665","v":0},0,0,{"$f":"'Lineare Abschreibung'!G665","v":0},13,0,0,null,""]
[null,null,null,{"$f":"'Lineare Abschreibung'!D666","v":0},{"$f":"'Lineare Abschreibung'!E666","v":0},{"$f":"'Lineare Abschreibung'!F666","v":0},{"$f":"IF(F666=0,0,1/F666)","v":0},{"$f":"IF(G666*2.5>25%,25%,G666*2.5)","v":0},{"$f":"'Lineare Abschreibung'!G666","v":0},{"$f":"12-I666+1","v":13},{"$f":"IF(E666<250.01,E666,E666/5)","v":0},{"$f":"IF($E666<800.01,$E666,$E666*H666/12*$J666)","v":0},null,{"$f":"IF(AND(E666>800,I666=0),\"Anschaffungsmonat fehlt!\",\"\")","v":""}]
[null,null,null,{"$f":"'Lineare Abschreibung'!D667","v":0},{"$f":"'Lineare Abschreibung'!E667","v":0},{"$f":"'Lineare Abschreibung'!F667","v":0},0,0,{"$f":"'Lineare Abschreibung'!G667","v":0},13,0,0,null,""]
[null,null,null,{"$f":"'Lineare Abschreibung'!D668","v":0},{"$f":"'Lineare Abschreibung'!E668","v":0},{"$f":"'Lineare Abschreibung'!F668","v":0},0,0,{"$f":"'Lineare Abschreibung'!G668","v":0},13,0,0,null,""]
[null,null,null,{"$f":"'Lineare Abschreibung'!D669","v":0},{"$f":"'Lineare Abschreibung'!E669","v":0},{"$f":"'Lineare Abschreibung'!F669","v":0},0,0,{"$f":"'Lineare Abschreibung'!G669","v":0},13,0,0,null,""]
[null,null,null,{"$f":"'Lineare Abschreibung'!D670","v":0},{"$f":"'Lineare Abschreibung'!E670","v":0},{"$f":"'Lineare Abschreibung'!F670","v":0},0,0,{"$f":"'Lineare Abschreibung'!G670","v":0},13,0,0,null,""]
[null,null,null,{"$f":"'Lineare Abschreibung'!D671","v":0},{"$f":"'Lineare Abschreibung'!E671","v":0},{"$f":"'Lineare Abschreibung'!F671","v":0},0,0,{"$f":"'Lineare Abschreibung'!G671","v":0},13,0,0,null,""]
[null,null,null,{"$f":"'Lineare Abschreibung'!D672","v":0},{"$f":"'Lineare Abschreibung'!E672","v":0},{"$f":"'Lineare Abschreibung'!F672","v":0},0,0,{"$f":"'Lineare Abschreibung'!G672","v":0},13,0,0,null,""]
[null,null,null,{"$f":"'Lineare Abschreibung'!D673","v":0},{"$f":"'Lineare Abschreibung'!E673","v":0},{"$f":"'Lineare Abschreibung'!F673","v":0},0,0,{"$f":"'Lineare Abschreibung'!G673","v":0},13,0,0,null,""]
[null,null,null,{"$f":"'Lineare Abschreibung'!D674","v":0},{"$f":"'Lineare Abschreibung'!E674","v":0},{"$f":"'Lineare Abschreibung'!F674","v":0},0,0,{"$f":"'Lineare Abschreibung'!G674","v":0},13,0,0,null,""]
[null,null,null,{"$f":"'Lineare Abschreibung'!D675","v":0},{"$f":"'Lineare Abschreibung'!E675","v":0},{"$f":"'Lineare Abschreibung'!F675","v":0},0,0,{"$f":"'Lineare Abschreibung'!G675","v":0},13,0,0,null,""]
[null,null,null,{"$f":"'Lineare Abschreibung'!D676","v":0},{"$f":"'Lineare Abschreibung'!E676","v":0},{"$f":"'Lineare Abschreibung'!F676","v":0},0,0,{"$f":"'Lineare Abschreibung'!G676","v":0},13,0,0,null,""]
[null,null,null,{"$f":"'Lineare Abschreibung'!D677","v":0},{"$f":"'Lineare Abschreibung'!E677","v":0},{"$f":"'Lineare Abschreibung'!F677","v":0},0,0,{"$f":"'Lineare Abschreibung'!G677","v":0},13,0,0,null,""]
[null,null,null,{"$f":"'Lineare Abschreibung'!D678","v":0},{"$f":"'Lineare Abschreibung'!E678","v":0},{"$f":"'Lineare Abschreibung'!F678","v":0},0,0,{"$f":"'Lineare Abschreibung'!G678","v":0},13,0,0,null,""]
[null,null,null,{"$f":"'Lineare Abschreibung'!D679","v":0},{"$f":"'Lineare Abschreibung'!E679","v":0},{"$f":"'Lineare Abschreibung'!F679","v":0},0,0,{"$f":"'Lineare Abschreibung'!G679","v":0},13,0,0,null,""]
[null,null,null,{"$f":"'Lineare Abschreibung'!D680","v":0},{"$f":"'Lineare Abschreibung'!E680","v":0},{"$f":"'Lineare Abschreibung'!F680","v":0},0,0,{"$f":"'Lineare Abschreibung'!G680","v":0},13,0,0,null,""]
[null,null,null,{"$f":"'Lineare Abschreibung'!D681","v":0},{"$f":"'Lineare Abschreibung'!E681","v":0},{"$f":"'Lineare Abschreibung'!F681","v":0},0,0,{"$f":"'Lineare Abschreibung'!G681","v":0},13,0,0,null,""]
[null,null,null,{"$f":"'Lineare Abschreibung'!D682","v":0},{"$f":"'Lineare Abschreibung'!E682","v":0},{"$f":"'Lineare Abschreibung'!F682","v":0},0,0,{"$f":"'Lineare Abschreibung'!G682","v":0},13,0,0,null,""]
[null,null,null,{"$f":"'Lineare Abschreibung'!D683","v":0},{"$f":"'Lineare Abschreibung'!E683","v":0},{"$f":"'Lineare Abschreibung'!F683","v":0},0,0,{"$f":"'Lineare Abschreibung'!G683","v":0},13,0,0,null,""]
[null,null,null,{"$f":"'Lineare Abschreibung'!D684","v":0},{"$f":"'Lineare Abschreibung'!E684","v":0},{"$f":"'Lineare Abschreibung'!F684","v":0},0,0,{"$f":"'Lineare Abschreibung'!G684","v":0},13,0,0,null,""]
[null,null,null,{"$f":"'Lineare Abschreibung'!D685","v":0},{"$f":"'Lineare Abschreibung'!E685","v":0},{"$f":"'Lineare Abschreibung'!F685","v":0},0,0,{"$f":"'Lineare Abschreibung'!G685","v":0},13,0,0,null,""]
[null,null,null,{"$f":"'Lineare Abschreibung'!D686","v":0},{"$f":"'Lineare Abschreibung'!E686","v":0},{"$f":"'Lineare Abschreibung'!F686","v":0},0,0,{"$f":"'Lineare Abschreibung'!G686","v":0},13,0,0,null,""]
[null,null,null,{"$f":"'Lineare Abschreibung'!D687","v":0},{"$f":"'Lineare Abschreibung'!E687","v":0},{"$f":"'Lineare Abschreibung'!F687","v":0},0,0,{"$f":"'Lineare Abschreibung'!G687","v":0},13,0,0,null,""]
[null,null,null,{"$f":"'Lineare Abschreibung'!D688","v":0},{"$f":"'Lineare Abschreibung'!E688","v":0},{"$f":"'Lineare Abschreibung'!F688","v":0},0,0,{"$f":"'Lineare Abschreibung'!G688","v":0},13,0,0,null,""]
[null,null,null,{"$f":"'Lineare Abschreibung'!D689","v":0},{"$f":"'Lineare Abschreibung'!E689","v":0},{"$f":"'Lineare Abschreibung'!F689","v":0},0,0,{"$f":"'Lineare Abschreibung'!G689","v":0},13,0,0,null,""]
[null,null,null,{"$f":"'Lineare Abschreibung'!D690","v":0},{"$f":"'Lineare Abschreibung'!E690","v":0},{"$f":"'Lineare Abschreibung'!F690","v":0},0,0,{"$f":"'Lineare Abschreibung'!G690","v":0},13,0,0,null,""]
[null,null,null,{"$f":"'Lineare Abschreibung'!D691","v":0},{"$f":"'Lineare Abschreibung'!E691","v":0},{"$f":"'Lineare Abschreibung'!F691","v":0},0,0,{"$f":"'Lineare Abschreibung'!G691","v":0},13,0,0,null,""]
[null,null,null,{"$f":"'Lineare Abschreibung'!D692","v":0},{"$f":"'Lineare Abschreibung'!E692","v":0},{"$f":"'Lineare Abschreibung'!F692","v":0},0,0,{"$f":"'Lineare Abschreibung'!G692","v":0},13,0,0,null,""]
[null,null,null,{"$f":"'Lineare Abschreibung'!D693","v":0},{"$f":"'Lineare Abschreibung'!E693","v":0},{"$f":"'Lineare Abschreibung'!F693","v":0},0,0,{"$f":"'Lineare Abschreibung'!G693","v":0},13,0,0,null,""]
[null,null,null,{"$f":"'Lineare Abschreibung'!D694","v":0},{"$f":"'Lineare Abschreibung'!E694","v":0},{"$f":"'Lineare Abschreibung'!F694","v":0},0,0,{"$f":"'Lineare Abschreibung'!G694","v":0},13,0,0,null,""]
[null,null,null,{"$f":"'Lineare Abschreibung'!D695","v":0},{"$f":"'Lineare Abschreibung'!E695","v":0},{"$f":"'Lineare Abschreibung'!F695","v":0},0,0,{"$f":"'Lineare Abschreibung'!G695","v":0},13,0,0,null,""]
[null,null,null,{"$f":"'Lineare Abschreibung'!D696","v":0},{"$f":"'Lineare Abschreibung'!E696","v":0},{"$f":"'Lineare Abschreibung'!F696","v":0},0,0,{"$f":"'Lineare Abschreibung'!G696","v":0},13,0,0,null,""]
[null,null,null,{"$f":"'Lineare Abschreibung'!D697","v":0},{"$f":"'Lineare Abschreibung'!E697","v":0},{"$f":"'Lineare Abschreibung'!F697","v":0},0,0,{"$f":"'Lineare Abschreibung'!G697","v":0},13,0,0,null,""]
[null,null,null,{"$f":"'Lineare Abschreibung'!D698","v":0},{"$f":"'Lineare Abschreibung'!E698","v":0},{"$f":"'Lineare Abschreibung'!F698","v":0},0,0,{"$f":"'Lineare Abschreibung'!G698","v":0},13,0,0,null,""]
[null,null,null,{"$f":"'Lineare Abschreibung'!D699","v":0},{"$f":"'Lineare Abschreibung'!E699","v":0},{"$f":"'Lineare Abschreibung'!F699","v":0},0,0,{"$f":"'Lineare Abschreibung'!G699","v":0},13,0,0,null,""]
[null,null,null,{"$f":"'Lineare Abschreibung'!D700","v":0},{"$f":"'Lineare Abschreibung'!E700","v":0},{"$f":"'Lineare Abschreibung'!F700","v":0},0,0,{"$f":"'Lineare Abschreibung'!G700","v":0},13,0,0,null,""]
[null,null,null,{"$f":"'Lineare Abschreibung'!D701","v":0},{"$f":"'Lineare Abschreibung'!E701","v":0},{"$f":"'Lineare Abschreibung'!F701","v":0},0,0,{"$f":"'Lineare Abschreibung'!G701","v":0},13,0,0,null,""]
[null,null,null,{"$f":"'Lineare Abschreibung'!D702","v":0},{"$f":"'Lineare Abschreibung'!E702","v":0},{"$f":"'Lineare Abschreibung'!F702","v":0},0,0,{"$f":"'Lineare Abschreibung'!G702","v":0},13,0,0,null,""]
[null,null,null,{"$f":"'Lineare Abschreibung'!D703","v":0},{"$f":"'Lineare Abschreibung'!E703","v":0},{"$f":"'Lineare Abschreibung'!F703","v":0},0,0,{"$f":"'Lineare Abschreibung'!G703","v":0},13,0,0,null,""]
[null,null,null,{"$f":"'Lineare Abschreibung'!D704","v":0},{"$f":"'Lineare Abschreibung'!E704","v":0},{"$f":"'Lineare Abschreibung'!F704","v":0},0,0,{"$f":"'Lineare Abschreibung'!G704","v":0},13,0,0,null,""]
[null,null,null,{"$f":"'Lineare Abschreibung'!D705","v":0},{"$f":"'Lineare Abschreibung'!E705","v":0},{"$f":"'Lineare Abschreibung'!F705","v":0},0,0,{"$f":"'Lineare Abschreibung'!G705","v":0},13,0,0,null,""]
[null,null,null,{"$f":"'Lineare Abschreibung'!D706","v":0},{"$f":"'Lineare Abschreibung'!E706","v":0},{"$f":"'Lineare Abschreibung'!F706","v":0},0,0,{"$f":"'Lineare Abschreibung'!G706","v":0},13,0,0,null,""]
[null,null,null,{"$f":"'Lineare Abschreibung'!D707","v":0},{"$f":"'Lineare Abschreibung'!E707","v":0},{"$f":"'Lineare Abschreibung'!F707","v":0},0,0,{"$f":"'Lineare Abschreibung'!G707","v":0},13,0,0,null,""]
[null,null,null,{"$f":"'Lineare Abschreibung'!D708","v":0},{"$f":"'Lineare Abschreibung'!E708","v":0},{"$f":"'Lineare Abschreibung'!F708","v":0},0,0,{"$f":"'Lineare Abschreibung'!G708","v":0},13,0,0,null,""]
[null,null,null,{"$f":"'Lineare Abschreibung'!D709","v":0},{"$f":"'Lineare Abschreibung'!E709","v":0},{"$f":"'Lineare Abschreibung'!F709","v":0},0,0,{"$f":"'Lineare Abschreibung'!G709","v":0},13,0,0,null,""]
[null,null,null,{"$f":"'Lineare Abschreibung'!D710","v":0},{"$f":"'Lineare Abschreibung'!E710","v":0},{"$f":"'Lineare Abschreibung'!F710","v":0},0,0,{"$f":"'Lineare Abschreibung'!G710","v":0},13,0,0,null,""]
[null,null,null,{"$f":"'Lineare Abschreibung'!D711","v":0},{"$f":"'Lineare Abschreibung'!E711","v":0},{"$f":"'Lineare Abschreibung'!F711","v":0},0,0,{"$f":"'Lineare Abschreibung'!G711","v":0},13,0,0,null,""]
[null,null,null,{"$f":"'Lineare Abschreibung'!D712","v":0},{"$f":"'Lineare Abschreibung'!E712","v":0},{"$f":"'Lineare Abschreibung'!F712","v":0},0,0,{"$f":"'Lineare Abschreibung'!G712","v":0},13,0,0,null,""]
[null,null,null,{"$f":"'Lineare Abschreibung'!D713","v":0},{"$f":"'Lineare Abschreibung'!E713","v":0},{"$f":"'Lineare Abschreibung'!F713","v":0},0,0,{"$f":"'Lineare Abschreibung'!G713","v":0},13,0,0,null,""]
[null,null,null,{"$f":"'Lineare Abschreibung'!D714","v":0},{"$f":"'Lineare Abschreibung'!E714","v":0},{"$f":"'Lineare Abschreibung'!F714","v":0},0,0,{"$f":"'Lineare Abschreibung'!G714","v":0},13,0,0,null,""]
[null,null,null,{"$f":"'Lineare Abschreibung'!D715","v":0},{"$f":"'Lineare Abschreibung'!E715","v":0},{"$f":"'Lineare Abschreibung'!F715","v":0},0,0,{"$f":"'Lineare Abschreibung'!G715","v":0},13,0,0,null,""]
[null,null,null,{"$f":"'Lineare Abschreibung'!D716","v":0},{"$f":"'Lineare Abschreibung'!E716","v":0},{"$f":"'Lineare Abschreibung'!F716","v":0},0,0,{"$f":"'Lineare Abschreibung'!G716","v":0},13,0,0,null,""]
[null,null,null,{"$f":"'Lineare Abschreibung'!D717","v":0},{"$f":"'Lineare Abschreibung'!E717","v":0},{"$f":"'Lineare Abschreibung'!F717","v":0},0,0,{"$f":"'Lineare Abschreibung'!G717","v":0},13,0,0,null,""]
[null,null,null,{"$f":"'Lineare Abschreibung'!D718","v":0},{"$f":"'Lineare Abschreibung'!E718","v":0},{"$f":"'Lineare Abschreibung'!F718","v":0},0,0,{"$f":"'Lineare Abschreibung'!G718","v":0},13,0,0,null,""]
[null,null,null,{"$f":"'Lineare Abschreibung'!D719","v":0},{"$f":"'Lineare Abschreibung'!E719","v":0},{"$f":"'Lineare Abschreibung'!F719","v":0},0,0,{"$f":"'Lineare Abschreibung'!G719","v":0},13,0,0,null,""]
[null,null,null,{"$f":"'Lineare Abschreibung'!D720","v":0},{"$f":"'Lineare Abschreibung'!E720","v":0},{"$f":"'Lineare Abschreibung'!F720","v":0},0,0,{"$f":"'Lineare Abschreibung'!G720","v":0},13,0,0,null,""]
[null,null,null,{"$f":"'Lineare Abschreibung'!D721","v":0},{"$f":"'Lineare Abschreibung'!E721","v":0},{"$f":"'Lineare Abschreibung'!F721","v":0},0,0,{"$f":"'Lineare Abschreibung'!G721","v":0},13,0,0,null,""]
[null,null,null,{"$f":"'Lineare Abschreibung'!D722","v":0},{"$f":"'Lineare Abschreibung'!E722","v":0},{"$f":"'Lineare Abschreibung'!F722","v":0},0,0,{"$f":"'Lineare Abschreibung'!G722","v":0},13,0,0,null,""]
[null,null,null,{"$f":"'Lineare Abschreibung'!D723","v":0},{"$f":"'Lineare Abschreibung'!E723","v":0},{"$f":"'Lineare Abschreibung'!F723","v":0},0,0,{"$f":"'Lineare Abschreibung'!G723","v":0},13,0,0,null,""]
[null,null,null,{"$f":"'Lineare Abschreibung'!D724","v":0},{"$f":"'Lineare Abschreibung'!E724","v":0},{"$f":"'Lineare Abschreibung'!F724","v":0},0,0,{"$f":"'Lineare Abschreibung'!G724","v":0},13,0,0,null,""]
[null,null,null,{"$f":"'Lineare Abschreibung'!D725","v":0},{"$f":"'Lineare Abschreibung'!E725","v":0},{"$f":"'Lineare Abschreibung'!F725","v":0},0,0,{"$f":"'Lineare Abschreibung'!G725","v":0},13,0,0,null,""]
[null,null,null,{"$f":"'Lineare Abschreibung'!D726","v":0},{"$f":"'Lineare Abschreibung'!E726","v":0},{"$f":"'Lineare Abschreibung'!F726","v":0},0,0,{"$f":"'Lineare Abschreibung'!G726","v":0},13,0,0,null,""]
[null,null,null,{"$f":"'Lineare Abschreibung'!D727","v":0},{"$f":"'Lineare Abschreibung'!E727","v":0},{"$f":"'Lineare Abschreibung'!F727","v":0},0,0,{"$f":"'Lineare Abschreibung'!G727","v":0},13,0,0,null,""]
[null,null,null,{"$f":"'Lineare Abschreibung'!D728","v":0},{"$f":"'Lineare Abschreibung'!E728","v":0},{"$f":"'Lineare Abschreibung'!F728","v":0},0,0,{"$f":"'Lineare Abschreibung'!G728","v":0},13,0,0,null,""]
[null,null,null,{"$f":"'Lineare Abschreibung'!D729","v":0},{"$f":"'Lineare Abschreibung'!E729","v":0},{"$f":"'Lineare Abschreibung'!F729","v":0},0,0,{"$f":"'Lineare Abschreibung'!G729","v":0},13,0,0,null,""]
[null,null,null,{"$f":"'Lineare Abschreibung'!D730","v":0},{"$f":"'Lineare Abschreibung'!E730","v":0},{"$f":"'Lineare Abschreibung'!F730","v":0},{"$f":"IF(F730=0,0,1/F730)","v":0},{"$f":"IF(G730*2.5>25%,25%,G730*2.5)","v":0},{"$f":"'Lineare Abschreibung'!G730","v":0},{"$f":"12-I730+1","v":13},{"$f":"IF(E730<250.01,E730,E730/5)","v":0},{"$f":"IF($E730<800.01,$E730,$E730*H730/12*$J730)","v":0},null,{"$f":"IF(AND(E730>800,I730=0),\"Anschaffungsmonat fehlt!\",\"\")","v":""}]
[null,null,null,{"$f":"'Lineare Abschreibung'!D731","v":0},{"$f":"'Lineare Abschreibung'!E731","v":0},{"$f":"'Lineare Abschreibung'!F731","v":0},0,0,{"$f":"'Lineare Abschreibung'!G731","v":0},13,0,0,null,""]
[null,null,null,{"$f":"'Lineare Abschreibung'!D732","v":0},{"$f":"'Lineare Abschreibung'!E732","v":0},{"$f":"'Lineare Abschreibung'!F732","v":0},0,0,{"$f":"'Lineare Abschreibung'!G732","v":0},13,0,0,null,""]
[null,null,null,{"$f":"'Lineare Abschreibung'!D733","v":0},{"$f":"'Lineare Abschreibung'!E733","v":0},{"$f":"'Lineare Abschreibung'!F733","v":0},0,0,{"$f":"'Lineare Abschreibung'!G733","v":0},13,0,0,null,""]
[null,null,null,{"$f":"'Lineare Abschreibung'!D734","v":0},{"$f":"'Lineare Abschreibung'!E734","v":0},{"$f":"'Lineare Abschreibung'!F734","v":0},0,0,{"$f":"'Lineare Abschreibung'!G734","v":0},13,0,0,null,""]
[null,null,null,{"$f":"'Lineare Abschreibung'!D735","v":0},{"$f":"'Lineare Abschreibung'!E735","v":0},{"$f":"'Lineare Abschreibung'!F735","v":0},0,0,{"$f":"'Lineare Abschreibung'!G735","v":0},13,0,0,null,""]
[null,null,null,{"$f":"'Lineare Abschreibung'!D736","v":0},{"$f":"'Lineare Abschreibung'!E736","v":0},{"$f":"'Lineare Abschreibung'!F736","v":0},0,0,{"$f":"'Lineare Abschreibung'!G736","v":0},13,0,0,null,""]
[null,null,null,{"$f":"'Lineare Abschreibung'!D737","v":0},{"$f":"'Lineare Abschreibung'!E737","v":0},{"$f":"'Lineare Abschreibung'!F737","v":0},0,0,{"$f":"'Lineare Abschreibung'!G737","v":0},13,0,0,null,""]
[null,null,null,{"$f":"'Lineare Abschreibung'!D738","v":0},{"$f":"'Lineare Abschreibung'!E738","v":0},{"$f":"'Lineare Abschreibung'!F738","v":0},0,0,{"$f":"'Lineare Abschreibung'!G738","v":0},13,0,0,null,""]
[null,null,null,{"$f":"'Lineare Abschreibung'!D739","v":0},{"$f":"'Lineare Abschreibung'!E739","v":0},{"$f":"'Lineare Abschreibung'!F739","v":0},0,0,{"$f":"'Lineare Abschreibung'!G739","v":0},13,0,0,null,""]
[null,null,null,{"$f":"'Lineare Abschreibung'!D740","v":0},{"$f":"'Lineare Abschreibung'!E740","v":0},{"$f":"'Lineare Abschreibung'!F740","v":0},0,0,{"$f":"'Lineare Abschreibung'!G740","v":0},13,0,0,null,""]
[null,null,null,{"$f":"'Lineare Abschreibung'!D741","v":0},{"$f":"'Lineare Abschreibung'!E741","v":0},{"$f":"'Lineare Abschreibung'!F741","v":0},0,0,{"$f":"'Lineare Abschreibung'!G741","v":0},13,0,0,null,""]
[null,null,null,{"$f":"'Lineare Abschreibung'!D742","v":0},{"$f":"'Lineare Abschreibung'!E742","v":0},{"$f":"'Lineare Abschreibung'!F742","v":0},0,0,{"$f":"'Lineare Abschreibung'!G742","v":0},13,0,0,null,""]
[null,null,null,{"$f":"'Lineare Abschreibung'!D743","v":0},{"$f":"'Lineare Abschreibung'!E743","v":0},{"$f":"'Lineare Abschreibung'!F743","v":0},0,0,{"$f":"'Lineare Abschreibung'!G743","v":0},13,0,0,null,""]
[null,null,null,{"$f":"'Lineare Abschreibung'!D744","v":0},{"$f":"'Lineare Abschreibung'!E744","v":0},{"$f":"'Lineare Abschreibung'!F744","v":0},0,0,{"$f":"'Lineare Abschreibung'!G744","v":0},13,0,0,null,""]
[null,null,null,{"$f":"'Lineare Abschreibung'!D745","v":0},{"$f":"'Lineare Abschreibung'!E745","v":0},{"$f":"'Lineare Abschreibung'!F745","v":0},0,0,{"$f":"'Lineare Abschreibung'!G745","v":0},13,0,0,null,""]
[null,null,null,{"$f":"'Lineare Abschreibung'!D746","v":0},{"$f":"'Lineare Abschreibung'!E746","v":0},{"$f":"'Lineare Abschreibung'!F746","v":0},0,0,{"$f":"'Lineare Abschreibung'!G746","v":0},13,0,0,null,""]
[null,null,null,{"$f":"'Lineare Abschreibung'!D747","v":0},{"$f":"'Lineare Abschreibung'!E747","v":0},{"$f":"'Lineare Abschreibung'!F747","v":0},0,0,{"$f":"'Lineare Abschreibung'!G747","v":0},13,0,0,null,""]
[null,null,null,{"$f":"'Lineare Abschreibung'!D748","v":0},{"$f":"'Lineare Abschreibung'!E748","v":0},{"$f":"'Lineare Abschreibung'!F748","v":0},0,0,{"$f":"'Lineare Abschreibung'!G748","v":0},13,0,0,null,""]
[null,null,null,{"$f":"'Lineare Abschreibung'!D749","v":0},{"$f":"'Lineare Abschreibung'!E749","v":0},{"$f":"'Lineare Abschreibung'!F749","v":0},0,0,{"$f":"'Lineare Abschreibung'!G749","v":0},13,0,0,null,""]
[null,null,null,{"$f":"'Lineare Abschreibung'!D750","v":0},{"$f":"'Lineare Abschreibung'!E750","v":0},{"$f":"'Lineare Abschreibung'!F750","v":0},0,0,{"$f":"'Lineare Abschreibung'!G750","v":0},13,0,0,null,""]
[null,null,null,{"$f":"'Lineare Abschreibung'!D751","v":0},{"$f":"'Lineare Abschreibung'!E751","v":0},{"$f":"'Lineare Abschreibung'!F751","v":0},0,0,{"$f":"'Lineare Abschreibung'!G751","v":0},13,0,0,null,""]
[null,null,null,{"$f":"'Lineare Abschreibung'!D752","v":0},{"$f":"'Lineare Abschreibung'!E752","v":0},{"$f":"'Lineare Abschreibung'!F752","v":0},0,0,{"$f":"'Lineare Abschreibung'!G752","v":0},13,0,0,null,""]
[null,null,null,{"$f":"'Lineare Abschreibung'!D753","v":0},{"$f":"'Lineare Abschreibung'!E753","v":0},{"$f":"'Lineare Abschreibung'!F753","v":0},0,0,{"$f":"'Lineare Abschreibung'!G753","v":0},13,0,0,null,""]
[null,null,null,{"$f":"'Lineare Abschreibung'!D754","v":0},{"$f":"'Lineare Abschreibung'!E754","v":0},{"$f":"'Lineare Abschreibung'!F754","v":0},0,0,{"$f":"'Lineare Abschreibung'!G754","v":0},13,0,0,null,""]
[null,null,null,{"$f":"'Lineare Abschreibung'!D755","v":0},{"$f":"'Lineare Abschreibung'!E755","v":0},{"$f":"'Lineare Abschreibung'!F755","v":0},0,0,{"$f":"'Lineare Abschreibung'!G755","v":0},13,0,0,null,""]
[null,null,null,{"$f":"'Lineare Abschreibung'!D756","v":0},{"$f":"'Lineare Abschreibung'!E756","v":0},{"$f":"'Lineare Abschreibung'!F756","v":0},0,0,{"$f":"'Lineare Abschreibung'!G756","v":0},13,0,0,null,""]
[null,null,null,{"$f":"'Lineare Abschreibung'!D757","v":0},{"$f":"'Lineare Abschreibung'!E757","v":0},{"$f":"'Lineare Abschreibung'!F757","v":0},0,0,{"$f":"'Lineare Abschreibung'!G757","v":0},13,0,0,null,""]
[null,null,null,{"$f":"'Lineare Abschreibung'!D758","v":0},{"$f":"'Lineare Abschreibung'!E758","v":0},{"$f":"'Lineare Abschreibung'!F758","v":0},0,0,{"$f":"'Lineare Abschreibung'!G758","v":0},13,0,0,null,""]
[null,null,null,{"$f":"'Lineare Abschreibung'!D759","v":0},{"$f":"'Lineare Abschreibung'!E759","v":0},{"$f":"'Lineare Abschreibung'!F759","v":0},0,0,{"$f":"'Lineare Abschreibung'!G759","v":0},13,0,0,null,""]
[null,null,null,{"$f":"'Lineare Abschreibung'!D760","v":0},{"$f":"'Lineare Abschreibung'!E760","v":0},{"$f":"'Lineare Abschreibung'!F760","v":0},0,0,{"$f":"'Lineare Abschreibung'!G760","v":0},13,0,0,null,""]
[null,null,null,{"$f":"'Lineare Abschreibung'!D761","v":0},{"$f":"'Lineare Abschreibung'!E761","v":0},{"$f":"'Lineare Abschreibung'!F761","v":0},0,0,{"$f":"'Lineare Abschreibung'!G761","v":0},13,0,0,null,""]
[null,null,null,{"$f":"'Lineare Abschreibung'!D762","v":0},{"$f":"'Lineare Abschreibung'!E762","v":0},{"$f":"'Lineare Abschreibung'!F762","v":0},0,0,{"$f":"'Lineare Abschreibung'!G762","v":0},13,0,0,null,""]
[null,null,null,{"$f":"'Lineare Abschreibung'!D763","v":0},{"$f":"'Lineare Abschreibung'!E763","v":0},{"$f":"'Lineare Abschreibung'!F763","v":0},0,0,{"$f":"'Lineare Abschreibung'!G763","v":0},13,0,0,null,""]
[null,null,null,{"$f":"'Lineare Abschreibung'!D764","v":0},{"$f":"'Lineare Abschreibung'!E764","v":0},{"$f":"'Lineare Abschreibung'!F764","v":0},0,0,{"$f":"'Lineare Abschreibung'!G764","v":0},13,0,0,null,""]
[null,null,null,{"$f":"'Lineare Abschreibung'!D765","v":0},{"$f":"'Lineare Abschreibung'!E765","v":0},{"$f":"'Lineare Abschreibung'!F765","v":0},0,0,{"$f":"'Lineare Abschreibung'!G765","v":0},13,0,0,null,""]
[null,null,null,{"$f":"'Lineare Abschreibung'!D766","v":0},{"$f":"'Lineare Abschreibung'!E766","v":0},{"$f":"'Lineare Abschreibung'!F766","v":0},0,0,{"$f":"'Lineare Abschreibung'!G766","v":0},13,0,0,null,""]
[null,null,null,{"$f":"'Lineare Abschreibung'!D767","v":0},{"$f":"'Lineare Abschreibung'!E767","v":0},{"$f":"'Lineare Abschreibung'!F767","v":0},0,0,{"$f":"'Lineare Abschreibung'!G767","v":0},13,0,0,null,""]
[null,null,null,{"$f":"'Lineare Abschreibung'!D768","v":0},{"$f":"'Lineare Abschreibung'!E768","v":0},{"$f":"'Lineare Abschreibung'!F768","v":0},0,0,{"$f":"'Lineare Abschreibung'!G768","v":0},13,0,0,null,""]
[null,null,null,{"$f":"'Lineare Abschreibung'!D769","v":0},{"$f":"'Lineare Abschreibung'!E769","v":0},{"$f":"'Lineare Abschreibung'!F769","v":0},0,0,{"$f":"'Lineare Abschreibung'!G769","v":0},13,0,0,null,""]
[null,null,null,{"$f":"'Lineare Abschreibung'!D770","v":0},{"$f":"'Lineare Abschreibung'!E770","v":0},{"$f":"'Lineare Abschreibung'!F770","v":0},0,0,{"$f":"'Lineare Abschreibung'!G770","v":0},13,0,0,null,""]
[null,null,null,{"$f":"'Lineare Abschreibung'!D771","v":0},{"$f":"'Lineare Abschreibung'!E771","v":0},{"$f":"'Lineare Abschreibung'!F771","v":0},0,0,{"$f":"'Lineare Abschreibung'!G771","v":0},13,0,0,null,""]
[null,null,null,{"$f":"'Lineare Abschreibung'!D772","v":0},{"$f":"'Lineare Abschreibung'!E772","v":0},{"$f":"'Lineare Abschreibung'!F772","v":0},0,0,{"$f":"'Lineare Abschreibung'!G772","v":0},13,0,0,null,""]
[null,null,null,{"$f":"'Lineare Abschreibung'!D773","v":0},{"$f":"'Lineare Abschreibung'!E773","v":0},{"$f":"'Lineare Abschreibung'!F773","v":0},0,0,{"$f":"'Lineare Abschreibung'!G773","v":0},13,0,0,null,""]
[null,null,null,{"$f":"'Lineare Abschreibung'!D774","v":0},{"$f":"'Lineare Abschreibung'!E774","v":0},{"$f":"'Lineare Abschreibung'!F774","v":0},0,0,{"$f":"'Lineare Abschreibung'!G774","v":0},13,0,0,null,""]
[null,null,null,{"$f":"'Lineare Abschreibung'!D775","v":0},{"$f":"'Lineare Abschreibung'!E775","v":0},{"$f":"'Lineare Abschreibung'!F775","v":0},0,0,{"$f":"'Lineare Abschreibung'!G775","v":0},13,0,0,null,""]
[null,null,null,{"$f":"'Lineare Abschreibung'!D776","v":0},{"$f":"'Lineare Abschreibung'!E776","v":0},{"$f":"'Lineare Abschreibung'!F776","v":0},0,0,{"$f":"'Lineare Abschreibung'!G776","v":0},13,0,0,null,""]
[null,null,null,{"$f":"'Lineare Abschreibung'!D777","v":0},{"$f":"'Lineare Abschreibung'!E777","v":0},{"$f":"'Lineare Abschreibung'!F777","v":0},0,0,{"$f":"'Lineare Abschreibung'!G777","v":0},13,0,0,null,""]
[null,null,null,{"$f":"'Lineare Abschreibung'!D778","v":0},{"$f":"'Lineare Abschreibung'!E778","v":0},{"$f":"'Lineare Abschreibung'!F778","v":0},0,0,{"$f":"'Lineare Abschreibung'!G778","v":0},13,0,0,null,""]
[null,null,null,{"$f":"'Lineare Abschreibung'!D779","v":0},{"$f":"'Lineare Abschreibung'!E779","v":0},{"$f":"'Lineare Abschreibung'!F779","v":0},0,0,{"$f":"'Lineare Abschreibung'!G779","v":0},13,0,0,null,""]
[null,null,null,{"$f":"'Lineare Abschreibung'!D780","v":0},{"$f":"'Lineare Abschreibung'!E780","v":0},{"$f":"'Lineare Abschreibung'!F780","v":0},0,0,{"$f":"'Lineare Abschreibung'!G780","v":0},13,0,0,null,""]
[null,null,null,{"$f":"'Lineare Abschreibung'!D781","v":0},{"$f":"'Lineare Abschreibung'!E781","v":0},{"$f":"'Lineare Abschreibung'!F781","v":0},0,0,{"$f":"'Lineare Abschreibung'!G781","v":0},13,0,0,null,""]
[null,null,null,{"$f":"'Lineare Abschreibung'!D782","v":0},{"$f":"'Lineare Abschreibung'!E782","v":0},{"$f":"'Lineare Abschreibung'!F782","v":0},0,0,{"$f":"'Lineare Abschreibung'!G782","v":0},13,0,0,null,""]
[null,null,null,{"$f":"'Lineare Abschreibung'!D783","v":0},{"$f":"'Lineare Abschreibung'!E783","v":0},{"$f":"'Lineare Abschreibung'!F783","v":0},0,0,{"$f":"'Lineare Abschreibung'!G783","v":0},13,0,0,null,""]
[null,null,null,{"$f":"'Lineare Abschreibung'!D784","v":0},{"$f":"'Lineare Abschreibung'!E784","v":0},{"$f":"'Lineare Abschreibung'!F784","v":0},0,0,{"$f":"'Lineare Abschreibung'!G784","v":0},13,0,0,null,""]
[null,null,null,{"$f":"'Lineare Abschreibung'!D785","v":0},{"$f":"'Lineare Abschreibung'!E785","v":0},{"$f":"'Lineare Abschreibung'!F785","v":0},0,0,{"$f":"'Lineare Abschreibung'!G785","v":0},13,0,0,null,""]
[null,null,null,{"$f":"'Lineare Abschreibung'!D786","v":0},{"$f":"'Lineare Abschreibung'!E786","v":0},{"$f":"'Lineare Abschreibung'!F786","v":0},0,0,{"$f":"'Lineare Abschreibung'!G786","v":0},13,0,0,null,""]
[null,null,null,{"$f":"'Lineare Abschreibung'!D787","v":0},{"$f":"'Lineare Abschreibung'!E787","v":0},{"$f":"'Lineare Abschreibung'!F787","v":0},0,0,{"$f":"'Lineare Abschreibung'!G787","v":0},13,0,0,null,""]
[null,null,null,{"$f":"'Lineare Abschreibung'!D788","v":0},{"$f":"'Lineare Abschreibung'!E788","v":0},{"$f":"'Lineare Abschreibung'!F788","v":0},0,0,{"$f":"'Lineare Abschreibung'!G788","v":0},13,0,0,null,""]
[null,null,null,{"$f":"'Lineare Abschreibung'!D789","v":0},{"$f":"'Lineare Abschreibung'!E789","v":0},{"$f":"'Lineare Abschreibung'!F789","v":0},0,0,{"$f":"'Lineare Abschreibung'!G789","v":0},13,0,0,null,""]
[null,null,null,{"$f":"'Lineare Abschreibung'!D790","v":0},{"$f":"'Lineare Abschreibung'!E790","v":0},{"$f":"'Lineare Abschreibung'!F790","v":0},0,0,{"$f":"'Lineare Abschreibung'!G790","v":0},13,0,0,null,""]
[null,null,null,{"$f":"'Lineare Abschreibung'!D791","v":0},{"$f":"'Lineare Abschreibung'!E791","v":0},{"$f":"'Lineare Abschreibung'!F791","v":0},0,0,{"$f":"'Lineare Abschreibung'!G791","v":0},13,0,0,null,""]
[null,null,null,{"$f":"'Lineare Abschreibung'!D792","v":0},{"$f":"'Lineare Abschreibung'!E792","v":0},{"$f":"'Lineare Abschreibung'!F792","v":0},0,0,{"$f":"'Lineare Abschreibung'!G792","v":0},13,0,0,null,""]
[null,null,null,{"$f":"'Lineare Abschreibung'!D793","v":0},{"$f":"'Lineare Abschreibung'!E793","v":0},{"$f":"'Lineare Abschreibung'!F793","v":0},0,0,{"$f":"'Lineare Abschreibung'!G793","v":0},13,0,0,null,""]
[null,null,null,{"$f":"'Lineare Abschreibung'!D794","v":0},{"$f":"'Lineare Abschreibung'!E794","v":0},{"$f":"'Lineare Abschreibung'!F794","v":0},{"$f":"IF(F794=0,0,1/F794)","v":0},{"$f":"IF(G794*2.5>25%,25%,G794*2.5)","v":0},{"$f":"'Lineare Abschreibung'!G794","v":0},{"$f":"12-I794+1","v":13},{"$f":"IF(E794<250.01,E794,E794/5)","v":0},{"$f":"IF($E794<800.01,$E794,$E794*H794/12*$J794)","v":0},null,{"$f":"IF(AND(E794>800,I794=0),\"Anschaffungsmonat fehlt!\",\"\")","v":""}]
[null,null,null,{"$f":"'Lineare Abschreibung'!D795","v":0},{"$f":"'Lineare Abschreibung'!E795","v":0},{"$f":"'Lineare Abschreibung'!F795","v":0},0,0,{"$f":"'Lineare Abschreibung'!G795","v":0},13,0,0,null,""]
[null,null,null,{"$f":"'Lineare Abschreibung'!D796","v":0},{"$f":"'Lineare Abschreibung'!E796","v":0},{"$f":"'Lineare Abschreibung'!F796","v":0},0,0,{"$f":"'Lineare Abschreibung'!G796","v":0},13,0,0,null,""]
[null,null,null,{"$f":"'Lineare Abschreibung'!D797","v":0},{"$f":"'Lineare Abschreibung'!E797","v":0},{"$f":"'Lineare Abschreibung'!F797","v":0},0,0,{"$f":"'Lineare Abschreibung'!G797","v":0},13,0,0,null,""]
[null,null,null,{"$f":"'Lineare Abschreibung'!D798","v":0},{"$f":"'Lineare Abschreibung'!E798","v":0},{"$f":"'Lineare Abschreibung'!F798","v":0},0,0,{"$f":"'Lineare Abschreibung'!G798","v":0},13,0,0,null,""]
[null,null,null,{"$f":"'Lineare Abschreibung'!D799","v":0},{"$f":"'Lineare Abschreibung'!E799","v":0},{"$f":"'Lineare Abschreibung'!F799","v":0},0,0,{"$f":"'Lineare Abschreibung'!G799","v":0},13,0,0,null,""]
[null,null,null,{"$f":"'Lineare Abschreibung'!D800","v":0},{"$f":"'Lineare Abschreibung'!E800","v":0},{"$f":"'Lineare Abschreibung'!F800","v":0},0,0,{"$f":"'Lineare Abschreibung'!G800","v":0},13,0,0,null,""]
[null,null,null,{"$f":"'Lineare Abschreibung'!D801","v":0},{"$f":"'Lineare Abschreibung'!E801","v":0},{"$f":"'Lineare Abschreibung'!F801","v":0},0,0,{"$f":"'Lineare Abschreibung'!G801","v":0},13,0,0,null,""]
[null,null,null,{"$f":"'Lineare Abschreibung'!D802","v":0},{"$f":"'Lineare Abschreibung'!E802","v":0},{"$f":"'Lineare Abschreibung'!F802","v":0},0,0,{"$f":"'Lineare Abschreibung'!G802","v":0},13,0,0,null,""]
[null,null,null,{"$f":"'Lineare Abschreibung'!D803","v":0},{"$f":"'Lineare Abschreibung'!E803","v":0},{"$f":"'Lineare Abschreibung'!F803","v":0},0,0,{"$f":"'Lineare Abschreibung'!G803","v":0},13,0,0,null,""]
[null,null,null,{"$f":"'Lineare Abschreibung'!D804","v":0},{"$f":"'Lineare Abschreibung'!E804","v":0},{"$f":"'Lineare Abschreibung'!F804","v":0},0,0,{"$f":"'Lineare Abschreibung'!G804","v":0},13,0,0,null,""]
[null,null,null,{"$f":"'Lineare Abschreibung'!D805","v":0},{"$f":"'Lineare Abschreibung'!E805","v":0},{"$f":"'Lineare Abschreibung'!F805","v":0},0,0,{"$f":"'Lineare Abschreibung'!G805","v":0},13,0,0,null,""]
[null,null,null,{"$f":"'Lineare Abschreibung'!D806","v":0},{"$f":"'Lineare Abschreibung'!E806","v":0},{"$f":"'Lineare Abschreibung'!F806","v":0},0,0,{"$f":"'Lineare Abschreibung'!G806","v":0},13,0,0,null,""]
[null,null,null,{"$f":"'Lineare Abschreibung'!D807","v":0},{"$f":"'Lineare Abschreibung'!E807","v":0},{"$f":"'Lineare Abschreibung'!F807","v":0},0,0,{"$f":"'Lineare Abschreibung'!G807","v":0},13,0,0,null,""]
[null,null,null,{"$f":"'Lineare Abschreibung'!D808","v":0},{"$f":"'Lineare Abschreibung'!E808","v":0},{"$f":"'Lineare Abschreibung'!F808","v":0},0,0,{"$f":"'Lineare Abschreibung'!G808","v":0},13,0,0,null,""]
[null,null,null,{"$f":"'Lineare Abschreibung'!D809","v":0},{"$f":"'Lineare Abschreibung'!E809","v":0},{"$f":"'Lineare Abschreibung'!F809","v":0},0,0,{"$f":"'Lineare Abschreibung'!G809","v":0},13,0,0,null,""]
[null,null,null,{"$f":"'Lineare Abschreibung'!D810","v":0},{"$f":"'Lineare Abschreibung'!E810","v":0},{"$f":"'Lineare Abschreibung'!F810","v":0},0,0,{"$f":"'Lineare Abschreibung'!G810","v":0},13,0,0,null,""]
[null,null,null,{"$f":"'Lineare Abschreibung'!D811","v":0},{"$f":"'Lineare Abschreibung'!E811","v":0},{"$f":"'Lineare Abschreibung'!F811","v":0},0,0,{"$f":"'Lineare Abschreibung'!G811","v":0},13,0,0,null,""]
[null,null,null,{"$f":"'Lineare Abschreibung'!D812","v":0},{"$f":"'Lineare Abschreibung'!E812","v":0},{"$f":"'Lineare Abschreibung'!F812","v":0},0,0,{"$f":"'Lineare Abschreibung'!G812","v":0},13,0,0,null,""]
[null,null,null,{"$f":"'Lineare Abschreibung'!D813","v":0},{"$f":"'Lineare Abschreibung'!E813","v":0},{"$f":"'Lineare Abschreibung'!F813","v":0},0,0,{"$f":"'Lineare Abschreibung'!G813","v":0},13,0,0,null,""]
[null,null,null,{"$f":"'Lineare Abschreibung'!D814","v":0},{"$f":"'Lineare Abschreibung'!E814","v":0},{"$f":"'Lineare Abschreibung'!F814","v":0},0,0,{"$f":"'Lineare Abschreibung'!G814","v":0},13,0,0,null,""]
[null,null,null,{"$f":"'Lineare Abschreibung'!D815","v":0},{"$f":"'Lineare Abschreibung'!E815","v":0},{"$f":"'Lineare Abschreibung'!F815","v":0},0,0,{"$f":"'Lineare Abschreibung'!G815","v":0},13,0,0,null,""]
[null,null,null,{"$f":"'Lineare Abschreibung'!D816","v":0},{"$f":"'Lineare Abschreibung'!E816","v":0},{"$f":"'Lineare Abschreibung'!F816","v":0},0,0,{"$f":"'Lineare Abschreibung'!G816","v":0},13,0,0,null,""]
[null,null,null,{"$f":"'Lineare Abschreibung'!D817","v":0},{"$f":"'Lineare Abschreibung'!E817","v":0},{"$f":"'Lineare Abschreibung'!F817","v":0},0,0,{"$f":"'Lineare Abschreibung'!G817","v":0},13,0,0,null,""]
[null,null,null,{"$f":"'Lineare Abschreibung'!D818","v":0},{"$f":"'Lineare Abschreibung'!E818","v":0},{"$f":"'Lineare Abschreibung'!F818","v":0},0,0,{"$f":"'Lineare Abschreibung'!G818","v":0},13,0,0,null,""]
[null,null,null,{"$f":"'Lineare Abschreibung'!D819","v":0},{"$f":"'Lineare Abschreibung'!E819","v":0},{"$f":"'Lineare Abschreibung'!F819","v":0},0,0,{"$f":"'Lineare Abschreibung'!G819","v":0},13,0,0,null,""]
[null,null,null,{"$f":"'Lineare Abschreibung'!D820","v":0},{"$f":"'Lineare Abschreibung'!E820","v":0},{"$f":"'Lineare Abschreibung'!F820","v":0},0,0,{"$f":"'Lineare Abschreibung'!G820","v":0},13,0,0,null,""]
[null,null,null,{"$f":"'Lineare Abschreibung'!D821","v":0},{"$f":"'Lineare Abschreibung'!E821","v":0},{"$f":"'Lineare Abschreibung'!F821","v":0},0,0,{"$f":"'Lineare Abschreibung'!G821","v":0},13,0,0,null,""]
[null,null,null,{"$f":"'Lineare Abschreibung'!D822","v":0},{"$f":"'Lineare Abschreibung'!E822","v":0},{"$f":"'Lineare Abschreibung'!F822","v":0},0,0,{"$f":"'Lineare Abschreibung'!G822","v":0},13,0,0,null,""]
[null,null,null,{"$f":"'Lineare Abschreibung'!D823","v":0},{"$f":"'Lineare Abschreibung'!E823","v":0},{"$f":"'Lineare Abschreibung'!F823","v":0},0,0,{"$f":"'Lineare Abschreibung'!G823","v":0},13,0,0,null,""]
[null,null,null,{"$f":"'Lineare Abschreibung'!D824","v":0},{"$f":"'Lineare Abschreibung'!E824","v":0},{"$f":"'Lineare Abschreibung'!F824","v":0},0,0,{"$f":"'Lineare Abschreibung'!G824","v":0},13,0,0,null,""]
[null,null,null,{"$f":"'Lineare Abschreibung'!D825","v":0},{"$f":"'Lineare Abschreibung'!E825","v":0},{"$f":"'Lineare Abschreibung'!F825","v":0},0,0,{"$f":"'Lineare Abschreibung'!G825","v":0},13,0,0,null,""]
[null,null,null,{"$f":"'Lineare Abschreibung'!D826","v":0},{"$f":"'Lineare Abschreibung'!E826","v":0},{"$f":"'Lineare Abschreibung'!F826","v":0},0,0,{"$f":"'Lineare Abschreibung'!G826","v":0},13,0,0,null,""]
[null,null,null,{"$f":"'Lineare Abschreibung'!D827","v":0},{"$f":"'Lineare Abschreibung'!E827","v":0},{"$f":"'Lineare Abschreibung'!F827","v":0},0,0,{"$f":"'Lineare Abschreibung'!G827","v":0},13,0,0,null,""]
[null,null,null,{"$f":"'Lineare Abschreibung'!D828","v":0},{"$f":"'Lineare Abschreibung'!E828","v":0},{"$f":"'Lineare Abschreibung'!F828","v":0},0,0,{"$f":"'Lineare Abschreibung'!G828","v":0},13,0,0,null,""]
[null,null,null,{"$f":"'Lineare Abschreibung'!D829","v":0},{"$f":"'Lineare Abschreibung'!E829","v":0},{"$f":"'Lineare Abschreibung'!F829","v":0},0,0,{"$f":"'Lineare Abschreibung'!G829","v":0},13,0,0,null,""]
[null,null,null,{"$f":"'Lineare Abschreibung'!D830","v":0},{"$f":"'Lineare Abschreibung'!E830","v":0},{"$f":"'Lineare Abschreibung'!F830","v":0},0,0,{"$f":"'Lineare Abschreibung'!G830","v":0},13,0,0,null,""]
[null,null,null,{"$f":"'Lineare Abschreibung'!D831","v":0},{"$f":"'Lineare Abschreibung'!E831","v":0},{"$f":"'Lineare Abschreibung'!F831","v":0},0,0,{"$f":"'Lineare Abschreibung'!G831","v":0},13,0,0,null,""]
[null,null,null,{"$f":"'Lineare Abschreibung'!D832","v":0},{"$f":"'Lineare Abschreibung'!E832","v":0},{"$f":"'Lineare Abschreibung'!F832","v":0},0,0,{"$f":"'Lineare Abschreibung'!G832","v":0},13,0,0,null,""]
[null,null,null,{"$f":"'Lineare Abschreibung'!D833","v":0},{"$f":"'Lineare Abschreibung'!E833","v":0},{"$f":"'Lineare Abschreibung'!F833","v":0},0,0,{"$f":"'Lineare Abschreibung'!G833","v":0},13,0,0,null,""]
[null,null,null,{"$f":"'Lineare Abschreibung'!D834","v":0},{"$f":"'Lineare Abschreibung'!E834","v":0},{"$f":"'Lineare Abschreibung'!F834","v":0},0,0,{"$f":"'Lineare Abschreibung'!G834","v":0},13,0,0,null,""]
[null,null,null,{"$f":"'Lineare Abschreibung'!D835","v":0},{"$f":"'Lineare Abschreibung'!E835","v":0},{"$f":"'Lineare Abschreibung'!F835","v":0},0,0,{"$f":"'Lineare Abschreibung'!G835","v":0},13,0,0,null,""]
[null,null,null,{"$f":"'Lineare Abschreibung'!D836","v":0},{"$f":"'Lineare Abschreibung'!E836","v":0},{"$f":"'Lineare Abschreibung'!F836","v":0},0,0,{"$f":"'Lineare Abschreibung'!G836","v":0},13,0,0,null,""]
[null,null,null,{"$f":"'Lineare Abschreibung'!D837","v":0},{"$f":"'Lineare Abschreibung'!E837","v":0},{"$f":"'Lineare Abschreibung'!F837","v":0},0,0,{"$f":"'Lineare Abschreibung'!G837","v":0},13,0,0,null,""]
[null,null,null,{"$f":"'Lineare Abschreibung'!D838","v":0},{"$f":"'Lineare Abschreibung'!E838","v":0},{"$f":"'Lineare Abschreibung'!F838","v":0},0,0,{"$f":"'Lineare Abschreibung'!G838","v":0},13,0,0,null,""]
[null,null,null,{"$f":"'Lineare Abschreibung'!D839","v":0},{"$f":"'Lineare Abschreibung'!E839","v":0},{"$f":"'Lineare Abschreibung'!F839","v":0},0,0,{"$f":"'Lineare Abschreibung'!G839","v":0},13,0,0,null,""]
[null,null,null,{"$f":"'Lineare Abschreibung'!D840","v":0},{"$f":"'Lineare Abschreibung'!E840","v":0},{"$f":"'Lineare Abschreibung'!F840","v":0},0,0,{"$f":"'Lineare Abschreibung'!G840","v":0},13,0,0,null,""]
[null,null,null,{"$f":"'Lineare Abschreibung'!D841","v":0},{"$f":"'Lineare Abschreibung'!E841","v":0},{"$f":"'Lineare Abschreibung'!F841","v":0},0,0,{"$f":"'Lineare Abschreibung'!G841","v":0},13,0,0,null,""]
[null,null,null,{"$f":"'Lineare Abschreibung'!D842","v":0},{"$f":"'Lineare Abschreibung'!E842","v":0},{"$f":"'Lineare Abschreibung'!F842","v":0},0,0,{"$f":"'Lineare Abschreibung'!G842","v":0},13,0,0,null,""]
[null,null,null,{"$f":"'Lineare Abschreibung'!D843","v":0},{"$f":"'Lineare Abschreibung'!E843","v":0},{"$f":"'Lineare Abschreibung'!F843","v":0},0,0,{"$f":"'Lineare Abschreibung'!G843","v":0},13,0,0,null,""]
[null,null,null,{"$f":"'Lineare Abschreibung'!D844","v":0},{"$f":"'Lineare Abschreibung'!E844","v":0},{"$f":"'Lineare Abschreibung'!F844","v":0},0,0,{"$f":"'Lineare Abschreibung'!G844","v":0},13,0,0,null,""]
[null,null,null,{"$f":"'Lineare Abschreibung'!D845","v":0},{"$f":"'Lineare Abschreibung'!E845","v":0},{"$f":"'Lineare Abschreibung'!F845","v":0},0,0,{"$f":"'Lineare Abschreibung'!G845","v":0},13,0,0,null,""]
[null,null,null,{"$f":"'Lineare Abschreibung'!D846","v":0},{"$f":"'Lineare Abschreibung'!E846","v":0},{"$f":"'Lineare Abschreibung'!F846","v":0},0,0,{"$f":"'Lineare Abschreibung'!G846","v":0},13,0,0,null,""]
[null,null,null,{"$f":"'Lineare Abschreibung'!D847","v":0},{"$f":"'Lineare Abschreibung'!E847","v":0},{"$f":"'Lineare Abschreibung'!F847","v":0},0,0,{"$f":"'Lineare Abschreibung'!G847","v":0},13,0,0,null,""]
[null,null,null,{"$f":"'Lineare Abschreibung'!D848","v":0},{"$f":"'Lineare Abschreibung'!E848","v":0},{"$f":"'Lineare Abschreibung'!F848","v":0},0,0,{"$f":"'Lineare Abschreibung'!G848","v":0},13,0,0,null,""]
[null,null,null,{"$f":"'Lineare Abschreibung'!D849","v":0},{"$f":"'Lineare Abschreibung'!E849","v":0},{"$f":"'Lineare Abschreibung'!F849","v":0},0,0,{"$f":"'Lineare Abschreibung'!G849","v":0},13,0,0,null,""]
[null,null,null,{"$f":"'Lineare Abschreibung'!D850","v":0},{"$f":"'Lineare Abschreibung'!E850","v":0},{"$f":"'Lineare Abschreibung'!F850","v":0},0,0,{"$f":"'Lineare Abschreibung'!G850","v":0},13,0,0,null,""]
[null,null,null,{"$f":"'Lineare Abschreibung'!D851","v":0},{"$f":"'Lineare Abschreibung'!E851","v":0},{"$f":"'Lineare Abschreibung'!F851","v":0},0,0,{"$f":"'Lineare Abschreibung'!G851","v":0},13,0,0,null,""]
[null,null,null,{"$f":"'Lineare Abschreibung'!D852","v":0},{"$f":"'Lineare Abschreibung'!E852","v":0},{"$f":"'Lineare Abschreibung'!F852","v":0},0,0,{"$f":"'Lineare Abschreibung'!G852","v":0},13,0,0,null,""]
[null,null,null,{"$f":"'Lineare Abschreibung'!D853","v":0},{"$f":"'Lineare Abschreibung'!E853","v":0},{"$f":"'Lineare Abschreibung'!F853","v":0},0,0,{"$f":"'Lineare Abschreibung'!G853","v":0},13,0,0,null,""]
[null,null,null,{"$f":"'Lineare Abschreibung'!D854","v":0},{"$f":"'Lineare Abschreibung'!E854","v":0},{"$f":"'Lineare Abschreibung'!F854","v":0},0,0,{"$f":"'Lineare Abschreibung'!G854","v":0},13,0,0,null,""]
[null,null,null,{"$f":"'Lineare Abschreibung'!D855","v":0},{"$f":"'Lineare Abschreibung'!E855","v":0},{"$f":"'Lineare Abschreibung'!F855","v":0},0,0,{"$f":"'Lineare Abschreibung'!G855","v":0},13,0,0,null,""]
[null,null,null,{"$f":"'Lineare Abschreibung'!D856","v":0},{"$f":"'Lineare Abschreibung'!E856","v":0},{"$f":"'Lineare Abschreibung'!F856","v":0},0,0,{"$f":"'Lineare Abschreibung'!G856","v":0},13,0,0,null,""]
[null,null,null,{"$f":"'Lineare Abschreibung'!D857","v":0},{"$f":"'Lineare Abschreibung'!E857","v":0},{"$f":"'Lineare Abschreibung'!F857","v":0},0,0,{"$f":"'Lineare Abschreibung'!G857","v":0},13,0,0,null,""]
[null,null,null,{"$f":"'Lineare Abschreibung'!D858","v":0},{"$f":"'Lineare Abschreibung'!E858","v":0},{"$f":"'Lineare Abschreibung'!F858","v":0},{"$f":"IF(F858=0,0,1/F858)","v":0},{"$f":"IF(G858*2.5>25%,25%,G858*2.5)","v":0},{"$f":"'Lineare Abschreibung'!G858","v":0},{"$f":"12-I858+1","v":13},{"$f":"IF(E858<250.01,E858,E858/5)","v":0},{"$f":"IF($E858<800.01,$E858,$E858*H858/12*$J858)","v":0},null,{"$f":"IF(AND(E858>800,I858=0),\"Anschaffungsmonat fehlt!\",\"\")","v":""}]
[null,null,null,{"$f":"'Lineare Abschreibung'!D859","v":0},{"$f":"'Lineare Abschreibung'!E859","v":0},{"$f":"'Lineare Abschreibung'!F859","v":0},0,0,{"$f":"'Lineare Abschreibung'!G859","v":0},13,0,0,null,""]
[null,null,null,{"$f":"'Lineare Abschreibung'!D860","v":0},{"$f":"'Lineare Abschreibung'!E860","v":0},{"$f":"'Lineare Abschreibung'!F860","v":0},0,0,{"$f":"'Lineare Abschreibung'!G860","v":0},13,0,0,null,""]
[null,null,null,{"$f":"'Lineare Abschreibung'!D861","v":0},{"$f":"'Lineare Abschreibung'!E861","v":0},{"$f":"'Lineare Abschreibung'!F861","v":0},0,0,{"$f":"'Lineare Abschreibung'!G861","v":0},13,0,0,null,""]
[null,null,null,{"$f":"'Lineare Abschreibung'!D862","v":0},{"$f":"'Lineare Abschreibung'!E862","v":0},{"$f":"'Lineare Abschreibung'!F862","v":0},0,0,{"$f":"'Lineare Abschreibung'!G862","v":0},13,0,0,null,""]
[null,null,null,{"$f":"'Lineare Abschreibung'!D863","v":0},{"$f":"'Lineare Abschreibung'!E863","v":0},{"$f":"'Lineare Abschreibung'!F863","v":0},0,0,{"$f":"'Lineare Abschreibung'!G863","v":0},13,0,0,null,""]
[null,null,null,{"$f":"'Lineare Abschreibung'!D864","v":0},{"$f":"'Lineare Abschreibung'!E864","v":0},{"$f":"'Lineare Abschreibung'!F864","v":0},0,0,{"$f":"'Lineare Abschreibung'!G864","v":0},13,0,0,null,""]
[null,null,null,{"$f":"'Lineare Abschreibung'!D865","v":0},{"$f":"'Lineare Abschreibung'!E865","v":0},{"$f":"'Lineare Abschreibung'!F865","v":0},0,0,{"$f":"'Lineare Abschreibung'!G865","v":0},13,0,0,null,""]
[null,null,null,{"$f":"'Lineare Abschreibung'!D866","v":0},{"$f":"'Lineare Abschreibung'!E866","v":0},{"$f":"'Lineare Abschreibung'!F866","v":0},0,0,{"$f":"'Lineare Abschreibung'!G866","v":0},13,0,0,null,""]
[null,null,null,{"$f":"'Lineare Abschreibung'!D867","v":0},{"$f":"'Lineare Abschreibung'!E867","v":0},{"$f":"'Lineare Abschreibung'!F867","v":0},0,0,{"$f":"'Lineare Abschreibung'!G867","v":0},13,0,0,null,""]
[null,null,null,{"$f":"'Lineare Abschreibung'!D868","v":0},{"$f":"'Lineare Abschreibung'!E868","v":0},{"$f":"'Lineare Abschreibung'!F868","v":0},0,0,{"$f":"'Lineare Abschreibung'!G868","v":0},13,0,0,null,""]
[null,null,null,{"$f":"'Lineare Abschreibung'!D869","v":0},{"$f":"'Lineare Abschreibung'!E869","v":0},{"$f":"'Lineare Abschreibung'!F869","v":0},0,0,{"$f":"'Lineare Abschreibung'!G869","v":0},13,0,0,null,""]
[null,null,null,{"$f":"'Lineare Abschreibung'!D870","v":0},{"$f":"'Lineare Abschreibung'!E870","v":0},{"$f":"'Lineare Abschreibung'!F870","v":0},0,0,{"$f":"'Lineare Abschreibung'!G870","v":0},13,0,0,null,""]
[null,null,null,{"$f":"'Lineare Abschreibung'!D871","v":0},{"$f":"'Lineare Abschreibung'!E871","v":0},{"$f":"'Lineare Abschreibung'!F871","v":0},0,0,{"$f":"'Lineare Abschreibung'!G871","v":0},13,0,0,null,""]
[null,null,null,{"$f":"'Lineare Abschreibung'!D872","v":0},{"$f":"'Lineare Abschreibung'!E872","v":0},{"$f":"'Lineare Abschreibung'!F872","v":0},0,0,{"$f":"'Lineare Abschreibung'!G872","v":0},13,0,0,null,""]
[null,null,null,{"$f":"'Lineare Abschreibung'!D873","v":0},{"$f":"'Lineare Abschreibung'!E873","v":0},{"$f":"'Lineare Abschreibung'!F873","v":0},0,0,{"$f":"'Lineare Abschreibung'!G873","v":0},13,0,0,null,""]
[null,null,null,{"$f":"'Lineare Abschreibung'!D874","v":0},{"$f":"'Lineare Abschreibung'!E874","v":0},{"$f":"'Lineare Abschreibung'!F874","v":0},0,0,{"$f":"'Lineare Abschreibung'!G874","v":0},13,0,0,null,""]
[null,null,null,{"$f":"'Lineare Abschreibung'!D875","v":0},{"$f":"'Lineare Abschreibung'!E875","v":0},{"$f":"'Lineare Abschreibung'!F875","v":0},0,0,{"$f":"'Lineare Abschreibung'!G875","v":0},13,0,0,null,""]
[null,null,null,{"$f":"'Lineare Abschreibung'!D876","v":0},{"$f":"'Lineare Abschreibung'!E876","v":0},{"$f":"'Lineare Abschreibung'!F876","v":0},0,0,{"$f":"'Lineare Abschreibung'!G876","v":0},13,0,0,null,""]
[null,null,null,{"$f":"'Lineare Abschreibung'!D877","v":0},{"$f":"'Lineare Abschreibung'!E877","v":0},{"$f":"'Lineare Abschreibung'!F877","v":0},0,0,{"$f":"'Lineare Abschreibung'!G877","v":0},13,0,0,null,""]
[null,null,null,{"$f":"'Lineare Abschreibung'!D878","v":0},{"$f":"'Lineare Abschreibung'!E878","v":0},{"$f":"'Lineare Abschreibung'!F878","v":0},0,0,{"$f":"'Lineare Abschreibung'!G878","v":0},13,0,0,null,""]
[null,null,null,{"$f":"'Lineare Abschreibung'!D879","v":0},{"$f":"'Lineare Abschreibung'!E879","v":0},{"$f":"'Lineare Abschreibung'!F879","v":0},0,0,{"$f":"'Lineare Abschreibung'!G879","v":0},13,0,0,null,""]
[null,null,null,{"$f":"'Lineare Abschreibung'!D880","v":0},{"$f":"'Lineare Abschreibung'!E880","v":0},{"$f":"'Lineare Abschreibung'!F880","v":0},0,0,{"$f":"'Lineare Abschreibung'!G880","v":0},13,0,0,null,""]
[null,null,null,{"$f":"'Lineare Abschreibung'!D881","v":0},{"$f":"'Lineare Abschreibung'!E881","v":0},{"$f":"'Lineare Abschreibung'!F881","v":0},0,0,{"$f":"'Lineare Abschreibung'!G881","v":0},13,0,0,null,""]
[null,null,null,{"$f":"'Lineare Abschreibung'!D882","v":0},{"$f":"'Lineare Abschreibung'!E882","v":0},{"$f":"'Lineare Abschreibung'!F882","v":0},0,0,{"$f":"'Lineare Abschreibung'!G882","v":0},13,0,0,null,""]
[null,null,null,{"$f":"'Lineare Abschreibung'!D883","v":0},{"$f":"'Lineare Abschreibung'!E883","v":0},{"$f":"'Lineare Abschreibung'!F883","v":0},0,0,{"$f":"'Lineare Abschreibung'!G883","v":0},13,0,0,null,""]
[null,null,null,{"$f":"'Lineare Abschreibung'!D884","v":0},{"$f":"'Lineare Abschreibung'!E884","v":0},{"$f":"'Lineare Abschreibung'!F884","v":0},0,0,{"$f":"'Lineare Abschreibung'!G884","v":0},13,0,0,null,""]
[null,null,null,{"$f":"'Lineare Abschreibung'!D885","v":0},{"$f":"'Lineare Abschreibung'!E885","v":0},{"$f":"'Lineare Abschreibung'!F885","v":0},0,0,{"$f":"'Lineare Abschreibung'!G885","v":0},13,0,0,null,""]
[null,null,null,{"$f":"'Lineare Abschreibung'!D886","v":0},{"$f":"'Lineare Abschreibung'!E886","v":0},{"$f":"'Lineare Abschreibung'!F886","v":0},0,0,{"$f":"'Lineare Abschreibung'!G886","v":0},13,0,0,null,""]
[null,null,null,{"$f":"'Lineare Abschreibung'!D887","v":0},{"$f":"'Lineare Abschreibung'!E887","v":0},{"$f":"'Lineare Abschreibung'!F887","v":0},0,0,{"$f":"'Lineare Abschreibung'!G887","v":0},13,0,0,null,""]
[null,null,null,{"$f":"'Lineare Abschreibung'!D888","v":0},{"$f":"'Lineare Abschreibung'!E888","v":0},{"$f":"'Lineare Abschreibung'!F888","v":0},0,0,{"$f":"'Lineare Abschreibung'!G888","v":0},13,0,0,null,""]
[null,null,null,{"$f":"'Lineare Abschreibung'!D889","v":0},{"$f":"'Lineare Abschreibung'!E889","v":0},{"$f":"'Lineare Abschreibung'!F889","v":0},0,0,{"$f":"'Lineare Abschreibung'!G889","v":0},13,0,0,null,""]
[null,null,null,{"$f":"'Lineare Abschreibung'!D890","v":0},{"$f":"'Lineare Abschreibung'!E890","v":0},{"$f":"'Lineare Abschreibung'!F890","v":0},0,0,{"$f":"'Lineare Abschreibung'!G890","v":0},13,0,0,null,""]
[null,null,null,{"$f":"'Lineare Abschreibung'!D891","v":0},{"$f":"'Lineare Abschreibung'!E891","v":0},{"$f":"'Lineare Abschreibung'!F891","v":0},0,0,{"$f":"'Lineare Abschreibung'!G891","v":0},13,0,0,null,""]
[null,null,null,{"$f":"'Lineare Abschreibung'!D892","v":0},{"$f":"'Lineare Abschreibung'!E892","v":0},{"$f":"'Lineare Abschreibung'!F892","v":0},0,0,{"$f":"'Lineare Abschreibung'!G892","v":0},13,0,0,null,""]
[null,null,null,{"$f":"'Lineare Abschreibung'!D893","v":0},{"$f":"'Lineare Abschreibung'!E893","v":0},{"$f":"'Lineare Abschreibung'!F893","v":0},0,0,{"$f":"'Lineare Abschreibung'!G893","v":0},13,0,0,null,""]
[null,null,null,{"$f":"'Lineare Abschreibung'!D894","v":0},{"$f":"'Lineare Abschreibung'!E894","v":0},{"$f":"'Lineare Abschreibung'!F894","v":0},0,0,{"$f":"'Lineare Abschreibung'!G894","v":0},13,0,0,null,""]
[null,null,null,{"$f":"'Lineare Abschreibung'!D895","v":0},{"$f":"'Lineare Abschreibung'!E895","v":0},{"$f":"'Lineare Abschreibung'!F895","v":0},0,0,{"$f":"'Lineare Abschreibung'!G895","v":0},13,0,0,null,""]
[null,null,null,{"$f":"'Lineare Abschreibung'!D896","v":0},{"$f":"'Lineare Abschreibung'!E896","v":0},{"$f":"'Lineare Abschreibung'!F896","v":0},0,0,{"$f":"'Lineare Abschreibung'!G896","v":0},13,0,0,null,""]
[null,null,null,{"$f":"'Lineare Abschreibung'!D897","v":0},{"$f":"'Lineare Abschreibung'!E897","v":0},{"$f":"'Lineare Abschreibung'!F897","v":0},0,0,{"$f":"'Lineare Abschreibung'!G897","v":0},13,0,0,null,""]
[null,null,null,{"$f":"'Lineare Abschreibung'!D898","v":0},{"$f":"'Lineare Abschreibung'!E898","v":0},{"$f":"'Lineare Abschreibung'!F898","v":0},0,0,{"$f":"'Lineare Abschreibung'!G898","v":0},13,0,0,null,""]
[null,null,null,{"$f":"'Lineare Abschreibung'!D899","v":0},{"$f":"'Lineare Abschreibung'!E899","v":0},{"$f":"'Lineare Abschreibung'!F899","v":0},0,0,{"$f":"'Lineare Abschreibung'!G899","v":0},13,0,0,null,""]
[null,null,null,{"$f":"'Lineare Abschreibung'!D900","v":0},{"$f":"'Lineare Abschreibung'!E900","v":0},{"$f":"'Lineare Abschreibung'!F900","v":0},0,0,{"$f":"'Lineare Abschreibung'!G900","v":0},13,0,0,null,""]
[null,null,null,{"$f":"'Lineare Abschreibung'!D901","v":0},{"$f":"'Lineare Abschreibung'!E901","v":0},{"$f":"'Lineare Abschreibung'!F901","v":0},0,0,{"$f":"'Lineare Abschreibung'!G901","v":0},13,0,0,null,""]
[null,null,null,{"$f":"'Lineare Abschreibung'!D902","v":0},{"$f":"'Lineare Abschreibung'!E902","v":0},{"$f":"'Lineare Abschreibung'!F902","v":0},0,0,{"$f":"'Lineare Abschreibung'!G902","v":0},13,0,0,null,""]
[null,null,null,{"$f":"'Lineare Abschreibung'!D903","v":0},{"$f":"'Lineare Abschreibung'!E903","v":0},{"$f":"'Lineare Abschreibung'!F903","v":0},0,0,{"$f":"'Lineare Abschreibung'!G903","v":0},13,0,0,null,""]
[null,null,null,{"$f":"'Lineare Abschreibung'!D904","v":0},{"$f":"'Lineare Abschreibung'!E904","v":0},{"$f":"'Lineare Abschreibung'!F904","v":0},0,0,{"$f":"'Lineare Abschreibung'!G904","v":0},13,0,0,null,""]
[null,null,null,{"$f":"'Lineare Abschreibung'!D905","v":0},{"$f":"'Lineare Abschreibung'!E905","v":0},{"$f":"'Lineare Abschreibung'!F905","v":0},0,0,{"$f":"'Lineare Abschreibung'!G905","v":0},13,0,0,null,""]
[null,null,null,{"$f":"'Lineare Abschreibung'!D906","v":0},{"$f":"'Lineare Abschreibung'!E906","v":0},{"$f":"'Lineare Abschreibung'!F906","v":0},0,0,{"$f":"'Lineare Abschreibung'!G906","v":0},13,0,0,null,""]
[null,null,null,{"$f":"'Lineare Abschreibung'!D907","v":0},{"$f":"'Lineare Abschreibung'!E907","v":0},{"$f":"'Lineare Abschreibung'!F907","v":0},0,0,{"$f":"'Lineare Abschreibung'!G907","v":0},13,0,0,null,""]
[null,null,null,{"$f":"'Lineare Abschreibung'!D908","v":0},{"$f":"'Lineare Abschreibung'!E908","v":0},{"$f":"'Lineare Abschreibung'!F908","v":0},0,0,{"$f":"'Lineare Abschreibung'!G908","v":0},13,0,0,null,""]
[null,null,null,{"$f":"'Lineare Abschreibung'!D909","v":0},{"$f":"'Lineare Abschreibung'!E909","v":0},{"$f":"'Lineare Abschreibung'!F909","v":0},0,0,{"$f":"'Lineare Abschreibung'!G909","v":0},13,0,0,null,""]
[null,null,null,{"$f":"'Lineare Abschreibung'!D910","v":0},{"$f":"'Lineare Abschreibung'!E910","v":0},{"$f":"'Lineare Abschreibung'!F910","v":0},0,0,{"$f":"'Lineare Abschreibung'!G910","v":0},13,0,0,null,""]
[null,null,null,{"$f":"'Lineare Abschreibung'!D911","v":0},{"$f":"'Lineare Abschreibung'!E911","v":0},{"$f":"'Lineare Abschreibung'!F911","v":0},0,0,{"$f":"'Lineare Abschreibung'!G911","v":0},13,0,0,null,""]
[null,null,null,{"$f":"'Lineare Abschreibung'!D912","v":0},{"$f":"'Lineare Abschreibung'!E912","v":0},{"$f":"'Lineare Abschreibung'!F912","v":0},0,0,{"$f":"'Lineare Abschreibung'!G912","v":0},13,0,0,null,""]
[null,null,null,{"$f":"'Lineare Abschreibung'!D913","v":0},{"$f":"'Lineare Abschreibung'!E913","v":0},{"$f":"'Lineare Abschreibung'!F913","v":0},0,0,{"$f":"'Lineare Abschreibung'!G913","v":0},13,0,0,null,""]
[null,null,null,{"$f":"'Lineare Abschreibung'!D914","v":0},{"$f":"'Lineare Abschreibung'!E914","v":0},{"$f":"'Lineare Abschreibung'!F914","v":0},0,0,{"$f":"'Lineare Abschreibung'!G914","v":0},13,0,0,null,""]
[null,null,null,{"$f":"'Lineare Abschreibung'!D915","v":0},{"$f":"'Lineare Abschreibung'!E915","v":0},{"$f":"'Lineare Abschreibung'!F915","v":0},0,0,{"$f":"'Lineare Abschreibung'!G915","v":0},13,0,0,null,""]
[null,null,null,{"$f":"'Lineare Abschreibung'!D916","v":0},{"$f":"'Lineare Abschreibung'!E916","v":0},{"$f":"'Lineare Abschreibung'!F916","v":0},0,0,{"$f":"'Lineare Abschreibung'!G916","v":0},13,0,0,null,""]
[null,null,null,{"$f":"'Lineare Abschreibung'!D917","v":0},{"$f":"'Lineare Abschreibung'!E917","v":0},{"$f":"'Lineare Abschreibung'!F917","v":0},0,0,{"$f":"'Lineare Abschreibung'!G917","v":0},13,0,0,null,""]
[null,null,null,{"$f":"'Lineare Abschreibung'!D918","v":0},{"$f":"'Lineare Abschreibung'!E918","v":0},{"$f":"'Lineare Abschreibung'!F918","v":0},0,0,{"$f":"'Lineare Abschreibung'!G918","v":0},13,0,0,null,""]
[null,null,null,{"$f":"'Lineare Abschreibung'!D919","v":0},{"$f":"'Lineare Abschreibung'!E919","v":0},{"$f":"'Lineare Abschreibung'!F919","v":0},0,0,{"$f":"'Lineare Abschreibung'!G919","v":0},13,0,0,null,""]
[null,null,null,{"$f":"'Lineare Abschreibung'!D920","v":0},{"$f":"'Lineare Abschreibung'!E920","v":0},{"$f":"'Lineare Abschreibung'!F920","v":0},0,0,{"$f":"'Lineare Abschreibung'!G920","v":0},13,0,0,null,""]
[null,null,null,{"$f":"'Lineare Abschreibung'!D921","v":0},{"$f":"'Lineare Abschreibung'!E921","v":0},{"$f":"'Lineare Abschreibung'!F921","v":0},0,0,{"$f":"'Lineare Abschreibung'!G921","v":0},13,0,0,null,""]
[null,null,null,{"$f":"'Lineare Abschreibung'!D922","v":0},{"$f":"'Lineare Abschreibung'!E922","v":0},{"$f":"'Lineare Abschreibung'!F922","v":0},{"$f":"IF(F922=0,0,1/F922)","v":0},{"$f":"IF(G922*2.5>25%,25%,G922*2.5)","v":0},{"$f":"'Lineare Abschreibung'!G922","v":0},{"$f":"12-I922+1","v":13},{"$f":"IF(E922<250.01,E922,E922/5)","v":0},{"$f":"IF($E922<800.01,$E922,$E922*H922/12*$J922)","v":0},null,{"$f":"IF(AND(E922>800,I922=0),\"Anschaffungsmonat fehlt!\",\"\")","v":""}]
[null,null,null,{"$f":"'Lineare Abschreibung'!D923","v":0},{"$f":"'Lineare Abschreibung'!E923","v":0},{"$f":"'Lineare Abschreibung'!F923","v":0},0,0,{"$f":"'Lineare Abschreibung'!G923","v":0},13,0,0,null,""]
[null,null,null,{"$f":"'Lineare Abschreibung'!D924","v":0},{"$f":"'Lineare Abschreibung'!E924","v":0},{"$f":"'Lineare Abschreibung'!F924","v":0},0,0,{"$f":"'Lineare Abschreibung'!G924","v":0},13,0,0,null,""]
[null,null,null,{"$f":"'Lineare Abschreibung'!D925","v":0},{"$f":"'Lineare Abschreibung'!E925","v":0},{"$f":"'Lineare Abschreibung'!F925","v":0},0,0,{"$f":"'Lineare Abschreibung'!G925","v":0},13,0,0,null,""]
[null,null,null,{"$f":"'Lineare Abschreibung'!D926","v":0},{"$f":"'Lineare Abschreibung'!E926","v":0},{"$f":"'Lineare Abschreibung'!F926","v":0},0,0,{"$f":"'Lineare Abschreibung'!G926","v":0},13,0,0,null,""]
[null,null,null,{"$f":"'Lineare Abschreibung'!D927","v":0},{"$f":"'Lineare Abschreibung'!E927","v":0},{"$f":"'Lineare Abschreibung'!F927","v":0},0,0,{"$f":"'Lineare Abschreibung'!G927","v":0},13,0,0,null,""]
[null,null,null,{"$f":"'Lineare Abschreibung'!D928","v":0},{"$f":"'Lineare Abschreibung'!E928","v":0},{"$f":"'Lineare Abschreibung'!F928","v":0},0,0,{"$f":"'Lineare Abschreibung'!G928","v":0},13,0,0,null,""]
[null,null,null,{"$f":"'Lineare Abschreibung'!D929","v":0},{"$f":"'Lineare Abschreibung'!E929","v":0},{"$f":"'Lineare Abschreibung'!F929","v":0},0,0,{"$f":"'Lineare Abschreibung'!G929","v":0},13,0,0,null,""]
[null,null,null,{"$f":"'Lineare Abschreibung'!D930","v":0},{"$f":"'Lineare Abschreibung'!E930","v":0},{"$f":"'Lineare Abschreibung'!F930","v":0},0,0,{"$f":"'Lineare Abschreibung'!G930","v":0},13,0,0,null,""]
[null,null,null,{"$f":"'Lineare Abschreibung'!D931","v":0},{"$f":"'Lineare Abschreibung'!E931","v":0},{"$f":"'Lineare Abschreibung'!F931","v":0},0,0,{"$f":"'Lineare Abschreibung'!G931","v":0},13,0,0,null,""]
[null,null,null,{"$f":"'Lineare Abschreibung'!D932","v":0},{"$f":"'Lineare Abschreibung'!E932","v":0},{"$f":"'Lineare Abschreibung'!F932","v":0},0,0,{"$f":"'Lineare Abschreibung'!G932","v":0},13,0,0,null,""]
[null,null,null,{"$f":"'Lineare Abschreibung'!D933","v":0},{"$f":"'Lineare Abschreibung'!E933","v":0},{"$f":"'Lineare Abschreibung'!F933","v":0},0,0,{"$f":"'Lineare Abschreibung'!G933","v":0},13,0,0,null,""]
[null,null,null,{"$f":"'Lineare Abschreibung'!D934","v":0},{"$f":"'Lineare Abschreibung'!E934","v":0},{"$f":"'Lineare Abschreibung'!F934","v":0},0,0,{"$f":"'Lineare Abschreibung'!G934","v":0},13,0,0,null,""]
[null,null,null,{"$f":"'Lineare Abschreibung'!D935","v":0},{"$f":"'Lineare Abschreibung'!E935","v":0},{"$f":"'Lineare Abschreibung'!F935","v":0},0,0,{"$f":"'Lineare Abschreibung'!G935","v":0},13,0,0,null,""]
[null,null,null,{"$f":"'Lineare Abschreibung'!D936","v":0},{"$f":"'Lineare Abschreibung'!E936","v":0},{"$f":"'Lineare Abschreibung'!F936","v":0},0,0,{"$f":"'Lineare Abschreibung'!G936","v":0},13,0,0,null,""]
[null,null,null,{"$f":"'Lineare Abschreibung'!D937","v":0},{"$f":"'Lineare Abschreibung'!E937","v":0},{"$f":"'Lineare Abschreibung'!F937","v":0},0,0,{"$f":"'Lineare Abschreibung'!G937","v":0},13,0,0,null,""]
[null,null,null,{"$f":"'Lineare Abschreibung'!D938","v":0},{"$f":"'Lineare Abschreibung'!E938","v":0},{"$f":"'Lineare Abschreibung'!F938","v":0},0,0,{"$f":"'Lineare Abschreibung'!G938","v":0},13,0,0,null,""]
[null,null,null,{"$f":"'Lineare Abschreibung'!D939","v":0},{"$f":"'Lineare Abschreibung'!E939","v":0},{"$f":"'Lineare Abschreibung'!F939","v":0},0,0,{"$f":"'Lineare Abschreibung'!G939","v":0},13,0,0,null,""]
[null,null,null,{"$f":"'Lineare Abschreibung'!D940","v":0},{"$f":"'Lineare Abschreibung'!E940","v":0},{"$f":"'Lineare Abschreibung'!F940","v":0},0,0,{"$f":"'Lineare Abschreibung'!G940","v":0},13,0,0,null,""]
[null,null,null,{"$f":"'Lineare Abschreibung'!D941","v":0},{"$f":"'Lineare Abschreibung'!E941","v":0},{"$f":"'Lineare Abschreibung'!F941","v":0},0,0,{"$f":"'Lineare Abschreibung'!G941","v":0},13,0,0,null,""]
[null,null,null,{"$f":"'Lineare Abschreibung'!D942","v":0},{"$f":"'Lineare Abschreibung'!E942","v":0},{"$f":"'Lineare Abschreibung'!F942","v":0},0,0,{"$f":"'Lineare Abschreibung'!G942","v":0},13,0,0,null,""]
[null,null,null,{"$f":"'Lineare Abschreibung'!D943","v":0},{"$f":"'Lineare Abschreibung'!E943","v":0},{"$f":"'Lineare Abschreibung'!F943","v":0},0,0,{"$f":"'Lineare Abschreibung'!G943","v":0},13,0,0,null,""]
[null,null,null,{"$f":"'Lineare Abschreibung'!D944","v":0},{"$f":"'Lineare Abschreibung'!E944","v":0},{"$f":"'Lineare Abschreibung'!F944","v":0},0,0,{"$f":"'Lineare Abschreibung'!G944","v":0},13,0,0,null,""]
[null,null,null,{"$f":"'Lineare Abschreibung'!D945","v":0},{"$f":"'Lineare Abschreibung'!E945","v":0},{"$f":"'Lineare Abschreibung'!F945","v":0},0,0,{"$f":"'Lineare Abschreibung'!G945","v":0},13,0,0,null,""]
[null,null,null,{"$f":"'Lineare Abschreibung'!D946","v":0},{"$f":"'Lineare Abschreibung'!E946","v":0},{"$f":"'Lineare Abschreibung'!F946","v":0},0,0,{"$f":"'Lineare Abschreibung'!G946","v":0},13,0,0,null,""]
[null,null,null,{"$f":"'Lineare Abschreibung'!D947","v":0},{"$f":"'Lineare Abschreibung'!E947","v":0},{"$f":"'Lineare Abschreibung'!F947","v":0},0,0,{"$f":"'Lineare Abschreibung'!G947","v":0},13,0,0,null,""]
[null,null,null,{"$f":"'Lineare Abschreibung'!D948","v":0},{"$f":"'Lineare Abschreibung'!E948","v":0},{"$f":"'Lineare Abschreibung'!F948","v":0},0,0,{"$f":"'Lineare Abschreibung'!G948","v":0},13,0,0,null,""]
[null,null,null,{"$f":"'Lineare Abschreibung'!D949","v":0},{"$f":"'Lineare Abschreibung'!E949","v":0},{"$f":"'Lineare Abschreibung'!F949","v":0},0,0,{"$f":"'Lineare Abschreibung'!G949","v":0},13,0,0,null,""]
[null,null,null,{"$f":"'Lineare Abschreibung'!D950","v":0},{"$f":"'Lineare Abschreibung'!E950","v":0},{"$f":"'Lineare Abschreibung'!F950","v":0},0,0,{"$f":"'Lineare Abschreibung'!G950","v":0},13,0,0,null,""]
[null,null,null,{"$f":"'Lineare Abschreibung'!D951","v":0},{"$f":"'Lineare Abschreibung'!E951","v":0},{"$f":"'Lineare Abschreibung'!F951","v":0},0,0,{"$f":"'Lineare Abschreibung'!G951","v":0},13,0,0,null,""]
[null,null,null,{"$f":"'Lineare Abschreibung'!D952","v":0},{"$f":"'Lineare Abschreibung'!E952","v":0},{"$f":"'Lineare Abschreibung'!F952","v":0},0,0,{"$f":"'Lineare Abschreibung'!G952","v":0},13,0,0,null,""]
[null,null,null,{"$f":"'Lineare Abschreibung'!D953","v":0},{"$f":"'Lineare Abschreibung'!E953","v":0},{"$f":"'Lineare Abschreibung'!F953","v":0},0,0,{"$f":"'Lineare Abschreibung'!G953","v":0},13,0,0,null,""]
[null,null,null,{"$f":"'Lineare Abschreibung'!D954","v":0},{"$f":"'Lineare Abschreibung'!E954","v":0},{"$f":"'Lineare Abschreibung'!F954","v":0},0,0,{"$f":"'Lineare Abschreibung'!G954","v":0},13,0,0,null,""]
[null,null,null,{"$f":"'Lineare Abschreibung'!D955","v":0},{"$f":"'Lineare Abschreibung'!E955","v":0},{"$f":"'Lineare Abschreibung'!F955","v":0},0,0,{"$f":"'Lineare Abschreibung'!G955","v":0},13,0,0,null,""]
[null,null,null,{"$f":"'Lineare Abschreibung'!D956","v":0},{"$f":"'Lineare Abschreibung'!E956","v":0},{"$f":"'Lineare Abschreibung'!F956","v":0},0,0,{"$f":"'Lineare Abschreibung'!G956","v":0},13,0,0,null,""]
[null,null,null,{"$f":"'Lineare Abschreibung'!D957","v":0},{"$f":"'Lineare Abschreibung'!E957","v":0},{"$f":"'Lineare Abschreibung'!F957","v":0},0,0,{"$f":"'Lineare Abschreibung'!G957","v":0},13,0,0,null,""]
[null,null,null,{"$f":"'Lineare Abschreibung'!D958","v":0},{"$f":"'Lineare Abschreibung'!E958","v":0},{"$f":"'Lineare Abschreibung'!F958","v":0},0,0,{"$f":"'Lineare Abschreibung'!G958","v":0},13,0,0,null,""]
[null,null,null,{"$f":"'Lineare Abschreibung'!D959","v":0},{"$f":"'Lineare Abschreibung'!E959","v":0},{"$f":"'Lineare Abschreibung'!F959","v":0},0,0,{"$f":"'Lineare Abschreibung'!G959","v":0},13,0,0,null,""]
[null,null,null,{"$f":"'Lineare Abschreibung'!D960","v":0},{"$f":"'Lineare Abschreibung'!E960","v":0},{"$f":"'Lineare Abschreibung'!F960","v":0},0,0,{"$f":"'Lineare Abschreibung'!G960","v":0},13,0,0,null,""]
[null,null,null,{"$f":"'Lineare Abschreibung'!D961","v":0},{"$f":"'Lineare Abschreibung'!E961","v":0},{"$f":"'Lineare Abschreibung'!F961","v":0},0,0,{"$f":"'Lineare Abschreibung'!G961","v":0},13,0,0,null,""]
[null,null,null,{"$f":"'Lineare Abschreibung'!D962","v":0},{"$f":"'Lineare Abschreibung'!E962","v":0},{"$f":"'Lineare Abschreibung'!F962","v":0},0,0,{"$f":"'Lineare Abschreibung'!G962","v":0},13,0,0,null,""]
[null,null,null,{"$f":"'Lineare Abschreibung'!D963","v":0},{"$f":"'Lineare Abschreibung'!E963","v":0},{"$f":"'Lineare Abschreibung'!F963","v":0},0,0,{"$f":"'Lineare Abschreibung'!G963","v":0},13,0,0,null,""]
[null,null,null,{"$f":"'Lineare Abschreibung'!D964","v":0},{"$f":"'Lineare Abschreibung'!E964","v":0},{"$f":"'Lineare Abschreibung'!F964","v":0},0,0,{"$f":"'Lineare Abschreibung'!G964","v":0},13,0,0,null,""]
[null,null,null,{"$f":"'Lineare Abschreibung'!D965","v":0},{"$f":"'Lineare Abschreibung'!E965","v":0},{"$f":"'Lineare Abschreibung'!F965","v":0},0,0,{"$f":"'Lineare Abschreibung'!G965","v":0},13,0,0,null,""]
[null,null,null,{"$f":"'Lineare Abschreibung'!D966","v":0},{"$f":"'Lineare Abschreibung'!E966","v":0},{"$f":"'Lineare Abschreibung'!F966","v":0},0,0,{"$f":"'Lineare Abschreibung'!G966","v":0},13,0,0,null,""]
[null,null,null,{"$f":"'Lineare Abschreibung'!D967","v":0},{"$f":"'Lineare Abschreibung'!E967","v":0},{"$f":"'Lineare Abschreibung'!F967","v":0},0,0,{"$f":"'Lineare Abschreibung'!G967","v":0},13,0,0,null,""]
[null,null,null,{"$f":"'Lineare Abschreibung'!D968","v":0},{"$f":"'Lineare Abschreibung'!E968","v":0},{"$f":"'Lineare Abschreibung'!F968","v":0},0,0,{"$f":"'Lineare Abschreibung'!G968","v":0},13,0,0,null,""]
[null,null,null,{"$f":"'Lineare Abschreibung'!D969","v":0},{"$f":"'Lineare Abschreibung'!E969","v":0},{"$f":"'Lineare Abschreibung'!F969","v":0},0,0,{"$f":"'Lineare Abschreibung'!G969","v":0},13,0,0,null,""]
[null,null,null,{"$f":"'Lineare Abschreibung'!D970","v":0},{"$f":"'Lineare Abschreibung'!E970","v":0},{"$f":"'Lineare Abschreibung'!F970","v":0},0,0,{"$f":"'Lineare Abschreibung'!G970","v":0},13,0,0,null,""]
[null,null,null,{"$f":"'Lineare Abschreibung'!D971","v":0},{"$f":"'Lineare Abschreibung'!E971","v":0},{"$f":"'Lineare Abschreibung'!F971","v":0},0,0,{"$f":"'Lineare Abschreibung'!G971","v":0},13,0,0,null,""]
[null,null,null,{"$f":"'Lineare Abschreibung'!D972","v":0},{"$f":"'Lineare Abschreibung'!E972","v":0},{"$f":"'Lineare Abschreibung'!F972","v":0},0,0,{"$f":"'Lineare Abschreibung'!G972","v":0},13,0,0,null,""]
[null,null,null,{"$f":"'Lineare Abschreibung'!D973","v":0},{"$f":"'Lineare Abschreibung'!E973","v":0},{"$f":"'Lineare Abschreibung'!F973","v":0},0,0,{"$f":"'Lineare Abschreibung'!G973","v":0},13,0,0,null,""]
[null,null,null,{"$f":"'Lineare Abschreibung'!D974","v":0},{"$f":"'Lineare Abschreibung'!E974","v":0},{"$f":"'Lineare Abschreibung'!F974","v":0},0,0,{"$f":"'Lineare Abschreibung'!G974","v":0},13,0,0,null,""]
[null,null,null,{"$f":"'Lineare Abschreibung'!D975","v":0},{"$f":"'Lineare Abschreibung'!E975","v":0},{"$f":"'Lineare Abschreibung'!F975","v":0},0,0,{"$f":"'Lineare Abschreibung'!G975","v":0},13,0,0,null,""]
[null,null,null,{"$f":"'Lineare Abschreibung'!D976","v":0},{"$f":"'Lineare Abschreibung'!E976","v":0},{"$f":"'Lineare Abschreibung'!F976","v":0},0,0,{"$f":"'Lineare Abschreibung'!G976","v":0},13,0,0,null,""]
[null,null,null,{"$f":"'Lineare Abschreibung'!D977","v":0},{"$f":"'Lineare Abschreibung'!E977","v":0},{"$f":"'Lineare Abschreibung'!F977","v":0},0,0,{"$f":"'Lineare Abschreibung'!G977","v":0},13,0,0,null,""]
[null,null,null,{"$f":"'Lineare Abschreibung'!D978","v":0},{"$f":"'Lineare Abschreibung'!E978","v":0},{"$f":"'Lineare Abschreibung'!F978","v":0},0,0,{"$f":"'Lineare Abschreibung'!G978","v":0},13,0,0,null,""]
[null,null,null,{"$f":"'Lineare Abschreibung'!D979","v":0},{"$f":"'Lineare Abschreibung'!E979","v":0},{"$f":"'Lineare Abschreibung'!F979","v":0},0,0,{"$f":"'Lineare Abschreibung'!G979","v":0},13,0,0,null,""]
[null,null,null,{"$f":"'Lineare Abschreibung'!D980","v":0},{"$f":"'Lineare Abschreibung'!E980","v":0},{"$f":"'Lineare Abschreibung'!F980","v":0},0,0,{"$f":"'Lineare Abschreibung'!G980","v":0},13,0,0,null,""]
[null,null,null,{"$f":"'Lineare Abschreibung'!D981","v":0},{"$f":"'Lineare Abschreibung'!E981","v":0},{"$f":"'Lineare Abschreibung'!F981","v":0},0,0,{"$f":"'Lineare Abschreibung'!G981","v":0},13,0,0,null,""]
[null,null,null,{"$f":"'Lineare Abschreibung'!D982","v":0},{"$f":"'Lineare Abschreibung'!E982","v":0},{"$f":"'Lineare Abschreibung'!F982","v":0},0,0,{"$f":"'Lineare Abschreibung'!G982","v":0},13,0,0,null,""]
[null,null,null,{"$f":"'Lineare Abschreibung'!D983","v":0},{"$f":"'Lineare Abschreibung'!E983","v":0},{"$f":"'Lineare Abschreibung'!F983","v":0},0,0,{"$f":"'Lineare Abschreibung'!G983","v":0},13,0,0,null,""]
[null,null,null,{"$f":"'Lineare Abschreibung'!D984","v":0},{"$f":"'Lineare Abschreibung'!E984","v":0},{"$f":"'Lineare Abschreibung'!F984","v":0},0,0,{"$f":"'Lineare Abschreibung'!G984","v":0},13,0,0,null,""]
[null,null,null,{"$f":"'Lineare Abschreibung'!D985","v":0},{"$f":"'Lineare Abschreibung'!E985","v":0},{"$f":"'Lineare Abschreibung'!F985","v":0},0,0,{"$f":"'Lineare Abschreibung'!G985","v":0},13,0,0,null,""]
[null,null,null,{"$f":"'Lineare Abschreibung'!D986","v":0},{"$f":"'Lineare Abschreibung'!E986","v":0},{"$f":"'Lineare Abschreibung'!F986","v":0},{"$f":"IF(F986=0,0,1/F986)","v":0},{"$f":"IF(G986*2.5>25%,25%,G986*2.5)","v":0},{"$f":"'Lineare Abschreibung'!G986","v":0},{"$f":"12-I986+1","v":13},{"$f":"IF(E986<250.01,E986,E986/5)","v":0},{"$f":"IF($E986<800.01,$E986,$E986*H986/12*$J986)","v":0},null,{"$f":"IF(AND(E986>800,I986=0),\"Anschaffungsmonat fehlt!\",\"\")","v":""}]
[null,null,null,{"$f":"'Lineare Abschreibung'!D987","v":0},{"$f":"'Lineare Abschreibung'!E987","v":0},{"$f":"'Lineare Abschreibung'!F987","v":0},0,0,{"$f":"'Lineare Abschreibung'!G987","v":0},13,0,0,null,""]
[null,null,null,{"$f":"'Lineare Abschreibung'!D988","v":0},{"$f":"'Lineare Abschreibung'!E988","v":0},{"$f":"'Lineare Abschreibung'!F988","v":0},0,0,{"$f":"'Lineare Abschreibung'!G988","v":0},13,0,0,null,""]
[null,null,null,{"$f":"'Lineare Abschreibung'!D989","v":0},{"$f":"'Lineare Abschreibung'!E989","v":0},{"$f":"'Lineare Abschreibung'!F989","v":0},0,0,{"$f":"'Lineare Abschreibung'!G989","v":0},13,0,0,null,""]
[null,null,null,{"$f":"'Lineare Abschreibung'!D990","v":0},{"$f":"'Lineare Abschreibung'!E990","v":0},{"$f":"'Lineare Abschreibung'!F990","v":0},0,0,{"$f":"'Lineare Abschreibung'!G990","v":0},13,0,0,null,""]
[null,null,null,{"$f":"'Lineare Abschreibung'!D991","v":0},{"$f":"'Lineare Abschreibung'!E991","v":0},{"$f":"'Lineare Abschreibung'!F991","v":0},0,0,{"$f":"'Lineare Abschreibung'!G991","v":0},13,0,0,null,""]
[null,null,null,{"$f":"'Lineare Abschreibung'!D992","v":0},{"$f":"'Lineare Abschreibung'!E992","v":0},{"$f":"'Lineare Abschreibung'!F992","v":0},0,0,{"$f":"'Lineare Abschreibung'!G992","v":0},13,0,0,null,""]
[null,null,null,{"$f":"'Lineare Abschreibung'!D993","v":0},{"$f":"'Lineare Abschreibung'!E993","v":0},{"$f":"'Lineare Abschreibung'!F993","v":0},0,0,{"$f":"'Lineare Abschreibung'!G993","v":0},13,0,0,null,""]
[null,null,null,{"$f":"'Lineare Abschreibung'!D994","v":0},{"$f":"'Lineare Abschreibung'!E994","v":0},{"$f":"'Lineare Abschreibung'!F994","v":0},0,0,{"$f":"'Lineare Abschreibung'!G994","v":0},13,0,0,null,""]
[null,null,null,{"$f":"'Lineare Abschreibung'!D995","v":0},{"$f":"'Lineare Abschreibung'!E995","v":0},{"$f":"'Lineare Abschreibung'!F995","v":0},0,0,{"$f":"'Lineare Abschreibung'!G995","v":0},13,0,0,null,""]
[null,null,null,{"$f":"'Lineare Abschreibung'!D996","v":0},{"$f":"'Lineare Abschreibung'!E996","v":0},{"$f":"'Lineare Abschreibung'!F996","v":0},0,0,{"$f":"'Lineare Abschreibung'!G996","v":0},13,0,0,null,""]
[null,null,null,{"$f":"'Lineare Abschreibung'!D997","v":0},{"$f":"'Lineare Abschreibung'!E997","v":0},{"$f":"'Lineare Abschreibung'!F997","v":0},0,0,{"$f":"'Lineare Abschreibung'!G997","v":0},13,0,0,null,""]
[null,null,null,{"$f":"'Lineare Abschreibung'!D998","v":0},{"$f":"'Lineare Abschreibung'!E998","v":0},{"$f":"'Lineare Abschreibung'!F998","v":0},0,0,{"$f":"'Lineare Abschreibung'!G998","v":0},13,0,0,null,""]
[null,null,null,{"$f":"'Lineare Abschreibung'!D999","v":0},{"$f":"'Lineare Abschreibung'!E999","v":0},{"$f":"'Lineare Abschreibung'!F999","v":0},0,0,{"$f":"'Lineare Abschreibung'!G999","v":0},13,0,0,null,""]
[null,null,null,{"$f":"'Lineare Abschreibung'!D1000","v":0},{"$f":"'Lineare Abschreibung'!E1000","v":0},{"$f":"'Lineare Abschreibung'!F1000","v":0},0,0,{"$f":"'Lineare Abschreibung'!G1000","v":0},13,0,0,null,""]
[null,null,null,{"$f":"'Lineare Abschreibung'!D1001","v":0},{"$f":"'Lineare Abschreibung'!E1001","v":0},{"$f":"'Lineare Abschreibung'!F1001","v":0},0,0,{"$f":"'Lineare Abschreibung'!G1001","v":0},13,0,0,null,""]
[null,null,null,{"$f":"'Lineare Abschreibung'!D1002","v":0},{"$f":"'Lineare Abschreibung'!E1002","v":0},{"$f":"'Lineare Abschreibung'!F1002","v":0},0,0,{"$f":"'Lineare Abschreibung'!G1002","v":0},13,0,0,null,""]
[null,null,null,{"$f":"'Lineare Abschreibung'!D1003","v":0},{"$f":"'Lineare Abschreibung'!E1003","v":0},{"$f":"'Lineare Abschreibung'!F1003","v":0},0,0,{"$f":"'Lineare Abschreibung'!G1003","v":0},13,0,0,null,""]
[null,null,null,{"$f":"'Lineare Abschreibung'!D1004","v":0},{"$f":"'Lineare Abschreibung'!E1004","v":0},{"$f":"'Lineare Abschreibung'!F1004","v":0},0,0,{"$f":"'Lineare Abschreibung'!G1004","v":0},13,0,0,null,""]
[null,null,null,{"$f":"'Lineare Abschreibung'!D1005","v":0},{"$f":"'Lineare Abschreibung'!E1005","v":0},{"$f":"'Lineare Abschreibung'!F1005","v":0},0,0,{"$f":"'Lineare Abschreibung'!G1005","v":0},13,0,0,null,""]
[null,null,null,{"$f":"'Lineare Abschreibung'!D1006","v":0},{"$f":"'Lineare Abschreibung'!E1006","v":0},{"$f":"'Lineare Abschreibung'!F1006","v":0},0,0,{"$f":"'Lineare Abschreibung'!G1006","v":0},13,0,0,null,""]
[null,null,null,{"$f":"'Lineare Abschreibung'!D1007","v":0},{"$f":"'Lineare Abschreibung'!E1007","v":0},{"$f":"'Lineare Abschreibung'!F1007","v":0},0,0,{"$f":"'Lineare Abschreibung'!G1007","v":0},13,0,0,null,""]
[null,null,null,{"$f":"'Lineare Abschreibung'!D1008","v":0},{"$f":"'Lineare Abschreibung'!E1008","v":0},{"$f":"'Lineare Abschreibung'!F1008","v":0},0,0,{"$f":"'Lineare Abschreibung'!G1008","v":0},13,0,0,null,""]
[null,null,null,{"$f":"'Lineare Abschreibung'!D1009","v":0},{"$f":"'Lineare Abschreibung'!E1009","v":0},{"$f":"'Lineare Abschreibung'!F1009","v":0},0,0,{"$f":"'Lineare Abschreibung'!G1009","v":0},13,0,0,null,""]
[null,null,null,{"$f":"'Lineare Abschreibung'!D1010","v":0},{"$f":"'Lineare Abschreibung'!E1010","v":0},{"$f":"'Lineare Abschreibung'!F1010","v":0},0,0,{"$f":"'Lineare Abschreibung'!G1010","v":0},13,0,0,null,""]
[null,null,null,{"$f":"'Lineare Abschreibung'!D1011","v":0},{"$f":"'Lineare Abschreibung'!E1011","v":0},{"$f":"'Lineare Abschreibung'!F1011","v":0},0,0,{"$f":"'Lineare Abschreibung'!G1011","v":0},13,0,0,null,""]
[null,null,null,{"$f":"'Lineare Abschreibung'!D1012","v":0},{"$f":"'Lineare Abschreibung'!E1012","v":0},{"$f":"'Lineare Abschreibung'!F1012","v":0},0,0,{"$f":"'Lineare Abschreibung'!G1012","v":0},13,0,0,null,""]
[null,null,null,{"$f":"'Lineare Abschreibung'!D1013","v":0},{"$f":"'Lineare Abschreibung'!E1013","v":0},{"$f":"'Lineare Abschreibung'!F1013","v":0},0,0,{"$f":"'Lineare Abschreibung'!G1013","v":0},13,0,0,null,""]
[null,null,null,{"$f":"'Lineare Abschreibung'!D1014","v":0},{"$f":"'Lineare Abschreibung'!E1014","v":0},{"$f":"'Lineare Abschreibung'!F1014","v":0},0,0,{"$f":"'Lineare Abschreibung'!G1014","v":0},13,0,0,null,""]
[null,null,null,{"$f":"'Lineare Abschreibung'!D1015","v":0},{"$f":"'Lineare Abschreibung'!E1015","v":0},{"$f":"'Lineare Abschreibung'!F1015","v":0},0,0,{"$f":"'Lineare Abschreibung'!G1015","v":0},13,0,0,null,""]
[null,null,null,{"$f":"'Lineare Abschreibung'!D1016","v":0},{"$f":"'Lineare Abschreibung'!E1016","v":0},{"$f":"'Lineare Abschreibung'!F1016","v":0},0,0,{"$f":"'Lineare Abschreibung'!G1016","v":0},13,0,0,null,""]
[null,null,null,{"$f":"'Lineare Abschreibung'!D1017","v":0},{"$f":"'Lineare Abschreibung'!E1017","v":0},{"$f":"'Lineare Abschreibung'!F1017","v":0},0,0,{"$f":"'Lineare Abschreibung'!G1017","v":0},13,0,0,null,""]
[null,null,null,{"$f":"'Lineare Abschreibung'!D1018","v":0},{"$f":"'Lineare Abschreibung'!E1018","v":0},{"$f":"'Lineare Abschreibung'!F1018","v":0},0,0,{"$f":"'Lineare Abschreibung'!G1018","v":0},13,0,0,null,""]
[null,null,null,{"$f":"'Lineare Abschreibung'!D1019","v":0},{"$f":"'Lineare Abschreibung'!E1019","v":0},{"$f":"'Lineare Abschreibung'!F1019","v":0},0,0,{"$f":"'Lineare Abschreibung'!G1019","v":0},13,0,0,null,""]
[null,null,null,{"$f":"'Lineare Abschreibung'!D1020","v":0},{"$f":"'Lineare Abschreibung'!E1020","v":0},{"$f":"'Lineare Abschreibung'!F1020","v":0},0,0,{"$f":"'Lineare Abschreibung'!G1020","v":0},13,0,0,null,""]
[null,null,null,{"$f":"'Lineare Abschreibung'!D1021","v":0},{"$f":"'Lineare Abschreibung'!E1021","v":0},{"$f":"'Lineare Abschreibung'!F1021","v":0},0,0,{"$f":"'Lineare Abschreibung'!G1021","v":0},13,0,0,null,""]
[null,null,null,{"$f":"'Lineare Abschreibung'!D1022","v":0},{"$f":"'Lineare Abschreibung'!E1022","v":0},{"$f":"'Lineare Abschreibung'!F1022","v":0},0,0,{"$f":"'Lineare Abschreibung'!G1022","v":0},13,0,0,null,""]
[null,null,null,{"$f":"'Lineare Abschreibung'!D1023","v":0},{"$f":"'Lineare Abschreibung'!E1023","v":0},{"$f":"'Lineare Abschreibung'!F1023","v":0},0,0,{"$f":"'Lineare Abschreibung'!G1023","v":0},13,0,0,null,""]
[null,null,null,{"$f":"'Lineare Abschreibung'!D1024","v":0},{"$f":"'Lineare Abschreibung'!E1024","v":0},{"$f":"'Lineare Abschreibung'!F1024","v":0},0,0,{"$f":"'Lineare Abschreibung'!G1024","v":0},13,0,0,null,""]
[null,null,null,{"$f":"'Lineare Abschreibung'!D1025","v":0},{"$f":"'Lineare Abschreibung'!E1025","v":0},{"$f":"'Lineare Abschreibung'!F1025","v":0},0,0,{"$f":"'Lineare Abschreibung'!G1025","v":0},13,0,0,null,""]
[null,null,null,{"$f":"'Lineare Abschreibung'!D1026","v":0},{"$f":"'Lineare Abschreibung'!E1026","v":0},{"$f":"'Lineare Abschreibung'!F1026","v":0},0,0,{"$f":"'Lineare Abschreibung'!G1026","v":0},13,0,0,null,""]
[null,null,null,{"$f":"'Lineare Abschreibung'!D1027","v":0},{"$f":"'Lineare Abschreibung'!E1027","v":0},{"$f":"'Lineare Abschreibung'!F1027","v":0},0,0,{"$f":"'Lineare Abschreibung'!G1027","v":0},13,0,0,null,""]
[null,null,null,{"$f":"'Lineare Abschreibung'!D1028","v":0},{"$f":"'Lineare Abschreibung'!E1028","v":0},{"$f":"'Lineare Abschreibung'!F1028","v":0},0,0,{"$f":"'Lineare Abschreibung'!G1028","v":0},13,0,0,null,""]
[null,null,null,{"$f":"'Lineare Abschreibung'!D1029","v":0},{"$f":"'Lineare Abschreibung'!E1029","v":0},{"$f":"'Lineare Abschreibung'!F1029","v":0},0,0,{"$f":"'Lineare Abschreibung'!G1029","v":0},13,0,0,null,""]
[null,null,null,{"$f":"'Lineare Abschreibung'!D1030","v":0},{"$f":"'Lineare Abschreibung'!E1030","v":0},{"$f":"'Lineare Abschreibung'!F1030","v":0},0,0,{"$f":"'Lineare Abschreibung'!G1030","v":0},13,0,0,null,""]
[null,null,null,{"$f":"'Lineare Abschreibung'!D1031","v":0},{"$f":"'Lineare Abschreibung'!E1031","v":0},{"$f":"'Lineare Abschreibung'!F1031","v":0},0,0,{"$f":"'Lineare Abschreibung'!G1031","v":0},13,0,0,null,""]
[null,null,null,{"$f":"'Lineare Abschreibung'!D1032","v":0},{"$f":"'Lineare Abschreibung'!E1032","v":0},{"$f":"'Lineare Abschreibung'!F1032","v":0},0,0,{"$f":"'Lineare Abschreibung'!G1032","v":0},13,0,0,null,""]
[null,null,null,{"$f":"'Lineare Abschreibung'!D1033","v":0},{"$f":"'Lineare Abschreibung'!E1033","v":0},{"$f":"'Lineare Abschreibung'!F1033","v":0},0,0,{"$f":"'Lineare Abschreibung'!G1033","v":0},13,0,0,null,""]
[null,null,null,{"$f":"'Lineare Abschreibung'!D1034","v":0},{"$f":"'Lineare Abschreibung'!E1034","v":0},{"$f":"'Lineare Abschreibung'!F1034","v":0},0,0,{"$f":"'Lineare Abschreibung'!G1034","v":0},13,0,0,null,""]
[null,null,null,{"$f":"'Lineare Abschreibung'!D1035","v":0},{"$f":"'Lineare Abschreibung'!E1035","v":0},{"$f":"'Lineare Abschreibung'!F1035","v":0},0,0,{"$f":"'Lineare Abschreibung'!G1035","v":0},13,0,0,null,""]
[null,null,null,{"$f":"'Lineare Abschreibung'!D1036","v":0},{"$f":"'Lineare Abschreibung'!E1036","v":0},{"$f":"'Lineare Abschreibung'!F1036","v":0},0,0,{"$f":"'Lineare Abschreibung'!G1036","v":0},13,0,0,null,""]
[null,null,null,{"$f":"'Lineare Abschreibung'!D1037","v":0},{"$f":"'Lineare Abschreibung'!E1037","v":0},{"$f":"'Lineare Abschreibung'!F1037","v":0},0,0,{"$f":"'Lineare Abschreibung'!G1037","v":0},13,0,0,null,""]
[null,null,null,{"$f":"'Lineare Abschreibung'!D1038","v":0},{"$f":"'Lineare Abschreibung'!E1038","v":0},{"$f":"'Lineare Abschreibung'!F1038","v":0},0,0,{"$f":"'Lineare Abschreibung'!G1038","v":0},13,0,0,null,""]
[null,null,null,{"$f":"'Lineare Abschreibung'!D1039","v":0},{"$f":"'Lineare Abschreibung'!E1039","v":0},{"$f":"'Lineare Abschreibung'!F1039","v":0},0,0,{"$f":"'Lineare Abschreibung'!G1039","v":0},13,0,0,null,""]
[null,null,null,{"$f":"'Lineare Abschreibung'!D1040","v":0},{"$f":"'Lineare Abschreibung'!E1040","v":0},{"$f":"'Lineare Abschreibung'!F1040","v":0},0,0,{"$f":"'Lineare Abschreibung'!G1040","v":0},13,0,0,null,""]
[null,null,null,{"$f":"'Lineare Abschreibung'!D1041","v":0},{"$f":"'Lineare Abschreibung'!E1041","v":0},{"$f":"'Lineare Abschreibung'!F1041","v":0},0,0,{"$f":"'Lineare Abschreibung'!G1041","v":0},13,0,0,null,""]
[null,null,null,{"$f":"'Lineare Abschreibung'!D1042","v":0},{"$f":"'Lineare Abschreibung'!E1042","v":0},{"$f":"'Lineare Abschreibung'!F1042","v":0},0,0,{"$f":"'Lineare Abschreibung'!G1042","v":0},13,0,0,null,""]
[null,null,null,{"$f":"'Lineare Abschreibung'!D1043","v":0},{"$f":"'Lineare Abschreibung'!E1043","v":0},{"$f":"'Lineare Abschreibung'!F1043","v":0},0,0,{"$f":"'Lineare Abschreibung'!G1043","v":0},13,0,0,null,""]
[null,null,null,{"$f":"'Lineare Abschreibung'!D1044","v":0},{"$f":"'Lineare Abschreibung'!E1044","v":0},{"$f":"'Lineare Abschreibung'!F1044","v":0},0,0,{"$f":"'Lineare Abschreibung'!G1044","v":0},13,0,0,null,""]
[null,null,null,{"$f":"'Lineare Abschreibung'!D1045","v":0},{"$f":"'Lineare Abschreibung'!E1045","v":0},{"$f":"'Lineare Abschreibung'!F1045","v":0},0,0,{"$f":"'Lineare Abschreibung'!G1045","v":0},13,0,0,null,""]
[null,null,null,{"$f":"'Lineare Abschreibung'!D1046","v":0},{"$f":"'Lineare Abschreibung'!E1046","v":0},{"$f":"'Lineare Abschreibung'!F1046","v":0},0,0,{"$f":"'Lineare Abschreibung'!G1046","v":0},13,0,0,null,""]
[null,null,null,{"$f":"'Lineare Abschreibung'!D1047","v":0},{"$f":"'Lineare Abschreibung'!E1047","v":0},{"$f":"'Lineare Abschreibung'!F1047","v":0},0,0,{"$f":"'Lineare Abschreibung'!G1047","v":0},13,0,0,null,""]
[null,null,null,{"$f":"'Lineare Abschreibung'!D1048","v":0},{"$f":"'Lineare Abschreibung'!E1048","v":0},{"$f":"'Lineare Abschreibung'!F1048","v":0},0,0,{"$f":"'Lineare Abschreibung'!G1048","v":0},13,0,0,null,""]
[null,null,null,{"$f":"'Lineare Abschreibung'!D1049","v":0},{"$f":"'Lineare Abschreibung'!E1049","v":0},{"$f":"'Lineare Abschreibung'!F1049","v":0},0,0,{"$f":"'Lineare Abschreibung'!G1049","v":0},13,0,0,null,""]
[null,null,null,{"$f":"'Lineare Abschreibung'!D1050","v":0},{"$f":"'Lineare Abschreibung'!E1050","v":0},{"$f":"'Lineare Abschreibung'!F1050","v":0},{"$f":"IF(F1050=0,0,1/F1050)","v":0},{"$f":"IF(G1050*2.5>25%,25%,G1050*2.5)","v":0},{"$f":"'Lineare Abschreibung'!G1050","v":0},{"$f":"12-I1050+1","v":13},{"$f":"IF(E1050<250.01,E1050,E1050/5)","v":0},{"$f":"IF($E1050<800.01,$E1050,$E1050*H1050/12*$J1050)","v":0},null,{"$f":"IF(AND(E1050>800,I1050=0),\"Anschaffungsmonat fehlt!\",\"\")","v":""}]
[null,null,null,{"$f":"'Lineare Abschreibung'!D1051","v":0},{"$f":"'Lineare Abschreibung'!E1051","v":0},{"$f":"'Lineare Abschreibung'!F1051","v":0},0,0,{"$f":"'Lineare Abschreibung'!G1051","v":0},13,0,0,null,""]
[null,null,null,{"$f":"'Lineare Abschreibung'!D1052","v":0},{"$f":"'Lineare Abschreibung'!E1052","v":0},{"$f":"'Lineare Abschreibung'!F1052","v":0},0,0,{"$f":"'Lineare Abschreibung'!G1052","v":0},13,0,0,null,""]
[null,null,null,{"$f":"'Lineare Abschreibung'!D1053","v":0},{"$f":"'Lineare Abschreibung'!E1053","v":0},{"$f":"'Lineare Abschreibung'!F1053","v":0},0,0,{"$f":"'Lineare Abschreibung'!G1053","v":0},13,0,0,null,""]
[null,null,null,{"$f":"'Lineare Abschreibung'!D1054","v":0},{"$f":"'Lineare Abschreibung'!E1054","v":0},{"$f":"'Lineare Abschreibung'!F1054","v":0},0,0,{"$f":"'Lineare Abschreibung'!G1054","v":0},13,0,0,null,""]
[null,null,null,{"$f":"'Lineare Abschreibung'!D1055","v":0},{"$f":"'Lineare Abschreibung'!E1055","v":0},{"$f":"'Lineare Abschreibung'!F1055","v":0},0,0,{"$f":"'Lineare Abschreibung'!G1055","v":0},13,0,0,null,""]
[null,null,null,{"$f":"'Lineare Abschreibung'!D1056","v":0},{"$f":"'Lineare Abschreibung'!E1056","v":0},{"$f":"'Lineare Abschreibung'!F1056","v":0},0,0,{"$f":"'Lineare Abschreibung'!G1056","v":0},13,0,0,null,""]
[null,null,null,{"$f":"'Lineare Abschreibung'!D1057","v":0},{"$f":"'Lineare Abschreibung'!E1057","v":0},{"$f":"'Lineare Abschreibung'!F1057","v":0},0,0,{"$f":"'Lineare Abschreibung'!G1057","v":0},13,0,0,null,""]
[null,null,null,{"$f":"'Lineare Abschreibung'!D1058","v":0},{"$f":"'Lineare Abschreibung'!E1058","v":0},{"$f":"'Lineare Abschreibung'!F1058","v":0},0,0,{"$f":"'Lineare Abschreibung'!G1058","v":0},13,0,0,null,""]
[null,null,null,{"$f":"'Lineare Abschreibung'!D1059","v":0},{"$f":"'Lineare Abschreibung'!E1059","v":0},{"$f":"'Lineare Abschreibung'!F1059","v":0},0,0,{"$f":"'Lineare Abschreibung'!G1059","v":0},13,0,0,null,""]
[null,null,null,{"$f":"'Lineare Abschreibung'!D1060","v":0},{"$f":"'Lineare Abschreibung'!E1060","v":0},{"$f":"'Lineare Abschreibung'!F1060","v":0},0,0,{"$f":"'Lineare Abschreibung'!G1060","v":0},13,0,0,null,""]
[null,null,null,{"$f":"'Lineare Abschreibung'!D1061","v":0},{"$f":"'Lineare Abschreibung'!E1061","v":0},{"$f":"'Lineare Abschreibung'!F1061","v":0},0,0,{"$f":"'Lineare Abschreibung'!G1061","v":0},13,0,0,null,""]
[null,null,null,{"$f":"'Lineare Abschreibung'!D1062","v":0},{"$f":"'Lineare Abschreibung'!E1062","v":0},{"$f":"'Lineare Abschreibung'!F1062","v":0},0,0,{"$f":"'Lineare Abschreibung'!G1062","v":0},13,0,0,null,""]
[null,null,null,{"$f":"'Lineare Abschreibung'!D1063","v":0},{"$f":"'Lineare Abschreibung'!E1063","v":0},{"$f":"'Lineare Abschreibung'!F1063","v":0},0,0,{"$f":"'Lineare Abschreibung'!G1063","v":0},13,0,0,null,""]
[null,null,null,{"$f":"'Lineare Abschreibung'!D1064","v":0},{"$f":"'Lineare Abschreibung'!E1064","v":0},{"$f":"'Lineare Abschreibung'!F1064","v":0},0,0,{"$f":"'Lineare Abschreibung'!G1064","v":0},13,0,0,null,""]
[null,null,null,{"$f":"'Lineare Abschreibung'!D1065","v":0},{"$f":"'Lineare Abschreibung'!E1065","v":0},{"$f":"'Lineare Abschreibung'!F1065","v":0},0,0,{"$f":"'Lineare Abschreibung'!G1065","v":0},13,0,0,null,""]
[null,null,null,{"$f":"'Lineare Abschreibung'!D1066","v":0},{"$f":"'Lineare Abschreibung'!E1066","v":0},{"$f":"'Lineare Abschreibung'!F1066","v":0},0,0,{"$f":"'Lineare Abschreibung'!G1066","v":0},13,0,0,null,""]
[null,null,null,{"$f":"'Lineare Abschreibung'!D1067","v":0},{"$f":"'Lineare Abschreibung'!E1067","v":0},{"$f":"'Lineare Abschreibung'!F1067","v":0},0,0,{"$f":"'Lineare Abschreibung'!G1067","v":0},13,0,0,null,""]
[null,null,null,{"$f":"'Lineare Abschreibung'!D1068","v":0},{"$f":"'Lineare Abschreibung'!E1068","v":0},{"$f":"'Lineare Abschreibung'!F1068","v":0},0,0,{"$f":"'Lineare Abschreibung'!G1068","v":0},13,0,0,null,""]
[null,null,null,{"$f":"'Lineare Abschreibung'!D1069","v":0},{"$f":"'Lineare Abschreibung'!E1069","v":0},{"$f":"'Lineare Abschreibung'!F1069","v":0},0,0,{"$f":"'Lineare Abschreibung'!G1069","v":0},13,0,0,null,""]
[null,null,null,{"$f":"'Lineare Abschreibung'!D1070","v":0},{"$f":"'Lineare Abschreibung'!E1070","v":0},{"$f":"'Lineare Abschreibung'!F1070","v":0},0,0,{"$f":"'Lineare Abschreibung'!G1070","v":0},13,0,0,null,""]
[null,null,null,{"$f":"'Lineare Abschreibung'!D1071","v":0},{"$f":"'Lineare Abschreibung'!E1071","v":0},{"$f":"'Lineare Abschreibung'!F1071","v":0},0,0,{"$f":"'Lineare Abschreibung'!G1071","v":0},13,0,0,null,""]
[null,null,null,{"$f":"'Lineare Abschreibung'!D1072","v":0},{"$f":"'Lineare Abschreibung'!E1072","v":0},{"$f":"'Lineare Abschreibung'!F1072","v":0},0,0,{"$f":"'Lineare Abschreibung'!G1072","v":0},13,0,0,null,""]
[null,null,null,{"$f":"'Lineare Abschreibung'!D1073","v":0},{"$f":"'Lineare Abschreibung'!E1073","v":0},{"$f":"'Lineare Abschreibung'!F1073","v":0},0,0,{"$f":"'Lineare Abschreibung'!G1073","v":0},13,0,0,null,""]
[null,null,null,{"$f":"'Lineare Abschreibung'!D1074","v":0},{"$f":"'Lineare Abschreibung'!E1074","v":0},{"$f":"'Lineare Abschreibung'!F1074","v":0},0,0,{"$f":"'Lineare Abschreibung'!G1074","v":0},13,0,0,null,""]
[null,null,null,{"$f":"'Lineare Abschreibung'!D1075","v":0},{"$f":"'Lineare Abschreibung'!E1075","v":0},{"$f":"'Lineare Abschreibung'!F1075","v":0},0,0,{"$f":"'Lineare Abschreibung'!G1075","v":0},13,0,0,null,""]
[null,null,null,{"$f":"'Lineare Abschreibung'!D1076","v":0},{"$f":"'Lineare Abschreibung'!E1076","v":0},{"$f":"'Lineare Abschreibung'!F1076","v":0},0,0,{"$f":"'Lineare Abschreibung'!G1076","v":0},13,0,0,null,""]
[null,null,null,{"$f":"'Lineare Abschreibung'!D1077","v":0},{"$f":"'Lineare Abschreibung'!E1077","v":0},{"$f":"'Lineare Abschreibung'!F1077","v":0},0,0,{"$f":"'Lineare Abschreibung'!G1077","v":0},13,0,0,null,""]
[null,null,null,{"$f":"'Lineare Abschreibung'!D1078","v":0},{"$f":"'Lineare Abschreibung'!E1078","v":0},{"$f":"'Lineare Abschreibung'!F1078","v":0},0,0,{"$f":"'Lineare Abschreibung'!G1078","v":0},13,0,0,null,""]
[null,null,null,{"$f":"'Lineare Abschreibung'!D1079","v":0},{"$f":"'Lineare Abschreibung'!E1079","v":0},{"$f":"'Lineare Abschreibung'!F1079","v":0},0,0,{"$f":"'Lineare Abschreibung'!G1079","v":0},13,0,0,null,""]
[null,null,null,{"$f":"'Lineare Abschreibung'!D1080","v":0},{"$f":"'Lineare Abschreibung'!E1080","v":0},{"$f":"'Lineare Abschreibung'!F1080","v":0},0,0,{"$f":"'Lineare Abschreibung'!G1080","v":0},13,0,0,null,""]
[null,null,null,{"$f":"'Lineare Abschreibung'!D1081","v":0},{"$f":"'Lineare Abschreibung'!E1081","v":0},{"$f":"'Lineare Abschreibung'!F1081","v":0},0,0,{"$f":"'Lineare Abschreibung'!G1081","v":0},13,0,0,null,""]
[null,null,null,{"$f":"'Lineare Abschreibung'!D1082","v":0},{"$f":"'Lineare Abschreibung'!E1082","v":0},{"$f":"'Lineare Abschreibung'!F1082","v":0},0,0,{"$f":"'Lineare Abschreibung'!G1082","v":0},13,0,0,null,""]
[null,null,null,{"$f":"'Lineare Abschreibung'!D1083","v":0},{"$f":"'Lineare Abschreibung'!E1083","v":0},{"$f":"'Lineare Abschreibung'!F1083","v":0},0,0,{"$f":"'Lineare Abschreibung'!G1083","v":0},13,0,0,null,""]
[null,null,null,{"$f":"'Lineare Abschreibung'!D1084","v":0},{"$f":"'Lineare Abschreibung'!E1084","v":0},{"$f":"'Lineare Abschreibung'!F1084","v":0},0,0,{"$f":"'Lineare Abschreibung'!G1084","v":0},13,0,0,null,""]
[null,null,null,{"$f":"'Lineare Abschreibung'!D1085","v":0},{"$f":"'Lineare Abschreibung'!E1085","v":0},{"$f":"'Lineare Abschreibung'!F1085","v":0},0,0,{"$f":"'Lineare Abschreibung'!G1085","v":0},13,0,0,null,""]
[null,null,null,{"$f":"'Lineare Abschreibung'!D1086","v":0},{"$f":"'Lineare Abschreibung'!E1086","v":0},{"$f":"'Lineare Abschreibung'!F1086","v":0},0,0,{"$f":"'Lineare Abschreibung'!G1086","v":0},13,0,0,null,""]
[null,null,null,{"$f":"'Lineare Abschreibung'!D1087","v":0},{"$f":"'Lineare Abschreibung'!E1087","v":0},{"$f":"'Lineare Abschreibung'!F1087","v":0},0,0,{"$f":"'Lineare Abschreibung'!G1087","v":0},13,0,0,null,""]
[null,null,null,{"$f":"'Lineare Abschreibung'!D1088","v":0},{"$f":"'Lineare Abschreibung'!E1088","v":0},{"$f":"'Lineare Abschreibung'!F1088","v":0},0,0,{"$f":"'Lineare Abschreibung'!G1088","v":0},13,0,0,null,""]
[null,null,null,{"$f":"'Lineare Abschreibung'!D1089","v":0},{"$f":"'Lineare Abschreibung'!E1089","v":0},{"$f":"'Lineare Abschreibung'!F1089","v":0},0,0,{"$f":"'Lineare Abschreibung'!G1089","v":0},13,0,0,null,""]
[null,null,null,{"$f":"'Lineare Abschreibung'!D1090","v":0},{"$f":"'Lineare Abschreibung'!E1090","v":0},{"$f":"'Lineare Abschreibung'!F1090","v":0},0,0,{"$f":"'Lineare Abschreibung'!G1090","v":0},13,0,0,null,""]
[null,null,null,{"$f":"'Lineare Abschreibung'!D1091","v":0},{"$f":"'Lineare Abschreibung'!E1091","v":0},{"$f":"'Lineare Abschreibung'!F1091","v":0},0,0,{"$f":"'Lineare Abschreibung'!G1091","v":0},13,0,0,null,""]
[null,null,null,{"$f":"'Lineare Abschreibung'!D1092","v":0},{"$f":"'Lineare Abschreibung'!E1092","v":0},{"$f":"'Lineare Abschreibung'!F1092","v":0},0,0,{"$f":"'Lineare Abschreibung'!G1092","v":0},13,0,0,null,""]
[null,null,null,{"$f":"'Lineare Abschreibung'!D1093","v":0},{"$f":"'Lineare Abschreibung'!E1093","v":0},{"$f":"'Lineare Abschreibung'!F1093","v":0},0,0,{"$f":"'Lineare Abschreibung'!G1093","v":0},13,0,0,null,""]
[null,null,null,{"$f":"'Lineare Abschreibung'!D1094","v":0},{"$f":"'Lineare Abschreibung'!E1094","v":0},{"$f":"'Lineare Abschreibung'!F1094","v":0},0,0,{"$f":"'Lineare Abschreibung'!G1094","v":0},13,0,0,null,""]
[null,null,null,{"$f":"'Lineare Abschreibung'!D1095","v":0},{"$f":"'Lineare Abschreibung'!E1095","v":0},{"$f":"'Lineare Abschreibung'!F1095","v":0},0,0,{"$f":"'Lineare Abschreibung'!G1095","v":0},13,0,0,null,""]
[null,null,null,{"$f":"'Lineare Abschreibung'!D1096","v":0},{"$f":"'Lineare Abschreibung'!E1096","v":0},{"$f":"'Lineare Abschreibung'!F1096","v":0},0,0,{"$f":"'Lineare Abschreibung'!G1096","v":0},13,0,0,null,""]
[null,null,null,{"$f":"'Lineare Abschreibung'!D1097","v":0},{"$f":"'Lineare Abschreibung'!E1097","v":0},{"$f":"'Lineare Abschreibung'!F1097","v":0},0,0,{"$f":"'Lineare Abschreibung'!G1097","v":0},13,0,0,null,""]
[null,null,null,{"$f":"'Lineare Abschreibung'!D1098","v":0},{"$f":"'Lineare Abschreibung'!E1098","v":0},{"$f":"'Lineare Abschreibung'!F1098","v":0},0,0,{"$f":"'Lineare Abschreibung'!G1098","v":0},13,0,0,null,""]
[null,null,null,{"$f":"'Lineare Abschreibung'!D1099","v":0},{"$f":"'Lineare Abschreibung'!E1099","v":0},{"$f":"'Lineare Abschreibung'!F1099","v":0},0,0,{"$f":"'Lineare Abschreibung'!G1099","v":0},13,0,0,null,""]
[null,null,null,{"$f":"'Lineare Abschreibung'!D1100","v":0},{"$f":"'Lineare Abschreibung'!E1100","v":0},{"$f":"'Lineare Abschreibung'!F1100","v":0},0,0,{"$f":"'Lineare Abschreibung'!G1100","v":0},13,0,0,null,""]
[null,null,null,{"$f":"'Lineare Abschreibung'!D1101","v":0},{"$f":"'Lineare Abschreibung'!E1101","v":0},{"$f":"'Lineare Abschreibung'!F1101","v":0},0,0,{"$f":"'Lineare Abschreibung'!G1101","v":0},13,0,0,null,""]
[null,null,null,{"$f":"'Lineare Abschreibung'!D1102","v":0},{"$f":"'Lineare Abschreibung'!E1102","v":0},{"$f":"'Lineare Abschreibung'!F1102","v":0},0,0,{"$f":"'Lineare Abschreibung'!G1102","v":0},13,0,0,null,""]
[null,null,null,{"$f":"'Lineare Abschreibung'!D1103","v":0},{"$f":"'Lineare Abschreibung'!E1103","v":0},{"$f":"'Lineare Abschreibung'!F1103","v":0},0,0,{"$f":"'Lineare Abschreibung'!G1103","v":0},13,0,0,null,""]
[null,null,null,{"$f":"'Lineare Abschreibung'!D1104","v":0},{"$f":"'Lineare Abschreibung'!E1104","v":0},{"$f":"'Lineare Abschreibung'!F1104","v":0},0,0,{"$f":"'Lineare Abschreibung'!G1104","v":0},13,0,0,null,""]
[null,null,null,{"$f":"'Lineare Abschreibung'!D1105","v":0},{"$f":"'Lineare Abschreibung'!E1105","v":0},{"$f":"'Lineare Abschreibung'!F1105","v":0},0,0,{"$f":"'Lineare Abschreibung'!G1105","v":0},13,0,0,null,""]
[null,null,null,{"$f":"'Lineare Abschreibung'!D1106","v":0},{"$f":"'Lineare Abschreibung'!E1106","v":0},{"$f":"'Lineare Abschreibung'!F1106","v":0},0,0,{"$f":"'Lineare Abschreibung'!G1106","v":0},13,0,0,null,""]
[null,null,null,{"$f":"'Lineare Abschreibung'!D1107","v":0},{"$f":"'Lineare Abschreibung'!E1107","v":0},{"$f":"'Lineare Abschreibung'!F1107","v":0},0,0,{"$f":"'Lineare Abschreibung'!G1107","v":0},13,0,0,null,""]
[null,null,null,{"$f":"'Lineare Abschreibung'!D1108","v":0},{"$f":"'Lineare Abschreibung'!E1108","v":0},{"$f":"'Lineare Abschreibung'!F1108","v":0},0,0,{"$f":"'Lineare Abschreibung'!G1108","v":0},13,0,0,null,""]
[null,null,null,{"$f":"'Lineare Abschreibung'!D1109","v":0},{"$f":"'Lineare Abschreibung'!E1109","v":0},{"$f":"'Lineare Abschreibung'!F1109","v":0},0,0,{"$f":"'Lineare Abschreibung'!G1109","v":0},13,0,0,null,""]
[null,null,null,{"$f":"'Lineare Abschreibung'!D1110","v":0},{"$f":"'Lineare Abschreibung'!E1110","v":0},{"$f":"'Lineare Abschreibung'!F1110","v":0},0,0,{"$f":"'Lineare Abschreibung'!G1110","v":0},13,0,0,null,""]
[null,null,null,{"$f":"'Lineare Abschreibung'!D1111","v":0},{"$f":"'Lineare Abschreibung'!E1111","v":0},{"$f":"'Lineare Abschreibung'!F1111","v":0},0,0,{"$f":"'Lineare Abschreibung'!G1111","v":0},13,0,0,null,""]
[null,null,null,{"$f":"'Lineare Abschreibung'!D1112","v":0},{"$f":"'Lineare Abschreibung'!E1112","v":0},{"$f":"'Lineare Abschreibung'!F1112","v":0},0,0,{"$f":"'Lineare Abschreibung'!G1112","v":0},13,0,0,null,""]
[null,null,null,{"$f":"'Lineare Abschreibung'!D1113","v":0},{"$f":"'Lineare Abschreibung'!E1113","v":0},{"$f":"'Lineare Abschreibung'!F1113","v":0},0,0,{"$f":"'Lineare Abschreibung'!G1113","v":0},13,0,0,null,""]
[null,null,null,{"$f":"'Lineare Abschreibung'!D1114","v":0},{"$f":"'Lineare Abschreibung'!E1114","v":0},{"$f":"'Lineare Abschreibung'!F1114","v":0},{"$f":"IF(F1114=0,0,1/F1114)","v":0},{"$f":"IF(G1114*2.5>25%,25%,G1114*2.5)","v":0},{"$f":"'Lineare Abschreibung'!G1114","v":0},{"$f":"12-I1114+1","v":13},{"$f":"IF(E1114<250.01,E1114,E1114/5)","v":0},{"$f":"IF($E1114<800.01,$E1114,$E1114*H1114/12*$J1114)","v":0},null,{"$f":"IF(AND(E1114>800,I1114=0),\"Anschaffungsmonat fehlt!\",\"\")","v":""}]
[null,null,null,{"$f":"'Lineare Abschreibung'!D1115","v":0},{"$f":"'Lineare Abschreibung'!E1115","v":0},{"$f":"'Lineare Abschreibung'!F1115","v":0},0,0,{"$f":"'Lineare Abschreibung'!G1115","v":0},13,0,0,null,""]
[null,null,null,{"$f":"'Lineare Abschreibung'!D1116","v":0},{"$f":"'Lineare Abschreibung'!E1116","v":0},{"$f":"'Lineare Abschreibung'!F1116","v":0},0,0,{"$f":"'Lineare Abschreibung'!G1116","v":0},13,0,0,null,""]
[null,null,null,{"$f":"'Lineare Abschreibung'!D1117","v":0},{"$f":"'Lineare Abschreibung'!E1117","v":0},{"$f":"'Lineare Abschreibung'!F1117","v":0},0,0,{"$f":"'Lineare Abschreibung'!G1117","v":0},13,0,0,null,""]
[null,null,null,{"$f":"'Lineare Abschreibung'!D1118","v":0},{"$f":"'Lineare Abschreibung'!E1118","v":0},{"$f":"'Lineare Abschreibung'!F1118","v":0},0,0,{"$f":"'Lineare Abschreibung'!G1118","v":0},13,0,0,null,""]
[null,null,null,{"$f":"'Lineare Abschreibung'!D1119","v":0},{"$f":"'Lineare Abschreibung'!E1119","v":0},{"$f":"'Lineare Abschreibung'!F1119","v":0},0,0,{"$f":"'Lineare Abschreibung'!G1119","v":0},13,0,0,null,""]
[null,null,null,{"$f":"'Lineare Abschreibung'!D1120","v":0},{"$f":"'Lineare Abschreibung'!E1120","v":0},{"$f":"'Lineare Abschreibung'!F1120","v":0},0,0,{"$f":"'Lineare Abschreibung'!G1120","v":0},13,0,0,null,""]
[null,null,null,{"$f":"'Lineare Abschreibung'!D1121","v":0},{"$f":"'Lineare Abschreibung'!E1121","v":0},{"$f":"'Lineare Abschreibung'!F1121","v":0},0,0,{"$f":"'Lineare Abschreibung'!G1121","v":0},13,0,0,null,""]
[null,null,null,{"$f":"'Lineare Abschreibung'!D1122","v":0},{"$f":"'Lineare Abschreibung'!E1122","v":0},{"$f":"'Lineare Abschreibung'!F1122","v":0},0,0,{"$f":"'Lineare Abschreibung'!G1122","v":0},13,0,0,null,""]
[null,null,null,{"$f":"'Lineare Abschreibung'!D1123","v":0},{"$f":"'Lineare Abschreibung'!E1123","v":0},{"$f":"'Lineare Abschreibung'!F1123","v":0},0,0,{"$f":"'Lineare Abschreibung'!G1123","v":0},13,0,0,null,""]
[null,null,null,{"$f":"'Lineare Abschreibung'!D1124","v":0},{"$f":"'Lineare Abschreibung'!E1124","v":0},{"$f":"'Lineare Abschreibung'!F1124","v":0},0,0,{"$f":"'Lineare Abschreibung'!G1124","v":0},13,0,0,null,""]
[null,null,null,{"$f":"'Lineare Abschreibung'!D1125","v":0},{"$f":"'Lineare Abschreibung'!E1125","v":0},{"$f":"'Lineare Abschreibung'!F1125","v":0},0,0,{"$f":"'Lineare Abschreibung'!G1125","v":0},13,0,0,null,""]
[null,null,null,{"$f":"'Lineare Abschreibung'!D1126","v":0},{"$f":"'Lineare Abschreibung'!E1126","v":0},{"$f":"'Lineare Abschreibung'!F1126","v":0},0,0,{"$f":"'Lineare Abschreibung'!G1126","v":0},13,0,0,null,""]
[null,null,null,{"$f":"'Lineare Abschreibung'!D1127","v":0},{"$f":"'Lineare Abschreibung'!E1127","v":0},{"$f":"'Lineare Abschreibung'!F1127","v":0},0,0,{"$f":"'Lineare Abschreibung'!G1127","v":0},13,0,0,null,""]
[null,null,null,{"$f":"'Lineare Abschreibung'!D1128","v":0},{"$f":"'Lineare Abschreibung'!E1128","v":0},{"$f":"'Lineare Abschreibung'!F1128","v":0},0,0,{"$f":"'Lineare Abschreibung'!G1128","v":0},13,0,0,null,""]
[null,null,null,{"$f":"'Lineare Abschreibung'!D1129","v":0},{"$f":"'Lineare Abschreibung'!E1129","v":0},{"$f":"'Lineare Abschreibung'!F1129","v":0},0,0,{"$f":"'Lineare Abschreibung'!G1129","v":0},13,0,0,null,""]
[null,null,null,{"$f":"'Lineare Abschreibung'!D1130","v":0},{"$f":"'Lineare Abschreibung'!E1130","v":0},{"$f":"'Lineare Abschreibung'!F1130","v":0},0,0,{"$f":"'Lineare Abschreibung'!G1130","v":0},13,0,0,null,""]
[null,null,null,{"$f":"'Lineare Abschreibung'!D1131","v":0},{"$f":"'Lineare Abschreibung'!E1131","v":0},{"$f":"'Lineare Abschreibung'!F1131","v":0},0,0,{"$f":"'Lineare Abschreibung'!G1131","v":0},13,0,0,null,""]
[null,null,null,{"$f":"'Lineare Abschreibung'!D1132","v":0},{"$f":"'Lineare Abschreibung'!E1132","v":0},{"$f":"'Lineare Abschreibung'!F1132","v":0},0,0,{"$f":"'Lineare Abschreibung'!G1132","v":0},13,0,0,null,""]
[null,null,null,{"$f":"'Lineare Abschreibung'!D1133","v":0},{"$f":"'Lineare Abschreibung'!E1133","v":0},{"$f":"'Lineare Abschreibung'!F1133","v":0},0,0,{"$f":"'Lineare Abschreibung'!G1133","v":0},13,0,0,null,""]
[null,null,null,{"$f":"'Lineare Abschreibung'!D1134","v":0},{"$f":"'Lineare Abschreibung'!E1134","v":0},{"$f":"'Lineare Abschreibung'!F1134","v":0},0,0,{"$f":"'Lineare Abschreibung'!G1134","v":0},13,0,0,null,""]
[null,null,null,{"$f":"'Lineare Abschreibung'!D1135","v":0},{"$f":"'Lineare Abschreibung'!E1135","v":0},{"$f":"'Lineare Abschreibung'!F1135","v":0},0,0,{"$f":"'Lineare Abschreibung'!G1135","v":0},13,0,0,null,""]
[null,null,null,{"$f":"'Lineare Abschreibung'!D1136","v":0},{"$f":"'Lineare Abschreibung'!E1136","v":0},{"$f":"'Lineare Abschreibung'!F1136","v":0},0,0,{"$f":"'Lineare Abschreibung'!G1136","v":0},13,0,0,null,""]
[null,null,null,{"$f":"'Lineare Abschreibung'!D1137","v":0},{"$f":"'Lineare Abschreibung'!E1137","v":0},{"$f":"'Lineare Abschreibung'!F1137","v":0},0,0,{"$f":"'Lineare Abschreibung'!G1137","v":0},13,0,0,null,""]
[null,null,null,{"$f":"'Lineare Abschreibung'!D1138","v":0},{"$f":"'Lineare Abschreibung'!E1138","v":0},{"$f":"'Lineare Abschreibung'!F1138","v":0},0,0,{"$f":"'Lineare Abschreibung'!G1138","v":0},13,0,0,null,""]
[null,null,null,{"$f":"'Lineare Abschreibung'!D1139","v":0},{"$f":"'Lineare Abschreibung'!E1139","v":0},{"$f":"'Lineare Abschreibung'!F1139","v":0},0,0,{"$f":"'Lineare Abschreibung'!G1139","v":0},13,0,0,null,""]
[null,null,null,{"$f":"'Lineare Abschreibung'!D1140","v":0},{"$f":"'Lineare Abschreibung'!E1140","v":0},{"$f":"'Lineare Abschreibung'!F1140","v":0},0,0,{"$f":"'Lineare Abschreibung'!G1140","v":0},13,0,0,null,""]
[null,null,null,{"$f":"'Lineare Abschreibung'!D1141","v":0},{"$f":"'Lineare Abschreibung'!E1141","v":0},{"$f":"'Lineare Abschreibung'!F1141","v":0},0,0,{"$f":"'Lineare Abschreibung'!G1141","v":0},13,0,0,null,""]
[null,null,null,{"$f":"'Lineare Abschreibung'!D1142","v":0},{"$f":"'Lineare Abschreibung'!E1142","v":0},{"$f":"'Lineare Abschreibung'!F1142","v":0},0,0,{"$f":"'Lineare Abschreibung'!G1142","v":0},13,0,0,null,""]
[null,null,null,{"$f":"'Lineare Abschreibung'!D1143","v":0},{"$f":"'Lineare Abschreibung'!E1143","v":0},{"$f":"'Lineare Abschreibung'!F1143","v":0},0,0,{"$f":"'Lineare Abschreibung'!G1143","v":0},13,0,0,null,""]
[null,null,null,{"$f":"'Lineare Abschreibung'!D1144","v":0},{"$f":"'Lineare Abschreibung'!E1144","v":0},{"$f":"'Lineare Abschreibung'!F1144","v":0},0,0,{"$f":"'Lineare Abschreibung'!G1144","v":0},13,0,0,null,""]
[null,null,null,{"$f":"'Lineare Abschreibung'!D1145","v":0},{"$f":"'Lineare Abschreibung'!E1145","v":0},{"$f":"'Lineare Abschreibung'!F1145","v":0},0,0,{"$f":"'Lineare Abschreibung'!G1145","v":0},13,0,0,null,""]
[null,null,null,{"$f":"'Lineare Abschreibung'!D1146","v":0},{"$f":"'Lineare Abschreibung'!E1146","v":0},{"$f":"'Lineare Abschreibung'!F1146","v":0},0,0,{"$f":"'Lineare Abschreibung'!G1146","v":0},13,0,0,null,""]
[null,null,null,{"$f":"'Lineare Abschreibung'!D1147","v":0},{"$f":"'Lineare Abschreibung'!E1147","v":0},{"$f":"'Lineare Abschreibung'!F1147","v":0},0,0,{"$f":"'Lineare Abschreibung'!G1147","v":0},13,0,0,null,""]
[null,null,null,{"$f":"'Lineare Abschreibung'!D1148","v":0},{"$f":"'Lineare Abschreibung'!E1148","v":0},{"$f":"'Lineare Abschreibung'!F1148","v":0},0,0,{"$f":"'Lineare Abschreibung'!G1148","v":0},13,0,0,null,""]
[null,null,null,{"$f":"'Lineare Abschreibung'!D1149","v":0},{"$f":"'Lineare Abschreibung'!E1149","v":0},{"$f":"'Lineare Abschreibung'!F1149","v":0},0,0,{"$f":"'Lineare Abschreibung'!G1149","v":0},13,0,0,null,""]
[null,null,null,{"$f":"'Lineare Abschreibung'!D1150","v":0},{"$f":"'Lineare Abschreibung'!E1150","v":0},{"$f":"'Lineare Abschreibung'!F1150","v":0},0,0,{"$f":"'Lineare Abschreibung'!G1150","v":0},13,0,0,null,""]
[null,null,null,{"$f":"'Lineare Abschreibung'!D1151","v":0},{"$f":"'Lineare Abschreibung'!E1151","v":0},{"$f":"'Lineare Abschreibung'!F1151","v":0},0,0,{"$f":"'Lineare Abschreibung'!G1151","v":0},13,0,0,null,""]
[null,null,null,{"$f":"'Lineare Abschreibung'!D1152","v":0},{"$f":"'Lineare Abschreibung'!E1152","v":0},{"$f":"'Lineare Abschreibung'!F1152","v":0},0,0,{"$f":"'Lineare Abschreibung'!G1152","v":0},13,0,0,null,""]
[null,null,null,{"$f":"'Lineare Abschreibung'!D1153","v":0},{"$f":"'Lineare Abschreibung'!E1153","v":0},{"$f":"'Lineare Abschreibung'!F1153","v":0},0,0,{"$f":"'Lineare Abschreibung'!G1153","v":0},13,0,0,null,""]
[null,null,null,{"$f":"'Lineare Abschreibung'!D1154","v":0},{"$f":"'Lineare Abschreibung'!E1154","v":0},{"$f":"'Lineare Abschreibung'!F1154","v":0},0,0,{"$f":"'Lineare Abschreibung'!G1154","v":0},13,0,0,null,""]
[null,null,null,{"$f":"'Lineare Abschreibung'!D1155","v":0},{"$f":"'Lineare Abschreibung'!E1155","v":0},{"$f":"'Lineare Abschreibung'!F1155","v":0},0,0,{"$f":"'Lineare Abschreibung'!G1155","v":0},13,0,0,null,""]
[null,null,null,{"$f":"'Lineare Abschreibung'!D1156","v":0},{"$f":"'Lineare Abschreibung'!E1156","v":0},{"$f":"'Lineare Abschreibung'!F1156","v":0},0,0,{"$f":"'Lineare Abschreibung'!G1156","v":0},13,0,0,null,""]
[null,null,null,{"$f":"'Lineare Abschreibung'!D1157","v":0},{"$f":"'Lineare Abschreibung'!E1157","v":0},{"$f":"'Lineare Abschreibung'!F1157","v":0},0,0,{"$f":"'Lineare Abschreibung'!G1157","v":0},13,0,0,null,""]
[null,null,null,{"$f":"'Lineare Abschreibung'!D1158","v":0},{"$f":"'Lineare Abschreibung'!E1158","v":0},{"$f":"'Lineare Abschreibung'!F1158","v":0},0,0,{"$f":"'Lineare Abschreibung'!G1158","v":0},13,0,0,null,""]
[null,null,null,{"$f":"'Lineare Abschreibung'!D1159","v":0},{"$f":"'Lineare Abschreibung'!E1159","v":0},{"$f":"'Lineare Abschreibung'!F1159","v":0},0,0,{"$f":"'Lineare Abschreibung'!G1159","v":0},13,0,0,null,""]
[null,null,null,{"$f":"'Lineare Abschreibung'!D1160","v":0},{"$f":"'Lineare Abschreibung'!E1160","v":0},{"$f":"'Lineare Abschreibung'!F1160","v":0},0,0,{"$f":"'Lineare Abschreibung'!G1160","v":0},13,0,0,null,""]
[null,null,null,{"$f":"'Lineare Abschreibung'!D1161","v":0},{"$f":"'Lineare Abschreibung'!E1161","v":0},{"$f":"'Lineare Abschreibung'!F1161","v":0},0,0,{"$f":"'Lineare Abschreibung'!G1161","v":0},13,0,0,null,""]
[null,null,null,{"$f":"'Lineare Abschreibung'!D1162","v":0},{"$f":"'Lineare Abschreibung'!E1162","v":0},{"$f":"'Lineare Abschreibung'!F1162","v":0},0,0,{"$f":"'Lineare Abschreibung'!G1162","v":0},13,0,0,null,""]
[null,null,null,{"$f":"'Lineare Abschreibung'!D1163","v":0},{"$f":"'Lineare Abschreibung'!E1163","v":0},{"$f":"'Lineare Abschreibung'!F1163","v":0},0,0,{"$f":"'Lineare Abschreibung'!G1163","v":0},13,0,0,null,""]
[null,null,null,{"$f":"'Lineare Abschreibung'!D1164","v":0},{"$f":"'Lineare Abschreibung'!E1164","v":0},{"$f":"'Lineare Abschreibung'!F1164","v":0},0,0,{"$f":"'Lineare Abschreibung'!G1164","v":0},13,0,0,null,""]
[null,null,null,{"$f":"'Lineare Abschreibung'!D1165","v":0},{"$f":"'Lineare Abschreibung'!E1165","v":0},{"$f":"'Lineare Abschreibung'!F1165","v":0},0,0,{"$f":"'Lineare Abschreibung'!G1165","v":0},13,0,0,null,""]
[null,null,null,{"$f":"'Lineare Abschreibung'!D1166","v":0},{"$f":"'Lineare Abschreibung'!E1166","v":0},{"$f":"'Lineare Abschreibung'!F1166","v":0},0,0,{"$f":"'Lineare Abschreibung'!G1166","v":0},13,0,0,null,""]
[null,null,null,{"$f":"'Lineare Abschreibung'!D1167","v":0},{"$f":"'Lineare Abschreibung'!E1167","v":0},{"$f":"'Lineare Abschreibung'!F1167","v":0},0,0,{"$f":"'Lineare Abschreibung'!G1167","v":0},13,0,0,null,""]
[null,null,null,{"$f":"'Lineare Abschreibung'!D1168","v":0},{"$f":"'Lineare Abschreibung'!E1168","v":0},{"$f":"'Lineare Abschreibung'!F1168","v":0},0,0,{"$f":"'Lineare Abschreibung'!G1168","v":0},13,0,0,null,""]
[null,null,null,{"$f":"'Lineare Abschreibung'!D1169","v":0},{"$f":"'Lineare Abschreibung'!E1169","v":0},{"$f":"'Lineare Abschreibung'!F1169","v":0},0,0,{"$f":"'Lineare Abschreibung'!G1169","v":0},13,0,0,null,""]
[null,null,null,{"$f":"'Lineare Abschreibung'!D1170","v":0},{"$f":"'Lineare Abschreibung'!E1170","v":0},{"$f":"'Lineare Abschreibung'!F1170","v":0},0,0,{"$f":"'Lineare Abschreibung'!G1170","v":0},13,0,0,null,""]
[null,null,null,{"$f":"'Lineare Abschreibung'!D1171","v":0},{"$f":"'Lineare Abschreibung'!E1171","v":0},{"$f":"'Lineare Abschreibung'!F1171","v":0},0,0,{"$f":"'Lineare Abschreibung'!G1171","v":0},13,0,0,null,""]
[null,null,null,{"$f":"'Lineare Abschreibung'!D1172","v":0},{"$f":"'Lineare Abschreibung'!E1172","v":0},{"$f":"'Lineare Abschreibung'!F1172","v":0},0,0,{"$f":"'Lineare Abschreibung'!G1172","v":0},13,0,0,null,""]
[null,null,null,{"$f":"'Lineare Abschreibung'!D1173","v":0},{"$f":"'Lineare Abschreibung'!E1173","v":0},{"$f":"'Lineare Abschreibung'!F1173","v":0},0,0,{"$f":"'Lineare Abschreibung'!G1173","v":0},13,0,0,null,""]
[null,null,null,{"$f":"'Lineare Abschreibung'!D1174","v":0},{"$f":"'Lineare Abschreibung'!E1174","v":0},{"$f":"'Lineare Abschreibung'!F1174","v":0},0,0,{"$f":"'Lineare Abschreibung'!G1174","v":0},13,0,0,null,""]
[null,null,null,{"$f":"'Lineare Abschreibung'!D1175","v":0},{"$f":"'Lineare Abschreibung'!E1175","v":0},{"$f":"'Lineare Abschreibung'!F1175","v":0},0,0,{"$f":"'Lineare Abschreibung'!G1175","v":0},13,0,0,null,""]
[null,null,null,{"$f":"'Lineare Abschreibung'!D1176","v":0},{"$f":"'Lineare Abschreibung'!E1176","v":0},{"$f":"'Lineare Abschreibung'!F1176","v":0},0,0,{"$f":"'Lineare Abschreibung'!G1176","v":0},13,0,0,null,""]
[null,null,null,{"$f":"'Lineare Abschreibung'!D1177","v":0},{"$f":"'Lineare Abschreibung'!E1177","v":0},{"$f":"'Lineare Abschreibung'!F1177","v":0},0,0,{"$f":"'Lineare Abschreibung'!G1177","v":0},13,0,0,null,""]
[null,null,null,{"$f":"'Lineare Abschreibung'!D1178","v":0},{"$f":"'Lineare Abschreibung'!E1178","v":0},{"$f":"'Lineare Abschreibung'!F1178","v":0},{"$f":"IF(F1178=0,0,1/F1178)","v":0},{"$f":"IF(G1178*2.5>25%,25%,G1178*2.5)","v":0},{"$f":"'Lineare Abschreibung'!G1178","v":0},{"$f":"12-I1178+1","v":13},{"$f":"IF(E1178<250.01,E1178,E1178/5)","v":0},{"$f":"IF($E1178<800.01,$E1178,$E1178*H1178/12*$J1178)","v":0},null,{"$f":"IF(AND(E1178>800,I1178=0),\"Anschaffungsmonat fehlt!\",\"\")","v":""}]
[null,null,null,{"$f":"'Lineare Abschreibung'!D1179","v":0},{"$f":"'Lineare Abschreibung'!E1179","v":0},{"$f":"'Lineare Abschreibung'!F1179","v":0},0,0,{"$f":"'Lineare Abschreibung'!G1179","v":0},13,0,0,null,""]
[null,null,null,{"$f":"'Lineare Abschreibung'!D1180","v":0},{"$f":"'Lineare Abschreibung'!E1180","v":0},{"$f":"'Lineare Abschreibung'!F1180","v":0},0,0,{"$f":"'Lineare Abschreibung'!G1180","v":0},13,0,0,null,""]
[null,null,null,{"$f":"'Lineare Abschreibung'!D1181","v":0},{"$f":"'Lineare Abschreibung'!E1181","v":0},{"$f":"'Lineare Abschreibung'!F1181","v":0},0,0,{"$f":"'Lineare Abschreibung'!G1181","v":0},13,0,0,null,""]
[null,null,null,{"$f":"'Lineare Abschreibung'!D1182","v":0},{"$f":"'Lineare Abschreibung'!E1182","v":0},{"$f":"'Lineare Abschreibung'!F1182","v":0},0,0,{"$f":"'Lineare Abschreibung'!G1182","v":0},13,0,0,null,""]
[null,null,null,{"$f":"'Lineare Abschreibung'!D1183","v":0},{"$f":"'Lineare Abschreibung'!E1183","v":0},{"$f":"'Lineare Abschreibung'!F1183","v":0},0,0,{"$f":"'Lineare Abschreibung'!G1183","v":0},13,0,0,null,""]
[null,null,null,{"$f":"'Lineare Abschreibung'!D1184","v":0},{"$f":"'Lineare Abschreibung'!E1184","v":0},{"$f":"'Lineare Abschreibung'!F1184","v":0},0,0,{"$f":"'Lineare Abschreibung'!G1184","v":0},13,0,0,null,""]
[null,null,null,{"$f":"'Lineare Abschreibung'!D1185","v":0},{"$f":"'Lineare Abschreibung'!E1185","v":0},{"$f":"'Lineare Abschreibung'!F1185","v":0},0,0,{"$f":"'Lineare Abschreibung'!G1185","v":0},13,0,0,null,""]
[null,null,null,{"$f":"'Lineare Abschreibung'!D1186","v":0},{"$f":"'Lineare Abschreibung'!E1186","v":0},{"$f":"'Lineare Abschreibung'!F1186","v":0},0,0,{"$f":"'Lineare Abschreibung'!G1186","v":0},13,0,0,null,""]
[null,null,null,{"$f":"'Lineare Abschreibung'!D1187","v":0},{"$f":"'Lineare Abschreibung'!E1187","v":0},{"$f":"'Lineare Abschreibung'!F1187","v":0},0,0,{"$f":"'Lineare Abschreibung'!G1187","v":0},13,0,0,null,""]
[null,null,null,{"$f":"'Lineare Abschreibung'!D1188","v":0},{"$f":"'Lineare Abschreibung'!E1188","v":0},{"$f":"'Lineare Abschreibung'!F1188","v":0},0,0,{"$f":"'Lineare Abschreibung'!G1188","v":0},13,0,0,null,""]
[null,null,null,{"$f":"'Lineare Abschreibung'!D1189","v":0},{"$f":"'Lineare Abschreibung'!E1189","v":0},{"$f":"'Lineare Abschreibung'!F1189","v":0},0,0,{"$f":"'Lineare Abschreibung'!G1189","v":0},13,0,0,null,""]
[null,null,null,{"$f":"'Lineare Abschreibung'!D1190","v":0},{"$f":"'Lineare Abschreibung'!E1190","v":0},{"$f":"'Lineare Abschreibung'!F1190","v":0},0,0,{"$f":"'Lineare Abschreibung'!G1190","v":0},13,0,0,null,""]
[null,null,null,{"$f":"'Lineare Abschreibung'!D1191","v":0},{"$f":"'Lineare Abschreibung'!E1191","v":0},{"$f":"'Lineare Abschreibung'!F1191","v":0},0,0,{"$f":"'Lineare Abschreibung'!G1191","v":0},13,0,0,null,""]
[null,null,null,{"$f":"'Lineare Abschreibung'!D1192","v":0},{"$f":"'Lineare Abschreibung'!E1192","v":0},{"$f":"'Lineare Abschreibung'!F1192","v":0},0,0,{"$f":"'Lineare Abschreibung'!G1192","v":0},13,0,0,null,""]
[null,null,null,{"$f":"'Lineare Abschreibung'!D1193","v":0},{"$f":"'Lineare Abschreibung'!E1193","v":0},{"$f":"'Lineare Abschreibung'!F1193","v":0},0,0,{"$f":"'Lineare Abschreibung'!G1193","v":0},13,0,0,null,""]
[null,null,null,{"$f":"'Lineare Abschreibung'!D1194","v":0},{"$f":"'Lineare Abschreibung'!E1194","v":0},{"$f":"'Lineare Abschreibung'!F1194","v":0},0,0,{"$f":"'Lineare Abschreibung'!G1194","v":0},13,0,0,null,""]
[null,null,null,{"$f":"'Lineare Abschreibung'!D1195","v":0},{"$f":"'Lineare Abschreibung'!E1195","v":0},{"$f":"'Lineare Abschreibung'!F1195","v":0},0,0,{"$f":"'Lineare Abschreibung'!G1195","v":0},13,0,0,null,""]
[null,null,null,{"$f":"'Lineare Abschreibung'!D1196","v":0},{"$f":"'Lineare Abschreibung'!E1196","v":0},{"$f":"'Lineare Abschreibung'!F1196","v":0},0,0,{"$f":"'Lineare Abschreibung'!G1196","v":0},13,0,0,null,""]
[null,null,null,{"$f":"'Lineare Abschreibung'!D1197","v":0},{"$f":"'Lineare Abschreibung'!E1197","v":0},{"$f":"'Lineare Abschreibung'!F1197","v":0},0,0,{"$f":"'Lineare Abschreibung'!G1197","v":0},13,0,0,null,""]
[null,null,null,{"$f":"'Lineare Abschreibung'!D1198","v":0},{"$f":"'Lineare Abschreibung'!E1198","v":0},{"$f":"'Lineare Abschreibung'!F1198","v":0},0,0,{"$f":"'Lineare Abschreibung'!G1198","v":0},13,0,0,null,""]
[null,null,null,{"$f":"'Lineare Abschreibung'!D1199","v":0},{"$f":"'Lineare Abschreibung'!E1199","v":0},{"$f":"'Lineare Abschreibung'!F1199","v":0},0,0,{"$f":"'Lineare Abschreibung'!G1199","v":0},13,0,0,null,""]
[null,null,null,{"$f":"'Lineare Abschreibung'!D1200","v":0},{"$f":"'Lineare Abschreibung'!E1200","v":0},{"$f":"'Lineare Abschreibung'!F1200","v":0},0,0,{"$f":"'Lineare Abschreibung'!G1200","v":0},13,0,0,null,""]
[null,null,null,{"$f":"'Lineare Abschreibung'!D1201","v":0},{"$f":"'Lineare Abschreibung'!E1201","v":0},{"$f":"'Lineare Abschreibung'!F1201","v":0},0,0,{"$f":"'Lineare Abschreibung'!G1201","v":0},13,0,0,null,""]
[null,null,null,{"$f":"'Lineare Abschreibung'!D1202","v":0},{"$f":"'Lineare Abschreibung'!E1202","v":0},{"$f":"'Lineare Abschreibung'!F1202","v":0},0,0,{"$f":"'Lineare Abschreibung'!G1202","v":0},13,0,0,null,""]
[null,null,null,{"$f":"'Lineare Abschreibung'!D1203","v":0},{"$f":"'Lineare Abschreibung'!E1203","v":0},{"$f":"'Lineare Abschreibung'!F1203","v":0},0,0,{"$f":"'Lineare Abschreibung'!G1203","v":0},13,0,0,null,""]
[null,null,null,{"$f":"'Lineare Abschreibung'!D1204","v":0},{"$f":"'Lineare Abschreibung'!E1204","v":0},{"$f":"'Lineare Abschreibung'!F1204","v":0},0,0,{"$f":"'Lineare Abschreibung'!G1204","v":0},13,0,0,null,""]
[null,null,null,{"$f":"'Lineare Abschreibung'!D1205","v":0},{"$f":"'Lineare Abschreibung'!E1205","v":0},{"$f":"'Lineare Abschreibung'!F1205","v":0},0,0,{"$f":"'Lineare Abschreibung'!G1205","v":0},13,0,0,null,""]
[null,null,null,{"$f":"'Lineare Abschreibung'!D1206","v":0},{"$f":"'Lineare Abschreibung'!E1206","v":0},{"$f":"'Lineare Abschreibung'!F1206","v":0},0,0,{"$f":"'Lineare Abschreibung'!G1206","v":0},13,0,0,null,""]
[null,null,null,{"$f":"'Lineare Abschreibung'!D1207","v":0},{"$f":"'Lineare Abschreibung'!E1207","v":0},{"$f":"'Lineare Abschreibung'!F1207","v":0},0,0,{"$f":"'Lineare Abschreibung'!G1207","v":0},13,0,0,null,""]
[null,null,null,{"$f":"'Lineare Abschreibung'!D1208","v":0},{"$f":"'Lineare Abschreibung'!E1208","v":0},{"$f":"'Lineare Abschreibung'!F1208","v":0},0,0,{"$f":"'Lineare Abschreibung'!G1208","v":0},13,0,0,null,""]
[null,null,null,{"$f":"'Lineare Abschreibung'!D1209","v":0},{"$f":"'Lineare Abschreibung'!E1209","v":0},{"$f":"'Lineare Abschreibung'!F1209","v":0},0,0,{"$f":"'Lineare Abschreibung'!G1209","v":0},13,0,0,null,""]
[null,null,null,{"$f":"'Lineare Abschreibung'!D1210","v":0},{"$f":"'Lineare Abschreibung'!E1210","v":0},{"$f":"'Lineare Abschreibung'!F1210","v":0},0,0,{"$f":"'Lineare Abschreibung'!G1210","v":0},13,0,0,null,""]
[null,null,null,{"$f":"'Lineare Abschreibung'!D1211","v":0},{"$f":"'Lineare Abschreibung'!E1211","v":0},{"$f":"'Lineare Abschreibung'!F1211","v":0},0,0,{"$f":"'Lineare Abschreibung'!G1211","v":0},13,0,0,null,""]
[null,null,null,{"$f":"'Lineare Abschreibung'!D1212","v":0},{"$f":"'Lineare Abschreibung'!E1212","v":0},{"$f":"'Lineare Abschreibung'!F1212","v":0},0,0,{"$f":"'Lineare Abschreibung'!G1212","v":0},13,0,0,null,""]
[null,null,null,{"$f":"'Lineare Abschreibung'!D1213","v":0},{"$f":"'Lineare Abschreibung'!E1213","v":0},{"$f":"'Lineare Abschreibung'!F1213","v":0},0,0,{"$f":"'Lineare Abschreibung'!G1213","v":0},13,0,0,null,""]
[null,null,null,{"$f":"'Lineare Abschreibung'!D1214","v":0},{"$f":"'Lineare Abschreibung'!E1214","v":0},{"$f":"'Lineare Abschreibung'!F1214","v":0},0,0,{"$f":"'Lineare Abschreibung'!G1214","v":0},13,0,0,null,""]
[null,null,null,{"$f":"'Lineare Abschreibung'!D1215","v":0},{"$f":"'Lineare Abschreibung'!E1215","v":0},{"$f":"'Lineare Abschreibung'!F1215","v":0},0,0,{"$f":"'Lineare Abschreibung'!G1215","v":0},13,0,0,null,""]
[null,null,null,{"$f":"'Lineare Abschreibung'!D1216","v":0},{"$f":"'Lineare Abschreibung'!E1216","v":0},{"$f":"'Lineare Abschreibung'!F1216","v":0},0,0,{"$f":"'Lineare Abschreibung'!G1216","v":0},13,0,0,null,""]
[null,null,null,{"$f":"'Lineare Abschreibung'!D1217","v":0},{"$f":"'Lineare Abschreibung'!E1217","v":0},{"$f":"'Lineare Abschreibung'!F1217","v":0},0,0,{"$f":"'Lineare Abschreibung'!G1217","v":0},13,0,0,null,""]
[null,null,null,{"$f":"'Lineare Abschreibung'!D1218","v":0},{"$f":"'Lineare Abschreibung'!E1218","v":0},{"$f":"'Lineare Abschreibung'!F1218","v":0},0,0,{"$f":"'Lineare Abschreibung'!G1218","v":0},13,0,0,null,""]
[null,null,null,{"$f":"'Lineare Abschreibung'!D1219","v":0},{"$f":"'Lineare Abschreibung'!E1219","v":0},{"$f":"'Lineare Abschreibung'!F1219","v":0},0,0,{"$f":"'Lineare Abschreibung'!G1219","v":0},13,0,0,null,""]
[null,null,null,{"$f":"'Lineare Abschreibung'!D1220","v":0},{"$f":"'Lineare Abschreibung'!E1220","v":0},{"$f":"'Lineare Abschreibung'!F1220","v":0},0,0,{"$f":"'Lineare Abschreibung'!G1220","v":0},13,0,0,null,""]
[null,null,null,{"$f":"'Lineare Abschreibung'!D1221","v":0},{"$f":"'Lineare Abschreibung'!E1221","v":0},{"$f":"'Lineare Abschreibung'!F1221","v":0},0,0,{"$f":"'Lineare Abschreibung'!G1221","v":0},13,0,0,null,""]
[null,null,null,{"$f":"'Lineare Abschreibung'!D1222","v":0},{"$f":"'Lineare Abschreibung'!E1222","v":0},{"$f":"'Lineare Abschreibung'!F1222","v":0},0,0,{"$f":"'Lineare Abschreibung'!G1222","v":0},13,0,0,null,""]
[null,null,null,{"$f":"'Lineare Abschreibung'!D1223","v":0},{"$f":"'Lineare Abschreibung'!E1223","v":0},{"$f":"'Lineare Abschreibung'!F1223","v":0},0,0,{"$f":"'Lineare Abschreibung'!G1223","v":0},13,0,0,null,""]
[null,null,null,{"$f":"'Lineare Abschreibung'!D1224","v":0},{"$f":"'Lineare Abschreibung'!E1224","v":0},{"$f":"'Lineare Abschreibung'!F1224","v":0},0,0,{"$f":"'Lineare Abschreibung'!G1224","v":0},13,0,0,null,""]
[null,null,null,{"$f":"'Lineare Abschreibung'!D1225","v":0},{"$f":"'Lineare Abschreibung'!E1225","v":0},{"$f":"'Lineare Abschreibung'!F1225","v":0},0,0,{"$f":"'Lineare Abschreibung'!G1225","v":0},13,0,0,null,""]
[null,null,null,{"$f":"'Lineare Abschreibung'!D1226","v":0},{"$f":"'Lineare Abschreibung'!E1226","v":0},{"$f":"'Lineare Abschreibung'!F1226","v":0},0,0,{"$f":"'Lineare Abschreibung'!G1226","v":0},13,0,0,null,""]
[null,null,null,{"$f":"'Lineare Abschreibung'!D1227","v":0},{"$f":"'Lineare Abschreibung'!E1227","v":0},{"$f":"'Lineare Abschreibung'!F1227","v":0},0,0,{"$f":"'Lineare Abschreibung'!G1227","v":0},13,0,0,null,""]
[null,null,null,{"$f":"'Lineare Abschreibung'!D1228","v":0},{"$f":"'Lineare Abschreibung'!E1228","v":0},{"$f":"'Lineare Abschreibung'!F1228","v":0},0,0,{"$f":"'Lineare Abschreibung'!G1228","v":0},13,0,0,null,""]
[null,null,null,{"$f":"'Lineare Abschreibung'!D1229","v":0},{"$f":"'Lineare Abschreibung'!E1229","v":0},{"$f":"'Lineare Abschreibung'!F1229","v":0},0,0,{"$f":"'Lineare Abschreibung'!G1229","v":0},13,0,0,null,""]
[null,null,null,{"$f":"'Lineare Abschreibung'!D1230","v":0},{"$f":"'Lineare Abschreibung'!E1230","v":0},{"$f":"'Lineare Abschreibung'!F1230","v":0},0,0,{"$f":"'Lineare Abschreibung'!G1230","v":0},13,0,0,null,""]
[null,null,null,{"$f":"'Lineare Abschreibung'!D1231","v":0},{"$f":"'Lineare Abschreibung'!E1231","v":0},{"$f":"'Lineare Abschreibung'!F1231","v":0},0,0,{"$f":"'Lineare Abschreibung'!G1231","v":0},13,0,0,null,""]
[null,null,null,{"$f":"'Lineare Abschreibung'!D1232","v":0},{"$f":"'Lineare Abschreibung'!E1232","v":0},{"$f":"'Lineare Abschreibung'!F1232","v":0},0,0,{"$f":"'Lineare Abschreibung'!G1232","v":0},13,0,0,null,""]
[null,null,null,{"$f":"'Lineare Abschreibung'!D1233","v":0},{"$f":"'Lineare Abschreibung'!E1233","v":0},{"$f":"'Lineare Abschreibung'!F1233","v":0},0,0,{"$f":"'Lineare Abschreibung'!G1233","v":0},13,0,0,null,""]
[null,null,null,{"$f":"'Lineare Abschreibung'!D1234","v":0},{"$f":"'Lineare Abschreibung'!E1234","v":0},{"$f":"'Lineare Abschreibung'!F1234","v":0},0,0,{"$f":"'Lineare Abschreibung'!G1234","v":0},13,0,0,null,""]
[null,null,null,{"$f":"'Lineare Abschreibung'!D1235","v":0},{"$f":"'Lineare Abschreibung'!E1235","v":0},{"$f":"'Lineare Abschreibung'!F1235","v":0},0,0,{"$f":"'Lineare Abschreibung'!G1235","v":0},13,0,0,null,""]
[null,null,null,{"$f":"'Lineare Abschreibung'!D1236","v":0},{"$f":"'Lineare Abschreibung'!E1236","v":0},{"$f":"'Lineare Abschreibung'!F1236","v":0},0,0,{"$f":"'Lineare Abschreibung'!G1236","v":0},13,0,0,null,""]
[null,null,null,{"$f":"'Lineare Abschreibung'!D1237","v":0},{"$f":"'Lineare Abschreibung'!E1237","v":0},{"$f":"'Lineare Abschreibung'!F1237","v":0},0,0,{"$f":"'Lineare Abschreibung'!G1237","v":0},13,0,0,null,""]
[null,null,null,{"$f":"'Lineare Abschreibung'!D1238","v":0},{"$f":"'Lineare Abschreibung'!E1238","v":0},{"$f":"'Lineare Abschreibung'!F1238","v":0},0,0,{"$f":"'Lineare Abschreibung'!G1238","v":0},13,0,0,null,""]
[null,null,null,{"$f":"'Lineare Abschreibung'!D1239","v":0},{"$f":"'Lineare Abschreibung'!E1239","v":0},{"$f":"'Lineare Abschreibung'!F1239","v":0},0,0,{"$f":"'Lineare Abschreibung'!G1239","v":0},13,0,0,null,""]
[null,null,null,{"$f":"'Lineare Abschreibung'!D1240","v":0},{"$f":"'Lineare Abschreibung'!E1240","v":0},{"$f":"'Lineare Abschreibung'!F1240","v":0},0,0,{"$f":"'Lineare Abschreibung'!G1240","v":0},13,0,0,null,""]
[null,null,null,{"$f":"'Lineare Abschreibung'!D1241","v":0},{"$f":"'Lineare Abschreibung'!E1241","v":0},{"$f":"'Lineare Abschreibung'!F1241","v":0},0,0,{"$f":"'Lineare Abschreibung'!G1241","v":0},13,0,0,null,""]
[null,null,null,{"$f":"'Lineare Abschreibung'!D1242","v":0},{"$f":"'Lineare Abschreibung'!E1242","v":0},{"$f":"'Lineare Abschreibung'!F1242","v":0},{"$f":"IF(F1242=0,0,1/F1242)","v":0},{"$f":"IF(G1242*2.5>25%,25%,G1242*2.5)","v":0},{"$f":"'Lineare Abschreibung'!G1242","v":0},{"$f":"12-I1242+1","v":13},{"$f":"IF(E1242<250.01,E1242,E1242/5)","v":0},{"$f":"IF($E1242<800.01,$E1242,$E1242*H1242/12*$J1242)","v":0},null,{"$f":"IF(AND(E1242>800,I1242=0),\"Anschaffungsmonat fehlt!\",\"\")","v":""}]
[null,null,null,{"$f":"'Lineare Abschreibung'!D1243","v":0},{"$f":"'Lineare Abschreibung'!E1243","v":0},{"$f":"'Lineare Abschreibung'!F1243","v":0},0,0,{"$f":"'Lineare Abschreibung'!G1243","v":0},13,0,0,null,""]
[null,null,null,{"$f":"'Lineare Abschreibung'!D1244","v":0},{"$f":"'Lineare Abschreibung'!E1244","v":0},{"$f":"'Lineare Abschreibung'!F1244","v":0},0,0,{"$f":"'Lineare Abschreibung'!G1244","v":0},13,0,0,null,""]
[null,null,null,{"$f":"'Lineare Abschreibung'!D1245","v":0},{"$f":"'Lineare Abschreibung'!E1245","v":0},{"$f":"'Lineare Abschreibung'!F1245","v":0},0,0,{"$f":"'Lineare Abschreibung'!G1245","v":0},13,0,0,null,""]
[null,null,null,{"$f":"'Lineare Abschreibung'!D1246","v":0},{"$f":"'Lineare Abschreibung'!E1246","v":0},{"$f":"'Lineare Abschreibung'!F1246","v":0},0,0,{"$f":"'Lineare Abschreibung'!G1246","v":0},13,0,0,null,""]
[null,null,null,{"$f":"'Lineare Abschreibung'!D1247","v":0},{"$f":"'Lineare Abschreibung'!E1247","v":0},{"$f":"'Lineare Abschreibung'!F1247","v":0},0,0,{"$f":"'Lineare Abschreibung'!G1247","v":0},13,0,0,null,""]
[null,null,null,{"$f":"'Lineare Abschreibung'!D1248","v":0},{"$f":"'Lineare Abschreibung'!E1248","v":0},{"$f":"'Lineare Abschreibung'!F1248","v":0},0,0,{"$f":"'Lineare Abschreibung'!G1248","v":0},13,0,0,null,""]
[null,null,null,{"$f":"'Lineare Abschreibung'!D1249","v":0},{"$f":"'Lineare Abschreibung'!E1249","v":0},{"$f":"'Lineare Abschreibung'!F1249","v":0},0,0,{"$f":"'Lineare Abschreibung'!G1249","v":0},13,0,0,null,""]
[null,null,null,{"$f":"'Lineare Abschreibung'!D1250","v":0},{"$f":"'Lineare Abschreibung'!E1250","v":0},{"$f":"'Lineare Abschreibung'!F1250","v":0},0,0,{"$f":"'Lineare Abschreibung'!G1250","v":0},13,0,0,null,""]
[null,null,null,{"$f":"'Lineare Abschreibung'!D1251","v":0},{"$f":"'Lineare Abschreibung'!E1251","v":0},{"$f":"'Lineare Abschreibung'!F1251","v":0},0,0,{"$f":"'Lineare Abschreibung'!G1251","v":0},13,0,0,null,""]
[null,null,null,{"$f":"'Lineare Abschreibung'!D1252","v":0},{"$f":"'Lineare Abschreibung'!E1252","v":0},{"$f":"'Lineare Abschreibung'!F1252","v":0},0,0,{"$f":"'Lineare Abschreibung'!G1252","v":0},13,0,0,null,""]
[null,null,null,{"$f":"'Lineare Abschreibung'!D1253","v":0},{"$f":"'Lineare Abschreibung'!E1253","v":0},{"$f":"'Lineare Abschreibung'!F1253","v":0},0,0,{"$f":"'Lineare Abschreibung'!G1253","v":0},13,0,0,null,""]
[null,null,null,{"$f":"'Lineare Abschreibung'!D1254","v":0},{"$f":"'Lineare Abschreibung'!E1254","v":0},{"$f":"'Lineare Abschreibung'!F1254","v":0},0,0,{"$f":"'Lineare Abschreibung'!G1254","v":0},13,0,0,null,""]
[null,null,null,{"$f":"'Lineare Abschreibung'!D1255","v":0},{"$f":"'Lineare Abschreibung'!E1255","v":0},{"$f":"'Lineare Abschreibung'!F1255","v":0},0,0,{"$f":"'Lineare Abschreibung'!G1255","v":0},13,0,0,null,""]
[null,null,null,{"$f":"'Lineare Abschreibung'!D1256","v":0},{"$f":"'Lineare Abschreibung'!E1256","v":0},{"$f":"'Lineare Abschreibung'!F1256","v":0},0,0,{"$f":"'Lineare Abschreibung'!G1256","v":0},13,0,0,null,""]
[null,null,null,{"$f":"'Lineare Abschreibung'!D1257","v":0},{"$f":"'Lineare Abschreibung'!E1257","v":0},{"$f":"'Lineare Abschreibung'!F1257","v":0},0,0,{"$f":"'Lineare Abschreibung'!G1257","v":0},13,0,0,null,""]
[null,null,null,{"$f":"'Lineare Abschreibung'!D1258","v":0},{"$f":"'Lineare Abschreibung'!E1258","v":0},{"$f":"'Lineare Abschreibung'!F1258","v":0},0,0,{"$f":"'Lineare Abschreibung'!G1258","v":0},13,0,0,null,""]
[null,null,null,{"$f":"'Lineare Abschreibung'!D1259","v":0},{"$f":"'Lineare Abschreibung'!E1259","v":0},{"$f":"'Lineare Abschreibung'!F1259","v":0},0,0,{"$f":"'Lineare Abschreibung'!G1259","v":0},13,0,0,null,""]
[null,null,null,{"$f":"'Lineare Abschreibung'!D1260","v":0},{"$f":"'Lineare Abschreibung'!E1260","v":0},{"$f":"'Lineare Abschreibung'!F1260","v":0},0,0,{"$f":"'Lineare Abschreibung'!G1260","v":0},13,0,0,null,""]
[null,null,null,{"$f":"'Lineare Abschreibung'!D1261","v":0},{"$f":"'Lineare Abschreibung'!E1261","v":0},{"$f":"'Lineare Abschreibung'!F1261","v":0},0,0,{"$f":"'Lineare Abschreibung'!G1261","v":0},13,0,0,null,""]
[null,null,null,{"$f":"'Lineare Abschreibung'!D1262","v":0},{"$f":"'Lineare Abschreibung'!E1262","v":0},{"$f":"'Lineare Abschreibung'!F1262","v":0},0,0,{"$f":"'Lineare Abschreibung'!G1262","v":0},13,0,0,null,""]
[null,null,null,{"$f":"'Lineare Abschreibung'!D1263","v":0},{"$f":"'Lineare Abschreibung'!E1263","v":0},{"$f":"'Lineare Abschreibung'!F1263","v":0},0,0,{"$f":"'Lineare Abschreibung'!G1263","v":0},13,0,0,null,""]
[null,null,null,{"$f":"'Lineare Abschreibung'!D1264","v":0},{"$f":"'Lineare Abschreibung'!E1264","v":0},{"$f":"'Lineare Abschreibung'!F1264","v":0},0,0,{"$f":"'Lineare Abschreibung'!G1264","v":0},13,0,0,null,""]
[null,null,null,{"$f":"'Lineare Abschreibung'!D1265","v":0},{"$f":"'Lineare Abschreibung'!E1265","v":0},{"$f":"'Lineare Abschreibung'!F1265","v":0},0,0,{"$f":"'Lineare Abschreibung'!G1265","v":0},13,0,0,null,""]
[null,null,null,{"$f":"'Lineare Abschreibung'!D1266","v":0},{"$f":"'Lineare Abschreibung'!E1266","v":0},{"$f":"'Lineare Abschreibung'!F1266","v":0},0,0,{"$f":"'Lineare Abschreibung'!G1266","v":0},13,0,0,null,""]
[null,null,null,{"$f":"'Lineare Abschreibung'!D1267","v":0},{"$f":"'Lineare Abschreibung'!E1267","v":0},{"$f":"'Lineare Abschreibung'!F1267","v":0},0,0,{"$f":"'Lineare Abschreibung'!G1267","v":0},13,0,0,null,""]
[null,null,null,{"$f":"'Lineare Abschreibung'!D1268","v":0},{"$f":"'Lineare Abschreibung'!E1268","v":0},{"$f":"'Lineare Abschreibung'!F1268","v":0},0,0,{"$f":"'Lineare Abschreibung'!G1268","v":0},13,0,0,null,""]
[null,null,null,{"$f":"'Lineare Abschreibung'!D1269","v":0},{"$f":"'Lineare Abschreibung'!E1269","v":0},{"$f":"'Lineare Abschreibung'!F1269","v":0},0,0,{"$f":"'Lineare Abschreibung'!G1269","v":0},13,0,0,null,""]
[null,null,null,{"$f":"'Lineare Abschreibung'!D1270","v":0},{"$f":"'Lineare Abschreibung'!E1270","v":0},{"$f":"'Lineare Abschreibung'!F1270","v":0},0,0,{"$f":"'Lineare Abschreibung'!G1270","v":0},13,0,0,null,""]
[null,null,null,{"$f":"'Lineare Abschreibung'!D1271","v":0},{"$f":"'Lineare Abschreibung'!E1271","v":0},{"$f":"'Lineare Abschreibung'!F1271","v":0},0,0,{"$f":"'Lineare Abschreibung'!G1271","v":0},13,0,0,null,""]
[null,null,null,{"$f":"'Lineare Abschreibung'!D1272","v":0},{"$f":"'Lineare Abschreibung'!E1272","v":0},{"$f":"'Lineare Abschreibung'!F1272","v":0},0,0,{"$f":"'Lineare Abschreibung'!G1272","v":0},13,0,0,null,""]
[null,null,null,{"$f":"'Lineare Abschreibung'!D1273","v":0},{"$f":"'Lineare Abschreibung'!E1273","v":0},{"$f":"'Lineare Abschreibung'!F1273","v":0},0,0,{"$f":"'Lineare Abschreibung'!G1273","v":0},13,0,0,null,""]
[null,null,null,{"$f":"'Lineare Abschreibung'!D1274","v":0},{"$f":"'Lineare Abschreibung'!E1274","v":0},{"$f":"'Lineare Abschreibung'!F1274","v":0},0,0,{"$f":"'Lineare Abschreibung'!G1274","v":0},13,0,0,null,""]
[null,null,null,{"$f":"'Lineare Abschreibung'!D1275","v":0},{"$f":"'Lineare Abschreibung'!E1275","v":0},{"$f":"'Lineare Abschreibung'!F1275","v":0},0,0,{"$f":"'Lineare Abschreibung'!G1275","v":0},13,0,0,null,""]
[null,null,null,{"$f":"'Lineare Abschreibung'!D1276","v":0},{"$f":"'Lineare Abschreibung'!E1276","v":0},{"$f":"'Lineare Abschreibung'!F1276","v":0},0,0,{"$f":"'Lineare Abschreibung'!G1276","v":0},13,0,0,null,""]
[null,null,null,{"$f":"'Lineare Abschreibung'!D1277","v":0},{"$f":"'Lineare Abschreibung'!E1277","v":0},{"$f":"'Lineare Abschreibung'!F1277","v":0},0,0,{"$f":"'Lineare Abschreibung'!G1277","v":0},13,0,0,null,""]
[null,null,null,{"$f":"'Lineare Abschreibung'!D1278","v":0},{"$f":"'Lineare Abschreibung'!E1278","v":0},{"$f":"'Lineare Abschreibung'!F1278","v":0},0,0,{"$f":"'Lineare Abschreibung'!G1278","v":0},13,0,0,null,""]
[null,null,null,{"$f":"'Lineare Abschreibung'!D1279","v":0},{"$f":"'Lineare Abschreibung'!E1279","v":0},{"$f":"'Lineare Abschreibung'!F1279","v":0},0,0,{"$f":"'Lineare Abschreibung'!G1279","v":0},13,0,0,null,""]
[null,null,null,{"$f":"'Lineare Abschreibung'!D1280","v":0},{"$f":"'Lineare Abschreibung'!E1280","v":0},{"$f":"'Lineare Abschreibung'!F1280","v":0},0,0,{"$f":"'Lineare Abschreibung'!G1280","v":0},13,0,0,null,""]
[null,null,null,{"$f":"'Lineare Abschreibung'!D1281","v":0},{"$f":"'Lineare Abschreibung'!E1281","v":0},{"$f":"'Lineare Abschreibung'!F1281","v":0},0,0,{"$f":"'Lineare Abschreibung'!G1281","v":0},13,0,0,null,""]
[null,null,null,{"$f":"'Lineare Abschreibung'!D1282","v":0},{"$f":"'Lineare Abschreibung'!E1282","v":0},{"$f":"'Lineare Abschreibung'!F1282","v":0},0,0,{"$f":"'Lineare Abschreibung'!G1282","v":0},13,0,0,null,""]
[null,null,null,{"$f":"'Lineare Abschreibung'!D1283","v":0},{"$f":"'Lineare Abschreibung'!E1283","v":0},{"$f":"'Lineare Abschreibung'!F1283","v":0},0,0,{"$f":"'Lineare Abschreibung'!G1283","v":0},13,0,0,null,""]
[null,null,null,{"$f":"'Lineare Abschreibung'!D1284","v":0},{"$f":"'Lineare Abschreibung'!E1284","v":0},{"$f":"'Lineare Abschreibung'!F1284","v":0},0,0,{"$f":"'Lineare Abschreibung'!G1284","v":0},13,0,0,null,""]
[null,null,null,{"$f":"'Lineare Abschreibung'!D1285","v":0},{"$f":"'Lineare Abschreibung'!E1285","v":0},{"$f":"'Lineare Abschreibung'!F1285","v":0},0,0,{"$f":"'Lineare Abschreibung'!G1285","v":0},13,0,0,null,""]
[null,null,null,{"$f":"'Lineare Abschreibung'!D1286","v":0},{"$f":"'Lineare Abschreibung'!E1286","v":0},{"$f":"'Lineare Abschreibung'!F1286","v":0},0,0,{"$f":"'Lineare Abschreibung'!G1286","v":0},13,0,0,null,""]
[null,null,null,{"$f":"'Lineare Abschreibung'!D1287","v":0},{"$f":"'Lineare Abschreibung'!E1287","v":0},{"$f":"'Lineare Abschreibung'!F1287","v":0},0,0,{"$f":"'Lineare Abschreibung'!G1287","v":0},13,0,0,null,""]
[null,null,null,{"$f":"'Lineare Abschreibung'!D1288","v":0},{"$f":"'Lineare Abschreibung'!E1288","v":0},{"$f":"'Lineare Abschreibung'!F1288","v":0},0,0,{"$f":"'Lineare Abschreibung'!G1288","v":0},13,0,0,null,""]
[null,null,null,{"$f":"'Lineare Abschreibung'!D1289","v":0},{"$f":"'Lineare Abschreibung'!E1289","v":0},{"$f":"'Lineare Abschreibung'!F1289","v":0},0,0,{"$f":"'Lineare Abschreibung'!G1289","v":0},13,0,0,null,""]
[null,null,null,{"$f":"'Lineare Abschreibung'!D1290","v":0},{"$f":"'Lineare Abschreibung'!E1290","v":0},{"$f":"'Lineare Abschreibung'!F1290","v":0},0,0,{"$f":"'Lineare Abschreibung'!G1290","v":0},13,0,0,null,""]
[null,null,null,{"$f":"'Lineare Abschreibung'!D1291","v":0},{"$f":"'Lineare Abschreibung'!E1291","v":0},{"$f":"'Lineare Abschreibung'!F1291","v":0},0,0,{"$f":"'Lineare Abschreibung'!G1291","v":0},13,0,0,null,""]
[null,null,null,{"$f":"'Lineare Abschreibung'!D1292","v":0},{"$f":"'Lineare Abschreibung'!E1292","v":0},{"$f":"'Lineare Abschreibung'!F1292","v":0},0,0,{"$f":"'Lineare Abschreibung'!G1292","v":0},13,0,0,null,""]
[null,null,null,{"$f":"'Lineare Abschreibung'!D1293","v":0},{"$f":"'Lineare Abschreibung'!E1293","v":0},{"$f":"'Lineare Abschreibung'!F1293","v":0},0,0,{"$f":"'Lineare Abschreibung'!G1293","v":0},13,0,0,null,""]
[null,null,null,{"$f":"'Lineare Abschreibung'!D1294","v":0},{"$f":"'Lineare Abschreibung'!E1294","v":0},{"$f":"'Lineare Abschreibung'!F1294","v":0},0,0,{"$f":"'Lineare Abschreibung'!G1294","v":0},13,0,0,null,""]
[null,null,null,{"$f":"'Lineare Abschreibung'!D1295","v":0},{"$f":"'Lineare Abschreibung'!E1295","v":0},{"$f":"'Lineare Abschreibung'!F1295","v":0},0,0,{"$f":"'Lineare Abschreibung'!G1295","v":0},13,0,0,null,""]
[null,null,null,{"$f":"'Lineare Abschreibung'!D1296","v":0},{"$f":"'Lineare Abschreibung'!E1296","v":0},{"$f":"'Lineare Abschreibung'!F1296","v":0},0,0,{"$f":"'Lineare Abschreibung'!G1296","v":0},13,0,0,null,""]
[null,null,null,{"$f":"'Lineare Abschreibung'!D1297","v":0},{"$f":"'Lineare Abschreibung'!E1297","v":0},{"$f":"'Lineare Abschreibung'!F1297","v":0},0,0,{"$f":"'Lineare Abschreibung'!G1297","v":0},13,0,0,null,""]
[null,null,null,{"$f":"'Lineare Abschreibung'!D1298","v":0},{"$f":"'Lineare Abschreibung'!E1298","v":0},{"$f":"'Lineare Abschreibung'!F1298","v":0},0,0,{"$f":"'Lineare Abschreibung'!G1298","v":0},13,0,0,null,""]
[null,null,null,{"$f":"'Lineare Abschreibung'!D1299","v":0},{"$f":"'Lineare Abschreibung'!E1299","v":0},{"$f":"'Lineare Abschreibung'!F1299","v":0},0,0,{"$f":"'Lineare Abschreibung'!G1299","v":0},13,0,0,null,""]
[null,null,null,{"$f":"'Lineare Abschreibung'!D1300","v":0},{"$f":"'Lineare Abschreibung'!E1300","v":0},{"$f":"'Lineare Abschreibung'!F1300","v":0},0,0,{"$f":"'Lineare Abschreibung'!G1300","v":0},13,0,0,null,""]
[null,null,null,{"$f":"'Lineare Abschreibung'!D1301","v":0},{"$f":"'Lineare Abschreibung'!E1301","v":0},{"$f":"'Lineare Abschreibung'!F1301","v":0},0,0,{"$f":"'Lineare Abschreibung'!G1301","v":0},13,0,0,null,""]
[null,null,null,{"$f":"'Lineare Abschreibung'!D1302","v":0},{"$f":"'Lineare Abschreibung'!E1302","v":0},{"$f":"'Lineare Abschreibung'!F1302","v":0},0,0,{"$f":"'Lineare Abschreibung'!G1302","v":0},13,0,0,null,""]
[null,null,null,{"$f":"'Lineare Abschreibung'!D1303","v":0},{"$f":"'Lineare Abschreibung'!E1303","v":0},{"$f":"'Lineare Abschreibung'!F1303","v":0},0,0,{"$f":"'Lineare Abschreibung'!G1303","v":0},13,0,0,null,""]
[null,null,null,{"$f":"'Lineare Abschreibung'!D1304","v":0},{"$f":"'Lineare Abschreibung'!E1304","v":0},{"$f":"'Lineare Abschreibung'!F1304","v":0},0,0,{"$f":"'Lineare Abschreibung'!G1304","v":0},13,0,0,null,""]
[null,null,null,{"$f":"'Lineare Abschreibung'!D1305","v":0},{"$f":"'Lineare Abschreibung'!E1305","v":0},{"$f":"'Lineare Abschreibung'!F1305","v":0},0,0,{"$f":"'Lineare Abschreibung'!G1305","v":0},13,0,0,null,""]
[null,null,null,{"$f":"'Lineare Abschreibung'!D1306","v":0},{"$f":"'Lineare Abschreibung'!E1306","v":0},{"$f":"'Lineare Abschreibung'!F1306","v":0},{"$f":"IF(F1306=0,0,1/F1306)","v":0},{"$f":"IF(G1306*2.5>25%,25%,G1306*2.5)","v":0},{"$f":"'Lineare Abschreibung'!G1306","v":0},{"$f":"12-I1306+1","v":13},{"$f":"IF(E1306<250.01,E1306,E1306/5)","v":0},{"$f":"IF($E1306<800.01,$E1306,$E1306*H1306/12*$J1306)","v":0},null,{"$f":"IF(AND(E1306>800,I1306=0),\"Anschaffungsmonat fehlt!\",\"\")","v":""}]
[null,null,null,{"$f":"'Lineare Abschreibung'!D1307","v":0},{"$f":"'Lineare Abschreibung'!E1307","v":0},{"$f":"'Lineare Abschreibung'!F1307","v":0},0,0,{"$f":"'Lineare Abschreibung'!G1307","v":0},13,0,0,null,""]
[null,null,null,{"$f":"'Lineare Abschreibung'!D1308","v":0},{"$f":"'Lineare Abschreibung'!E1308","v":0},{"$f":"'Lineare Abschreibung'!F1308","v":0},0,0,{"$f":"'Lineare Abschreibung'!G1308","v":0},13,0,0,null,""]
[null,null,null,{"$f":"'Lineare Abschreibung'!D1309","v":0},{"$f":"'Lineare Abschreibung'!E1309","v":0},{"$f":"'Lineare Abschreibung'!F1309","v":0},0,0,{"$f":"'Lineare Abschreibung'!G1309","v":0},13,0,0,null,""]
[null,null,null,{"$f":"'Lineare Abschreibung'!D1310","v":0},{"$f":"'Lineare Abschreibung'!E1310","v":0},{"$f":"'Lineare Abschreibung'!F1310","v":0},0,0,{"$f":"'Lineare Abschreibung'!G1310","v":0},13,0,0,null,""]
[null,null,null,{"$f":"'Lineare Abschreibung'!D1311","v":0},{"$f":"'Lineare Abschreibung'!E1311","v":0},{"$f":"'Lineare Abschreibung'!F1311","v":0},0,0,{"$f":"'Lineare Abschreibung'!G1311","v":0},13,0,0,null,""]
[null,null,null,{"$f":"'Lineare Abschreibung'!D1312","v":0},{"$f":"'Lineare Abschreibung'!E1312","v":0},{"$f":"'Lineare Abschreibung'!F1312","v":0},0,0,{"$f":"'Lineare Abschreibung'!G1312","v":0},13,0,0,null,""]
[null,null,null,{"$f":"'Lineare Abschreibung'!D1313","v":0},{"$f":"'Lineare Abschreibung'!E1313","v":0},{"$f":"'Lineare Abschreibung'!F1313","v":0},0,0,{"$f":"'Lineare Abschreibung'!G1313","v":0},13,0,0,null,""]
[null,null,null,{"$f":"'Lineare Abschreibung'!D1314","v":0},{"$f":"'Lineare Abschreibung'!E1314","v":0},{"$f":"'Lineare Abschreibung'!F1314","v":0},0,0,{"$f":"'Lineare Abschreibung'!G1314","v":0},13,0,0,null,""]
[null,null,null,{"$f":"'Lineare Abschreibung'!D1315","v":0},{"$f":"'Lineare Abschreibung'!E1315","v":0},{"$f":"'Lineare Abschreibung'!F1315","v":0},0,0,{"$f":"'Lineare Abschreibung'!G1315","v":0},13,0,0,null,""]
[null,null,null,{"$f":"'Lineare Abschreibung'!D1316","v":0},{"$f":"'Lineare Abschreibung'!E1316","v":0},{"$f":"'Lineare Abschreibung'!F1316","v":0},0,0,{"$f":"'Lineare Abschreibung'!G1316","v":0},13,0,0,null,""]
[null,null,null,{"$f":"'Lineare Abschreibung'!D1317","v":0},{"$f":"'Lineare Abschreibung'!E1317","v":0},{"$f":"'Lineare Abschreibung'!F1317","v":0},0,0,{"$f":"'Lineare Abschreibung'!G1317","v":0},13,0,0,null,""]
[null,null,null,{"$f":"'Lineare Abschreibung'!D1318","v":0},{"$f":"'Lineare Abschreibung'!E1318","v":0},{"$f":"'Lineare Abschreibung'!F1318","v":0},0,0,{"$f":"'Lineare Abschreibung'!G1318","v":0},13,0,0,null,""]
[null,null,null,{"$f":"'Lineare Abschreibung'!D1319","v":0},{"$f":"'Lineare Abschreibung'!E1319","v":0},{"$f":"'Lineare Abschreibung'!F1319","v":0},0,0,{"$f":"'Lineare Abschreibung'!G1319","v":0},13,0,0,null,""]
[null,null,null,{"$f":"'Lineare Abschreibung'!D1320","v":0},{"$f":"'Lineare Abschreibung'!E1320","v":0},{"$f":"'Lineare Abschreibung'!F1320","v":0},0,0,{"$f":"'Lineare Abschreibung'!G1320","v":0},13,0,0,null,""]
[null,null,null,{"$f":"'Lineare Abschreibung'!D1321","v":0},{"$f":"'Lineare Abschreibung'!E1321","v":0},{"$f":"'Lineare Abschreibung'!F1321","v":0},0,0,{"$f":"'Lineare Abschreibung'!G1321","v":0},13,0,0,null,""]
[null,null,null,{"$f":"'Lineare Abschreibung'!D1322","v":0},{"$f":"'Lineare Abschreibung'!E1322","v":0},{"$f":"'Lineare Abschreibung'!F1322","v":0},0,0,{"$f":"'Lineare Abschreibung'!G1322","v":0},13,0,0,null,""]
[null,null,null,{"$f":"'Lineare Abschreibung'!D1323","v":0},{"$f":"'Lineare Abschreibung'!E1323","v":0},{"$f":"'Lineare Abschreibung'!F1323","v":0},0,0,{"$f":"'Lineare Abschreibung'!G1323","v":0},13,0,0,null,""]
[null,null,null,{"$f":"'Lineare Abschreibung'!D1324","v":0},{"$f":"'Lineare Abschreibung'!E1324","v":0},{"$f":"'Lineare Abschreibung'!F1324","v":0},0,0,{"$f":"'Lineare Abschreibung'!G1324","v":0},13,0,0,null,""]
[null,null,null,{"$f":"'Lineare Abschreibung'!D1325","v":0},{"$f":"'Lineare Abschreibung'!E1325","v":0},{"$f":"'Lineare Abschreibung'!F1325","v":0},0,0,{"$f":"'Lineare Abschreibung'!G1325","v":0},13,0,0,null,""]
[null,null,null,{"$f":"'Lineare Abschreibung'!D1326","v":0},{"$f":"'Lineare Abschreibung'!E1326","v":0},{"$f":"'Lineare Abschreibung'!F1326","v":0},0,0,{"$f":"'Lineare Abschreibung'!G1326","v":0},13,0,0,null,""]
[null,null,null,{"$f":"'Lineare Abschreibung'!D1327","v":0},{"$f":"'Lineare Abschreibung'!E1327","v":0},{"$f":"'Lineare Abschreibung'!F1327","v":0},0,0,{"$f":"'Lineare Abschreibung'!G1327","v":0},13,0,0,null,""]
[null,null,null,{"$f":"'Lineare Abschreibung'!D1328","v":0},{"$f":"'Lineare Abschreibung'!E1328","v":0},{"$f":"'Lineare Abschreibung'!F1328","v":0},0,0,{"$f":"'Lineare Abschreibung'!G1328","v":0},13,0,0,null,""]
[null,null,null,{"$f":"'Lineare Abschreibung'!D1329","v":0},{"$f":"'Lineare Abschreibung'!E1329","v":0},{"$f":"'Lineare Abschreibung'!F1329","v":0},0,0,{"$f":"'Lineare Abschreibung'!G1329","v":0},13,0,0,null,""]
[null,null,null,{"$f":"'Lineare Abschreibung'!D1330","v":0},{"$f":"'Lineare Abschreibung'!E1330","v":0},{"$f":"'Lineare Abschreibung'!F1330","v":0},0,0,{"$f":"'Lineare Abschreibung'!G1330","v":0},13,0,0,null,""]
[null,null,null,{"$f":"'Lineare Abschreibung'!D1331","v":0},{"$f":"'Lineare Abschreibung'!E1331","v":0},{"$f":"'Lineare Abschreibung'!F1331","v":0},0,0,{"$f":"'Lineare Abschreibung'!G1331","v":0},13,0,0,null,""]
[null,null,null,{"$f":"'Lineare Abschreibung'!D1332","v":0},{"$f":"'Lineare Abschreibung'!E1332","v":0},{"$f":"'Lineare Abschreibung'!F1332","v":0},0,0,{"$f":"'Lineare Abschreibung'!G1332","v":0},13,0,0,null,""]
[null,null,null,{"$f":"'Lineare Abschreibung'!D1333","v":0},{"$f":"'Lineare Abschreibung'!E1333","v":0},{"$f":"'Lineare Abschreibung'!F1333","v":0},0,0,{"$f":"'Lineare Abschreibung'!G1333","v":0},13,0,0,null,""]
[null,null,null,{"$f":"'Lineare Abschreibung'!D1334","v":0},{"$f":"'Lineare Abschreibung'!E1334","v":0},{"$f":"'Lineare Abschreibung'!F1334","v":0},0,0,{"$f":"'Lineare Abschreibung'!G1334","v":0},13,0,0,null,""]
[null,null,null,{"$f":"'Lineare Abschreibung'!D1335","v":0},{"$f":"'Lineare Abschreibung'!E1335","v":0},{"$f":"'Lineare Abschreibung'!F1335","v":0},0,0,{"$f":"'Lineare Abschreibung'!G1335","v":0},13,0,0,null,""]
[null,null,null,{"$f":"'Lineare Abschreibung'!D1336","v":0},{"$f":"'Lineare Abschreibung'!E1336","v":0},{"$f":"'Lineare Abschreibung'!F1336","v":0},0,0,{"$f":"'Lineare Abschreibung'!G1336","v":0},13,0,0,null,""]
[null,null,null,{"$f":"'Lineare Abschreibung'!D1337","v":0},{"$f":"'Lineare Abschreibung'!E1337","v":0},{"$f":"'Lineare Abschreibung'!F1337","v":0},0,0,{"$f":"'Lineare Abschreibung'!G1337","v":0},13,0,0,null,""]
[null,null,null,{"$f":"'Lineare Abschreibung'!D1338","v":0},{"$f":"'Lineare Abschreibung'!E1338","v":0},{"$f":"'Lineare Abschreibung'!F1338","v":0},0,0,{"$f":"'Lineare Abschreibung'!G1338","v":0},13,0,0,null,""]
[null,null,null,{"$f":"'Lineare Abschreibung'!D1339","v":0},{"$f":"'Lineare Abschreibung'!E1339","v":0},{"$f":"'Lineare Abschreibung'!F1339","v":0},0,0,{"$f":"'Lineare Abschreibung'!G1339","v":0},13,0,0,null,""]
[null,null,null,{"$f":"'Lineare Abschreibung'!D1340","v":0},{"$f":"'Lineare Abschreibung'!E1340","v":0},{"$f":"'Lineare Abschreibung'!F1340","v":0},0,0,{"$f":"'Lineare Abschreibung'!G1340","v":0},13,0,0,null,""]
[null,null,null,{"$f":"'Lineare Abschreibung'!D1341","v":0},{"$f":"'Lineare Abschreibung'!E1341","v":0},{"$f":"'Lineare Abschreibung'!F1341","v":0},0,0,{"$f":"'Lineare Abschreibung'!G1341","v":0},13,0,0,null,""]
[null,null,null,{"$f":"'Lineare Abschreibung'!D1342","v":0},{"$f":"'Lineare Abschreibung'!E1342","v":0},{"$f":"'Lineare Abschreibung'!F1342","v":0},0,0,{"$f":"'Lineare Abschreibung'!G1342","v":0},13,0,0,null,""]
[null,null,null,{"$f":"'Lineare Abschreibung'!D1343","v":0},{"$f":"'Lineare Abschreibung'!E1343","v":0},{"$f":"'Lineare Abschreibung'!F1343","v":0},0,0,{"$f":"'Lineare Abschreibung'!G1343","v":0},13,0,0,null,""]
[null,null,null,{"$f":"'Lineare Abschreibung'!D1344","v":0},{"$f":"'Lineare Abschreibung'!E1344","v":0},{"$f":"'Lineare Abschreibung'!F1344","v":0},0,0,{"$f":"'Lineare Abschreibung'!G1344","v":0},13,0,0,null,""]
[null,null,null,{"$f":"'Lineare Abschreibung'!D1345","v":0},{"$f":"'Lineare Abschreibung'!E1345","v":0},{"$f":"'Lineare Abschreibung'!F1345","v":0},0,0,{"$f":"'Lineare Abschreibung'!G1345","v":0},13,0,0,null,""]
[null,null,null,{"$f":"'Lineare Abschreibung'!D1346","v":0},{"$f":"'Lineare Abschreibung'!E1346","v":0},{"$f":"'Lineare Abschreibung'!F1346","v":0},0,0,{"$f":"'Lineare Abschreibung'!G1346","v":0},13,0,0,null,""]
[null,null,null,{"$f":"'Lineare Abschreibung'!D1347","v":0},{"$f":"'Lineare Abschreibung'!E1347","v":0},{"$f":"'Lineare Abschreibung'!F1347","v":0},0,0,{"$f":"'Lineare Abschreibung'!G1347","v":0},13,0,0,null,""]
[null,null,null,{"$f":"'Lineare Abschreibung'!D1348","v":0},{"$f":"'Lineare Abschreibung'!E1348","v":0},{"$f":"'Lineare Abschreibung'!F1348","v":0},0,0,{"$f":"'Lineare Abschreibung'!G1348","v":0},13,0,0,null,""]
[null,null,null,{"$f":"'Lineare Abschreibung'!D1349","v":0},{"$f":"'Lineare Abschreibung'!E1349","v":0},{"$f":"'Lineare Abschreibung'!F1349","v":0},0,0,{"$f":"'Lineare Abschreibung'!G1349","v":0},13,0,0,null,""]
[null,null,null,{"$f":"'Lineare Abschreibung'!D1350","v":0},{"$f":"'Lineare Abschreibung'!E1350","v":0},{"$f":"'Lineare Abschreibung'!F1350","v":0},0,0,{"$f":"'Lineare Abschreibung'!G1350","v":0},13,0,0,null,""]
[null,null,null,{"$f":"'Lineare Abschreibung'!D1351","v":0},{"$f":"'Lineare Abschreibung'!E1351","v":0},{"$f":"'Lineare Abschreibung'!F1351","v":0},0,0,{"$f":"'Lineare Abschreibung'!G1351","v":0},13,0,0,null,""]
[null,null,null,{"$f":"'Lineare Abschreibung'!D1352","v":0},{"$f":"'Lineare Abschreibung'!E1352","v":0},{"$f":"'Lineare Abschreibung'!F1352","v":0},0,0,{"$f":"'Lineare Abschreibung'!G1352","v":0},13,0,0,null,""]
[null,null,null,{"$f":"'Lineare Abschreibung'!D1353","v":0},{"$f":"'Lineare Abschreibung'!E1353","v":0},{"$f":"'Lineare Abschreibung'!F1353","v":0},0,0,{"$f":"'Lineare Abschreibung'!G1353","v":0},13,0,0,null,""]
[null,null,null,{"$f":"'Lineare Abschreibung'!D1354","v":0},{"$f":"'Lineare Abschreibung'!E1354","v":0},{"$f":"'Lineare Abschreibung'!F1354","v":0},0,0,{"$f":"'Lineare Abschreibung'!G1354","v":0},13,0,0,null,""]
[null,null,null,{"$f":"'Lineare Abschreibung'!D1355","v":0},{"$f":"'Lineare Abschreibung'!E1355","v":0},{"$f":"'Lineare Abschreibung'!F1355","v":0},0,0,{"$f":"'Lineare Abschreibung'!G1355","v":0},13,0,0,null,""]
[null,null,null,{"$f":"'Lineare Abschreibung'!D1356","v":0},{"$f":"'Lineare Abschreibung'!E1356","v":0},{"$f":"'Lineare Abschreibung'!F1356","v":0},0,0,{"$f":"'Lineare Abschreibung'!G1356","v":0},13,0,0,null,""]
[null,null,null,{"$f":"'Lineare Abschreibung'!D1357","v":0},{"$f":"'Lineare Abschreibung'!E1357","v":0},{"$f":"'Lineare Abschreibung'!F1357","v":0},0,0,{"$f":"'Lineare Abschreibung'!G1357","v":0},13,0,0,null,""]
[null,null,null,{"$f":"'Lineare Abschreibung'!D1358","v":0},{"$f":"'Lineare Abschreibung'!E1358","v":0},{"$f":"'Lineare Abschreibung'!F1358","v":0},0,0,{"$f":"'Lineare Abschreibung'!G1358","v":0},13,0,0,null,""]
[null,null,null,{"$f":"'Lineare Abschreibung'!D1359","v":0},{"$f":"'Lineare Abschreibung'!E1359","v":0},{"$f":"'Lineare Abschreibung'!F1359","v":0},0,0,{"$f":"'Lineare Abschreibung'!G1359","v":0},13,0,0,null,""]
[null,null,null,{"$f":"'Lineare Abschreibung'!D1360","v":0},{"$f":"'Lineare Abschreibung'!E1360","v":0},{"$f":"'Lineare Abschreibung'!F1360","v":0},0,0,{"$f":"'Lineare Abschreibung'!G1360","v":0},13,0,0,null,""]
[null,null,null,{"$f":"'Lineare Abschreibung'!D1361","v":0},{"$f":"'Lineare Abschreibung'!E1361","v":0},{"$f":"'Lineare Abschreibung'!F1361","v":0},0,0,{"$f":"'Lineare Abschreibung'!G1361","v":0},13,0,0,null,""]
[null,null,null,{"$f":"'Lineare Abschreibung'!D1362","v":0},{"$f":"'Lineare Abschreibung'!E1362","v":0},{"$f":"'Lineare Abschreibung'!F1362","v":0},0,0,{"$f":"'Lineare Abschreibung'!G1362","v":0},13,0,0,null,""]
[null,null,null,{"$f":"'Lineare Abschreibung'!D1363","v":0},{"$f":"'Lineare Abschreibung'!E1363","v":0},{"$f":"'Lineare Abschreibung'!F1363","v":0},0,0,{"$f":"'Lineare Abschreibung'!G1363","v":0},13,0,0,null,""]
[null,null,null,{"$f":"'Lineare Abschreibung'!D1364","v":0},{"$f":"'Lineare Abschreibung'!E1364","v":0},{"$f":"'Lineare Abschreibung'!F1364","v":0},0,0,{"$f":"'Lineare Abschreibung'!G1364","v":0},13,0,0,null,""]
[null,null,null,{"$f":"'Lineare Abschreibung'!D1365","v":0},{"$f":"'Lineare Abschreibung'!E1365","v":0},{"$f":"'Lineare Abschreibung'!F1365","v":0},0,0,{"$f":"'Lineare Abschreibung'!G1365","v":0},13,0,0,null,""]
[null,null,null,{"$f":"'Lineare Abschreibung'!D1366","v":0},{"$f":"'Lineare Abschreibung'!E1366","v":0},{"$f":"'Lineare Abschreibung'!F1366","v":0},0,0,{"$f":"'Lineare Abschreibung'!G1366","v":0},13,0,0,null,""]
[null,null,null,{"$f":"'Lineare Abschreibung'!D1367","v":0},{"$f":"'Lineare Abschreibung'!E1367","v":0},{"$f":"'Lineare Abschreibung'!F1367","v":0},0,0,{"$f":"'Lineare Abschreibung'!G1367","v":0},13,0,0,null,""]
[null,null,null,{"$f":"'Lineare Abschreibung'!D1368","v":0},{"$f":"'Lineare Abschreibung'!E1368","v":0},{"$f":"'Lineare Abschreibung'!F1368","v":0},0,0,{"$f":"'Lineare Abschreibung'!G1368","v":0},13,0,0,null,""]
[null,null,null,{"$f":"'Lineare Abschreibung'!D1369","v":0},{"$f":"'Lineare Abschreibung'!E1369","v":0},{"$f":"'Lineare Abschreibung'!F1369","v":0},0,0,{"$f":"'Lineare Abschreibung'!G1369","v":0},13,0,0,null,""]
[null,null,null,{"$f":"'Lineare Abschreibung'!D1370","v":0},{"$f":"'Lineare Abschreibung'!E1370","v":0},{"$f":"'Lineare Abschreibung'!F1370","v":0},{"$f":"IF(F1370=0,0,1/F1370)","v":0},{"$f":"IF(G1370*2.5>25%,25%,G1370*2.5)","v":0},{"$f":"'Lineare Abschreibung'!G1370","v":0},{"$f":"12-I1370+1","v":13},{"$f":"IF(E1370<250.01,E1370,E1370/5)","v":0},{"$f":"IF($E1370<800.01,$E1370,$E1370*H1370/12*$J1370)","v":0},null,{"$f":"IF(AND(E1370>800,I1370=0),\"Anschaffungsmonat fehlt!\",\"\")","v":""}]
[null,null,null,{"$f":"'Lineare Abschreibung'!D1371","v":0},{"$f":"'Lineare Abschreibung'!E1371","v":0},{"$f":"'Lineare Abschreibung'!F1371","v":0},0,0,{"$f":"'Lineare Abschreibung'!G1371","v":0},13,0,0,null,""]
[null,null,null,{"$f":"'Lineare Abschreibung'!D1372","v":0},{"$f":"'Lineare Abschreibung'!E1372","v":0},{"$f":"'Lineare Abschreibung'!F1372","v":0},0,0,{"$f":"'Lineare Abschreibung'!G1372","v":0},13,0,0,null,""]
[null,null,null,{"$f":"'Lineare Abschreibung'!D1373","v":0},{"$f":"'Lineare Abschreibung'!E1373","v":0},{"$f":"'Lineare Abschreibung'!F1373","v":0},0,0,{"$f":"'Lineare Abschreibung'!G1373","v":0},13,0,0,null,""]
[null,null,null,{"$f":"'Lineare Abschreibung'!D1374","v":0},{"$f":"'Lineare Abschreibung'!E1374","v":0},{"$f":"'Lineare Abschreibung'!F1374","v":0},0,0,{"$f":"'Lineare Abschreibung'!G1374","v":0},13,0,0,null,""]
[null,null,null,{"$f":"'Lineare Abschreibung'!D1375","v":0},{"$f":"'Lineare Abschreibung'!E1375","v":0},{"$f":"'Lineare Abschreibung'!F1375","v":0},0,0,{"$f":"'Lineare Abschreibung'!G1375","v":0},13,0,0,null,""]
[null,null,null,{"$f":"'Lineare Abschreibung'!D1376","v":0},{"$f":"'Lineare Abschreibung'!E1376","v":0},{"$f":"'Lineare Abschreibung'!F1376","v":0},0,0,{"$f":"'Lineare Abschreibung'!G1376","v":0},13,0,0,null,""]
[null,null,null,{"$f":"'Lineare Abschreibung'!D1377","v":0},{"$f":"'Lineare Abschreibung'!E1377","v":0},{"$f":"'Lineare Abschreibung'!F1377","v":0},0,0,{"$f":"'Lineare Abschreibung'!G1377","v":0},13,0,0,null,""]
[null,null,null,{"$f":"'Lineare Abschreibung'!D1378","v":0},{"$f":"'Lineare Abschreibung'!E1378","v":0},{"$f":"'Lineare Abschreibung'!F1378","v":0},0,0,{"$f":"'Lineare Abschreibung'!G1378","v":0},13,0,0,null,""]
[null,null,null,{"$f":"'Lineare Abschreibung'!D1379","v":0},{"$f":"'Lineare Abschreibung'!E1379","v":0},{"$f":"'Lineare Abschreibung'!F1379","v":0},0,0,{"$f":"'Lineare Abschreibung'!G1379","v":0},13,0,0,null,""]
[null,null,null,{"$f":"'Lineare Abschreibung'!D1380","v":0},{"$f":"'Lineare Abschreibung'!E1380","v":0},{"$f":"'Lineare Abschreibung'!F1380","v":0},0,0,{"$f":"'Lineare Abschreibung'!G1380","v":0},13,0,0,null,""]
[null,null,null,{"$f":"'Lineare Abschreibung'!D1381","v":0},{"$f":"'Lineare Abschreibung'!E1381","v":0},{"$f":"'Lineare Abschreibung'!F1381","v":0},0,0,{"$f":"'Lineare Abschreibung'!G1381","v":0},13,0,0,null,""]
[null,null,null,{"$f":"'Lineare Abschreibung'!D1382","v":0},{"$f":"'Lineare Abschreibung'!E1382","v":0},{"$f":"'Lineare Abschreibung'!F1382","v":0},0,0,{"$f":"'Lineare Abschreibung'!G1382","v":0},13,0,0,null,""]
[null,null,null,null,null,null,null,null,null,null,null,null,null,""]
[null,null,null,null,null,null,null,null,null,null,null,null,null,""]
[null,null,null,null,null,null,null,null,null,null,null,null,null,""]
[null,null,null,null,null,null,null,null,null,null,null,null,null,""]
[null,null,null,null,null,null,null,null,null,null,null,null,null,""]
[null,null,null,null,null,null,null,null,null,null,null,null,null,""]
[null,null,null,null,null,null,null,null,null,null,null,null,null,""]
[null,null,null,null,null,null,null,null,null,null,null,null,null,""]
[null,null,null,null,null,null,null,null,null,null,null,null,null,""]
[null,null,null,null,null,null,null,null,null,null,null,null,null,""]
[null,null,null,null,null,null,null,null,null,null,null,null,null,""]
[null,null,null,null,null,null,null,null,null,null,null,null,null,""]
[null,null,null,null,null,null,null,null,null,null,null,null,null,""]
[null,null,null,null,null,null,null,null,null,null,null,null,null,""]
[null,null,null,null,null,null,null,null,null,null,null,null,null,""]
[null,null,null,null,null,null,null,null,null,null,null,null,null,""]
[null,null,null,null,null,null,null,null,null,null,null,null,null,""]
[null,null,null,null,null,null,null,null,null,null,null,null,null,""]
[null,null,null,null,null,null,null,null,null,null,null,null,null,""]
[null,null,null,null,null,null,null,null,null,null,null,null,null,""]
[null,null,null,null,null,null,null,null,null,null,null,null,null,""]
[null,null,null,null,null,null,null,null,null,null,null,null,null,""]
[null,null,null,null,null,null,null,null,null,null,null,null,null,""]
[null,null,null,null,null,null,null,null,null,null,null,null,null,""]
[null,null,null,null,null,null,null,null,null,null,null,null,null,""]
[null,null,null,null,null,null,null,null,null,null,null,null,null,""]
[null,null,null,null,null,null,null,null,null,null,null,null,null,""]
[null,null,null,null,null,null,null,null,null,null,null,null,null,""]
[null,null,null,null,null,null,null,null,null,null,null,null,null,""]
[null,null,null,null,null,null,null,null,null,null,null,null,null,""]
[null,null,null,null,null,null,null,null,null,null,null,null,null,""]
[null,null,null,null,null,null,null,null,null,null,null,null,null,""]
[null,null,null,null,null,null,null,null,null,null,null,null,null,""]
[null,null,null,null,null,null,null,null,null,null,null,null,null,""]
[null,null,null,null,null,null,null,null,null,null,null,null,null,""]
[null,null,null,null,null,null,null,null,null,null,null,null,null,""]
[null,null,null,null,null,null,null,null,null,null,null,null,null,""]
[null,null,null,null,null,null,null,null,null,null,null,null,null,""]
[null,null,null,null,null,null,null,null,null,null,null,null,null,""]
[null,null,null,null,null,null,null,null,null,null,null,null,null,""]
[null,null,null,null,null,null,null,null,null,null,null,null,null,""]
[null,null,null,null,null,null,null,null,null,null,null,null,null,""]
[null,null,null,null,null,null,null,null,null,null,null,null,null,""]
[null,null,null,null,null,null,null,null,null,null,null,null,null,""]
[null,null,null,null,null,null,null,null,null,null,null,null,null,""]
[null,null,null,null,null,null,null,null,null,null,null,null,null,""]
[null,null,null,null,null,null,null,null,null,null,null,null,null,""]
[null,null,null,null,null,null,null,null,null,null,null,null,null,""]
[null,null,null,null,null,null,null,null,null,null,null,null,null,""]
[null,null,null,null,null,null,null,null,null,null,null,null,null,""]
[null,null,null,null,null,null,null,null,null,null,null,null,null,""]
[null,null,null,null,null,null,null,null,null,null,null,null,null,{"$f":"IF(AND(E1434>800,I1434=0),\"Anschaffungsmonat fehlt!\",\"\")","v":""}]
[null,null,null,null,null,null,null,null,null,null,null,null,null,""]
[null,null,null,null,null,null,null,null,null,null,null,null,null,""]
[null,null,null,null,null,null,null,null,null,null,null,null,null,""]
[null,null,null,null,null,null,null,null,null,null,null,null,null,""]
[null,null,null,null,null,null,null,null,null,null,null,null,null,""]
[null,null,null,null,null,null,null,null,null,null,null,null,null,""]
[null,null,null,null,null,null,null,null,null,null,null,null,null,""]
[null,null,null,null,null,null,null,null,null,null,null,null,null,""]
[null,null,null,null,null,null,null,null,null,null,null,null,null,""]
[null,null,null,null,null,null,null,null,null,null,null,null,null,""]
[null,null,null,null,null,null,null,null,null,null,null,null,null,""]
[null,null,null,null,null,null,null,null,null,null,null,null,null,""]
[null,null,null,null,null,null,null,null,null,null,null,null,null,""]
[null,null,null,null,null,null,null,null,null,null,null,null,null,""]
[null,null,null,null,null,null,null,null,null,null,null,null,null,""]
[null,null,null,null,null,null,null,null,null,null,null,null,null,""]
[null,null,null,null,null,null,null,null,null,null,null,null,null,""]
[null,null,null,null,null,null,null,null,null,null,null,null,null,""]
[null,null,null,null,null,null,null,null,null,null,null,null,null,""]
[null,null,null,null,null,null,null,null,null,null,null,null,null,""]
[null,null,null,null,null,null,null,null,null,null,null,null,null,""]
[null,null,null,null,null,null,null,null,null,null,null,null,null,""]
[null,null,null,null,null,null,null,null,null,null,null,null,null,""]
[null,null,null,null,null,null,null,null,null,null,null,null,null,""]
[null,null,null,null,null,null,null,null,null,null,null,null,null,""]
[null,null,null,null,null,null,null,null,null,null,null,null,null,""]
[null,null,null,null,null,null,null,null,null,null,null,null,null,""]
[null,null,null,null,null,null,null,null,null,null,null,null,null,""]
[null,null,null,null,null,null,null,null,null,null,null,null,null,""]
[null,null,null,null,null,null,null,null,null,null,null,null,null,""]
[null,null,null,null,null,null,null,null,null,null,null,null,null,""]
[null,null,null,null,null,null,null,null,null,null,null,null,null,""]
[null,null,null,null,null,null,null,null,null,null,null,null,null,""]
[null,null,null,null,null,null,null,null,null,null,null,null,null,""]
[null,null,null,null,null,null,null,null,null,null,null,null,null,""]
[null,null,null,null,null,null,null,null,null,null,null,null,null,""]
[null,null,null,null,null,null,null,null,null,null,null,null,null,""]
[null,null,null,null,null,null,null,null,null,null,null,null,null,""]
[null,null,null,null,null,null,null,null,null,null,null,null,null,""]
[null,null,null,null,null,null,null,null,null,null,null,null,null,""]
[null,null,null,null,null,null,null,null,null,null,null,null,null,""]
[null,null,null,null,null,null,null,null,null,null,null,null,null,""]
[null,null,null,null,null,null,null,null,null,null,null,null,null,""]
[null,null,null,null,null,null,null,null,null,null,null,null,null,""]
[null,null,null,null,null,null,null,null,null,null,null,null,null,""]
[null,null,null,null,null,null,null,null,null,null,null,null,null,""]
[null,null,null,null,null,null,null,null,null,null,null,null,null,""]
[null,null,null,null,null,null,null,null,null,null,null,null,null,""]
[null,null,null,null,null,null,null,null,null,null,null,null,null,""]
[null,null,null,null,null,null,null,null,null,null,null,null,null,""]
[null,null,null,null,null,null,null,null,null,null,null,null,null,""]
[null,null,null,null,null,null,null,null,null,null,null,null,null,""]
[null,null,null,null,null,null,null,null,null,null,null,null,null,""]
[null,null,null,null,null,null,null,null,null,null,null,null,null,""]
[null,null,null,null,null,null,null,null,null,null,null,null,null,""]
[null,null,null,null,null,null,null,null,null,null,null,null,null,""]
[null,null,null,null,null,null,null,null,null,null,null,null,null,""]
[null,null,null,null,null,null,null,null,null,null,null,null,null,""]
[null,null,null,null,null,null,null,null,null,null,null,null,null,""]
[null,null,null,null,null,null,null,null,null,null,null,null,null,""]
[null,null,null,null,null,null,null,null,null,null,null,null,null,""]
[null,null,null,null,null,null,null,null,null,null,null,null,null,""]
[null,null,null,null,null,null,null,null,null,null,null,null,null,""]
[null,null,null,null,null,null,null,null,null,null,null,null,null,{"$f":"IF(AND(E1498>800,I1498=0),\"Anschaffungsmonat fehlt!\",\"\")","v":""}]
[null,null,null,null,null,null,null,null,null,null,null,null,null,""]
[null,null,null,null,null,null,null,null,null,null,null,null,null,""]
[null,null,null,null,null,null,null,null,null,null,null,null,null,""]
[null,null,null,null,null,null,null,null,null,null,null,null,null,""]
[null,null,null,null,null,null,null,null,null,null,null,null,null,""]
[null,null,null,null,null,null,null,null,null,null,null,null,null,""]
[null,null,null,null,null,null,null,null,null,null,null,null,null,""]
[null,null,null,null,null,null,null,null,null,null,null,null,null,""]
[null,null,null,null,null,null,null,null,null,null,null,null,null,""]
[null,null,null,null,null,null,null,null,null,null,null,null,null,""]
[null,null,null,null,null,null,null,null,null,null,null,null,null,""]
[null,null,null,null,null,null,null,null,null,null,null,null,null,""]
[null,null,null,null,null,null,null,null,null,null,null,null,null,""]
[null,null,null,null,null,null,null,null,null,null,null,null,null,""]
[null,null,null,null,null,null,null,null,null,null,null,null,null,""]
[null,null,null,null,null,null,null,null,null,null,null,null,null,""]
[null,null,null,null,null,null,null,null,null,null,null,null,null,""]
[null,null,null,null,null,null,null,null,null,null,null,null,null,""]
[null,null,null,null,null,null,null,null,null,null,null,null,null,""]
[null,null,null,null,null,null,null,null,null,null,null,null,null,""]
[null,null,null,null,null,null,null,null,null,null,null,null,null,""]
[null,null,null,null,null,null,null,null,null,null,null,null,null,""]
[null,null,null,null,null,null,null,null,null,null,null,null,null,""]
[null,null,null,null,null,null,null,null,null,null,null,null,null,""]
[null,null,null,null,null,null,null,null,null,null,null,null,null,""]
[null,null,null,null,null,null,null,null,null,null,null,null,null,""]
[null,null,null,null,null,null,null,null,null,null,null,null,null,""]
[null,null,null,null,null,null,null,null,null,null,null,null,null,""]
[null,null,null,null,null,null,null,null,null,null,null,null,null,""]
[null,null,null,null,null,null,null,null,null,null,null,null,null,""]
[null,null,null,null,null,null,null,null,null,null,null,null,null,""]
[null,null,null,null,null,null,null,null,null,null,null,null,null,""]
[null,null,null,null,null,null,null,null,null,null,null,null,null,""]
[null,null,null,null,null,null,null,null,null,null,null,null,null,""]
[null,null,null,null,null,null,null,null,null,null,null,null,null,""]
[null,null,null,null,null,null,null,null,null,null,null,null,null,""]
[null,null,null,null,null,null,null,null,null,null,null,null,null,""]
[null,null,null,null,null,null,null,null,null,null,null,null,null,""]
[null,null,null,null,null,null,null,null,null,null,null,null,null,""]
[null,null,null,null,null,null,null,null,null,null,null,null,null,""]
[null,null,null,null,null,null,null,null,null,null,null,null,null,""]
[null,null,null,null,null,null,null,null,null,null,null,null,null,""]
[null,null,null,null,null,null,null,null,null,null,null,null,null,""]
[null,null,null,null,null,null,null,null,null,null,null,null,null,""]
[null,null,null,null,null,null,null,null,null,null,null,null,null,""]
[null,null,null,null,null,null,null,null,null,null,null,null,null,""]
[null,null,null,null,null,null,null,null,null,null,null,null,null,""]
[null,null,null,null,null,null,null,null,null,null,null,null,null,""]
[null,null,null,null,null,null,null,null,null,null,null,null,null,""]
[null,null,null,null,null,null,null,null,null,null,null,null,null,""]
[null,null,null,null,null,null,null,null,null,null,null,null,null,""]
[null,null,null,null,null,null,null,null,null,null,null,null,null,""]
[null,null,null,null,null,null,null,null,null,null,null,null,null,""]
[null,null,null,null,null,null,null,null,null,null,null,null,null,""]
[null,null,null,null,null,null,null,null,null,null,null,null,null,""]
[null,null,null,null,null,null,null,null,null,null,null,null,null,""]
[null,null,null,null,null,null,null,null,null,null,null,null,null,""]
[null,null,null,null,null,null,null,null,null,null,null,null,null,""]
[null,null,null,null,null,null,null,null,null,null,null,null,null,""]
[null,null,null,null,null,null,null,null,null,null,null,null,null,""]
[null,null,null,null,null,null,null,null,null,null,null,null,null,""]
[null,null,null,null,null,null,null,null,null,null,null,null,null,""]
[null,null,null,null,null,null,null,null,null,null,null,null,null,""]
[null,null,null,null,null,null,null,null,null,null,null,null,null,{"$f":"IF(AND(E1562>800,I1562=0),\"Anschaffungsmonat fehlt!\",\"\")","v":""}]
[null,null,null,null,null,null,null,null,null,null,null,null,null,""]
[null,null,null,null,null,null,null,null,null,null,null,null,null,""]
[null,null,null,null,null,null,null,null,null,null,null,null,null,""]
[null,null,null,null,null,null,null,null,null,null,null,null,null,""]
[null,null,null,null,null,null,null,null,null,null,null,null,null,""]
[null,null,null,null,null,null,null,null,null,null,null,null,null,""]
[null,null,null,null,null,null,null,null,null,null,null,null,null,""]
[null,null,null,null,null,null,null,null,null,null,null,null,null,""]
[null,null,null,null,null,null,null,null,null,null,null,null,null,""]
[null,null,null,null,null,null,null,null,null,null,null,null,null,""]
[null,null,null,null,null,null,null,null,null,null,null,null,null,""]
[null,null,null,null,null,null,null,null,null,null,null,null,null,""]
[null,null,null,null,null,null,null,null,null,null,null,null,null,""]
[null,null,null,null,null,null,null,null,null,null,null,null,null,""]
[null,null,null,null,null,null,null,null,null,null,null,null,null,""]
[null,null,null,null,null,null,null,null,null,null,null,null,null,""]
[null,null,null,null,null,null,null,null,null,null,null,null,null,""]
[null,null,null,null,null,null,null,null,null,null,null,null,null,""]
[null,null,null,null,null,null,null,null,null,null,null,null,null,""]
[null,null,null,null,null,null,null,null,null,null,null,null,null,""]
[null,null,null,null,null,null,null,null,null,null,null,null,null,""]
[null,null,null,null,null,null,null,null,null,null,null,null,null,""]
[null,null,null,null,null,null,null,null,null,null,null,null,null,""]
[null,null,null,null,null,null,null,null,null,null,null,null,null,""]
[null,null,null,null,null,null,null,null,null,null,null,null,null,""]
[null,null,null,null,null,null,null,null,null,null,null,null,null,""]
[null,null,null,null,null,null,null,null,null,null,null,null,null,""]
[null,null,null,null,null,null,null,null,null,null,null,null,null,""]
[null,null,null,null,null,null,null,null,null,null,null,null,null,""]
[null,null,null,null,null,null,null,null,null,null,null,null,null,""]
[null,null,null,null,null,null,null,null,null,null,null,null,null,""]
[null,null,null,null,null,null,null,null,null,null,null,null,null,""]
[null,null,null,null,null,null,null,null,null,null,null,null,null,""]
[null,null,null,null,null,null,null,null,null,null,null,null,null,""]
[null,null,null,null,null,null,null,null,null,null,null,null,null,""]
[null,null,null,null,null,null,null,null,null,null,null,null,null,""]
[null,null,null,null,null,null,null,null,null,null,null,null,null,""]
[null,null,null,null,null,null,null,null,null,null,null,null,null,""]
[null,null,null,null,null,null,null,null,null,null,null,null,null,""]
[null,null,null,null,null,null,null,null,null,null,null,null,null,""]
[null,null,null,null,null,null,null,null,null,null,null,null,null,""]
[null,null,null,null,null,null,null,null,null,null,null,null,null,""]
[null,null,null,null,null,null,null,null,null,null,null,null,null,""]
[null,null,null,null,null,null,null,null,null,null,null,null,null,""]
[null,null,null,null,null,null,null,null,null,null,null,null,null,""]
[null,null,null,null,null,null,null,null,null,null,null,null,null,""]
[null,null,null,null,null,null,null,null,null,null,null,null,null,""]
[null,null,null,null,null,null,null,null,null,null,null,null,null,""]
[null,null,null,null,null,null,null,null,null,null,null,null,null,""]
[]
[]
[]
[]
[]
[]
[]
[]
[]
[]
[]
[]
[]
[]
[]
[]
[]
[]
[]
[]
[]
[]
[]
[]
[]
[]
[]
[]
[]
[]
[]
[]
[]
[]
[]
[]
[]
[]
[]
[]
[]
[]
[]
[]
[]
[]
[]
[]
[]
[]
[]
[]
[]
[]
[]
[]
[]
[]
[]
[]
[]
[]
[]
[]
[]
[]
[]
[]
[]
[]
[]
[]
[]
[]
[]
[]
[]
[]
[]
[]
[]
[]
[]
[]
[]
[]
[]
[]
[]
[]
[]
[]
[]
[]
[]
[]
[]
[]
[]
[]
[]
[]
[]
[]
[]
[]
[]
[]
[]
[]
[]
[]
[]
[]
[]
[]
[]
[]
[]
[]
[]
[]
[]
[]
[]
[]
[]
[]
[]
[]
[]
[]
[]
[]
[]
[]
[]
[]
[]
[]
[]
[]
[]
[]
[]
[]
[]
[]
[]
[]
[]
[]
[]
[]
[]
[]
[]
[]
[]
[]
[]
[]
[]
[]
[]
[]
[]
[]
[]
[]
[]
[]
[]
[]
[]
[]
[]
[]
[]
[]
[]
[]
[]
[]
[]
[]
[]
[]
[]
[]
[]
[]
[]
[]
[]
[]
[]
[]
[]
[]
[]
[]
[]
[]
[]
[]
[]
[]
[]
[]
[]
[]
[]
[]
[]
[]
[]
[]
[]
[]
[]
[]
[]
[]
[]
[]
[]
[]
[]
[]
[]
[]
[]
[]
[]
[]
[]
[]
[]
[]
[]
[]
[]
[]
[]
[]
[]
[]
[]
[]
[]
[]
[]
[]
[]
[]
[]
[]
[]
[]
[]
[]
[]
[]
[]
[]
[]
[]
[]
[]
[]
[]
[]
[]
[]
[]
[]
[]
[]
[]
[]
[]
[]
[]
[]
[]
[]
[]
[]
[]
[]
[]
[]
[]
[]
[]
[]
[]
[]
[]
[]
[]
[]
[]
[]
[]
[]
[]
[]
[]
[]
[]
[]
[]
[]
[]
[]
[]
[]
[]
[]
[]
[]
[]
[]
[]
[]
[]
[]
[]
[]
[]
[]
[]
[]
[]
[]
[]
[]
[]
[]
[]
[]
[]
[]
[]
[]
[]
[]
[]
[]
[]
[]
[]
[]
[]
[]
[]
[]
[]
[]
[]
[]
[]
[]
[]
[]
[]
[]
[]
[]
[]
[]
[]
[]
[]
[]
[]
[]
[]
[]
[]
[]
[]
[]
[]
[]
[]
[]
[]
[]
[]
[]
[]
[]
[]
[]
[]
[]
[]
[]
[]
[]
[]
[]
[]
[]
[]
[]
[]
[]
[]
[]
[]
[]
[]
[]
[]
[]
[]
[]
[]
[]
[]
[]
[]
[]
[]
[]
[]
[]
[]
[]
[]
[]
[]
[]
[]
[]
[]
[]
[]
[]
[]
[null,null,null,"Schreiben"]
[null,null,null,"Fax"]
[null,null,null,"E-Mail"]
[null,null,null,"Sonstiges"]

{"sheet":"Beispiel","index":4,"n_rows":30,"n_cols":6,"rows_kept":30,"cut":false,"hidden":false,"merged":[]}
[]
[null,"Degressive Abschreibung"]
[]
[null,"Anschaffungskosten eines GWG",999,null,999]
[]
[null,"Betriebsgewöhnliche Nutzungsdauer in Jahren",13,null,8]
[]
[null,"Linearer Abschreibungssatz",{"$f":"100/C6/100","v":7.6923076923076927E-2},null,{"$f":"100/E6/100","v":0.125}]
[]
[null,"Linearer Abschreibungsbetrag, jährlich",{"$f":"C4/C6","v":76.84615384615384},null,{"$f":"E4/E6","v":124.875}]
[]
[null,"Errechneter Degressiver AfA-Satz",{"$f":"C8*2.5","v":0.19230769230769232},null,{"$f":"E8*2.5","v":0.3125}]
[]
[null,"Höchstmöglicher AfA-Satz (Obergrenze)",null,null,0.25]
[]
[null,"Degressiver AfA-Satz",{"$f":"C12","v":0.19230769230769232},null,{"$f":"E14","v":0.25}]
[]
[null,null,"Abschreibung","Restwert","Abschreibung","Restwert"]
[]
[null,"1. Jahr",{"$f":"C4*C12","v":192.11538461538461},{"$f":"C4-C20","v":806.88461538461536},{"$f":"E4*E16","v":249.75},{"$f":"E4-E20","v":749.25}]
[]
[null,"2. Jahr",{"$f":"D20*$C$16","v":155.17011834319527},{"$f":"D20-C22","v":651.71449704142015},{"$f":"$E$16*F20","v":187.3125},{"$f":"+F20-E22","v":561.9375}]
[]
[null,"3. Jahr",{"$f":"D22*$C$16","v":125.32971096950388},{"$f":"D22-C24","v":526.38478607191632},{"$f":"$E$16*F22","v":140.484375},{"$f":"+F22-E24","v":421.453125}]
[]
[null,"4. Jahr",{"$f":"D24*$C$16","v":101.22784347536853},{"$f":"D24-C26","v":425.15694259654776},105.36328125,316.08984375]
[]
[null,"5. Jahr",{"$f":"D26*$C$16","v":81.760950499336118},{"$f":"D26-C28","v":343.39599209721166},79.0224609375,237.0673828125]
[]
[null,"…"]

{"sheet":"Tabvorlage","index":5,"n_rows":6,"n_cols":10,"rows_kept":6,"cut":false,"hidden":true,"merged":[[0,2,2,10]]}
[null,null,{"$f":"Startseite!B1","v":"Geringwertige Wirtschaftsgüter"}]
[]
[]
[]
[]
[null,null,null,"Untertitel",null,null,null,null,null,"» Startseite"]

{"sheet":"VERLAUF","index":6,"n_rows":2,"n_cols":1,"rows_kept":2,"cut":false,"hidden":true,"merged":[]}
["Startseite"]
["Lineare Abschreibung"]

{"sheet":"Tabelle1","index":7,"n_rows":6,"n_cols":5,"rows_kept":6,"cut":false,"hidden":true,"merged":[]}
[false,"Kopfzeile",false,false,false]
[false,"Bitte wählen",false,false,false]
[false,"Bitte wählen",false,false,false]
[false,"Bitte wählen",false,false,false]
[false,"Bitte wählen",false,false,false]
[false,"Bitte wählen",false,false,false]

{"sheet":"ICONS","index":8,"n_rows":0,"n_cols":0,"rows_kept":0,"cut":false,"hidden":true,"merged":[]}